{"text_format":"2","workbook":"xlsx","n_sheets":12,"sheets":["Covers","Contents","Dates1","Datapack","Table 1","Table 2","Table 3","Table 4","Table 5","Table 6","Chart 1","Chart 2"],"not_rendered":{"charts":2,"images":1,"macros":0,"external_links":1,"defined_names":8,"comments":0,"pivot_tables":0},"unopened":[],"bounds":{"document_bytes":16777216,"sheet_cells":100000,"run_cost":"one","rows_first":2000,"rows_last":500,"rows_between":2000,"halvings":0,"cell_chars":16384,"cell_head_chars":4096},"cells_cut":0,"cells_raw":0,"read":"whole","date_system":"1900"}

{"sheet":"Covers","index":0,"n_rows":33,"n_cols":3,"rows_kept":33,"cut":false,"hidden":false,"merged":[[5,1,5,2],[12,1,15,1],[12,2,15,2],[27,1,27,2]]}
[]
[]
[]
[]
[]
[null,"Official Statistics Release"]
[null,"Policy area:","Children's centres inspections and outcomes"]
[null,"Theme:","Education, children’s services and skills"]
[null,"Published on:","27 November 2012"]
[null,"Coverage:","England"]
[null,"Period covered:","1 April 2010 to 31 August 2012"]
[null,"Status:","Final - Annual Report Academic Year"]
[null,"Issued by:","Office for Standards in Education, Children's Services and Skills (Ofsted)\nAviation House\n125 Kingsway\nLondon\nWC2B 6SE"]
[]
[]
[]
[null,"Responsible director:","Susan Gregory"]
[null,"Responsible statistician:","Louise Butler"]
[null,"Public enquiries:","enquiries@ofsted.gov.uk"]
[null,"Press enquiries:","pressenquiries@ofsted.gov.uk"]
[null,"Link to official statistics release web page:","http://www.ofsted.gov.uk/resources/official-statistics-childrens-centres-inspections-and-outcomes"]
[null,"Publication medium:","Ofsted website"]
[null,"Publication frequency:","Quarterly"]
[]
[]
[null,"© Crown copyright"]
[]
[null,"You may use and re-use this information (not including logos) free of charge in any format or medium, under the terms of the Open Government Licence. "]
[null,"To view this licence, visit:"]
[null,"http://www.nationalarchives.gov.uk/doc/open-government-licence/"]
[null,"Or write to the Information Policy Team, The National Archives, Kew, London, TW9 4DU"]
[null,"Or email:"]
[null,"psi@nationalarchives.gsi.gov.uk"]

{"sheet":"Contents","index":1,"n_rows":24,"n_cols":2,"rows_kept":24,"cut":false,"hidden":false,"merged":[[19,1,19,6],[11,1,11,13],[9,1,9,21],[5,1,5,17],[7,1,7,17],[17,1,17,20],[27,1,27,21],[21,1,21,21],[23,1,23,21],[25,1,25,21],[13,1,13,8]]}
[]
[null,"Contents"]
[]
[null,"National level"]
[]
[null,"Table 1: Number of children's centres inspected between 1 April 2010 and 31 August 2012"]
[]
[null,"Table 2: Inspection outcomes of children's centres inspected between 1 September 2011 and 31 August 2012 "]
[]
[null,"Table 3: Most recent inspection outcomes of children's centres as at 31 August 2012"]
[]
[null,"Table 4:Overall effectiveness of children's centres inspected over two inspection years"]
[]
[null,"Local authority level"]
[]
[null,"Table 5: Overall effectiveness of children's centres inspected between 1 September 2011 and 31 August 2012, by local authority"]
[]
[null,"Table 6: Overall effectiveness of children's centres inspected as at 31 August 2012, by local authority"]
[]
[null,"Charts"]
[]
[null,"Chart 1: Key judgements of children's centres inspected between 1 September 2011 and 31 August 2012"]
[]
[null,"Chart 2: Overall effectiveness of children's centres inspected over two inspection years"]

{"sheet":"Dates1","index":2,"n_rows":11,"n_cols":2,"rows_kept":11,"cut":false,"hidden":true,"merged":[]}
[]
[]
[null,"1 September 2011 and 31 August 2012"]
{"$rows_empty":7}
[null,"1 September 2011 and 31 August 2012"]

{"sheet":"Datapack","index":3,"n_rows":384,"n_cols":12,"rows_kept":384,"cut":false,"hidden":true,"merged":[]}
[]
["Table 2","September 2011 - August 2012"]
["Judgement","Outstanding","Good","Satisfactory","Inadequate","Total"]
["Overall effectiveness",86,378,226,18,708]
["Capacity for sustained improvement",103,369,220,16,708]
["Outcomes for users",82,390,219,17,708]
["Being healthy",77,374,249,8,708]
["Safe and protected",175,416,109,8,708]
["Enjoy and achieve",92,407,204,5,708]
["Engaging in positive behaviour",105,356,231,16,708]
["Skills for future",64,311,318,15,708]
["Quality of provision",109,387,198,14,708]
["Assessment",1,0,0,0,1]
["Services meet the needs of users (NEW)",96,375,218,18,707]
["Learning development and enjoyment",99,395,206,8,708]
["Meets the needs",0,1,0,0,1]
["Care, guidance and support",227,373,100,8,708]
["Leadership and management",94,378,219,17,708]
["Governance accountability",90,361,240,17,708]
["Evaluation to drive improvement (NEW)",97,325,267,18,707]
["Ambitious targets (OLD)",0,1,0,0,1]
["Resources used and managed",119,350,222,17,708]
["Equality and Diversity",99,383,212,14,708]
["Policy procedures and work",200,404,97,7,708]
["Evaluation ",0,1,0,0,1]
["Partnerships with others",162,362,174,10,708]
["Supports and encourages",100,350,246,12,708]
[]
[]
["Table 5","September 2011 - August 2012"]
["Local authority","Total","Outstanding","Good","Satisfactory","Inadequate"]
["Barking and Dagenham",3,3,0,0,0]
["Barnet",2,0,2,0,0]
["Barnsley",1,0,0,1,0]
["Bath and North East Somerset",2,0,2,0,0]
["Bedford",4,1,2,1,0]
["Bexley",1,0,1,0,0]
["Birmingham",23,4,9,9,1]
["Blackburn with Darwen",4,0,4,0,0]
["Blackpool",3,2,1,0,0]
["Bolton",4,0,1,3,0]
["Bournemouth",0,0,0,0,0]
["Bracknell Forest",1,0,0,1,0]
["Bradford",8,1,6,0,1]
["Brent",1,0,1,0,0]
["Brighton and Hove",5,3,2,0,0]
["Bristol City of",10,4,5,1,0]
["Bromley",2,0,1,1,0]
["Buckinghamshire",7,0,1,4,2]
["Bury",3,0,0,3,0]
["Calderdale",3,0,0,3,0]
["Cambridgeshire",10,0,2,8,0]
["Camden",2,0,2,0,0]
["Central Bedfordshire",1,0,1,0,0]
["Cheshire East",2,0,1,1,0]
["Cheshire West and Chester",2,0,1,1,0]
["City of London",0,0,0,0,0]
["Cornwall",3,0,1,2,0]
["Coventry",4,1,2,1,0]
["Croydon",6,1,4,1,0]
["Cumbria",8,2,6,0,0]
["Darlington",1,0,1,0,0]
["Derby",4,0,2,2,0]
["Derbyshire",13,0,9,3,1]
["Devon",11,0,6,5,0]
["Doncaster",7,0,3,3,1]
["Dorset",5,0,1,4,0]
["Dudley",5,0,4,1,0]
["Durham",8,0,2,4,2]
["Ealing",7,0,5,2,0]
["East Riding of Yorkshire",2,0,2,0,0]
["East Sussex",10,1,8,1,0]
["Enfield",5,0,4,1,0]
["Essex",12,1,6,5,0]
["Gateshead",2,0,1,1,0]
["Gloucestershire",11,0,6,5,0]
["Greenwich",5,0,5,0,0]
["Hackney",3,0,2,1,0]
["Halton",3,0,3,0,0]
["Hammersmith and Fulham",0,0,0,0,0]
["Hampshire",7,2,4,1,0]
["Haringey",3,0,2,1,0]
["Harrow",1,0,1,0,0]
["Hartlepool",2,0,2,0,0]
["Havering",2,0,2,0,0]
["Herefordshire",2,0,2,0,0]
["Hertfordshire",8,0,6,2,0]
["Hillingdon",4,0,2,1,1]
["Hounslow",0,0,0,0,0]
["Isle of Wight",4,2,2,0,0]
["Isles of Scilly",0,0,0,0,0]
["Islington",7,0,7,0,0]
["Kensington and Chelsea",1,0,1,0,0]
["Kent",22,5,14,3,0]
["Kingston upon Hull City of",4,0,1,3,0]
["Kingston upon Thames",2,0,1,1,0]
["Kirklees",8,1,7,0,0]
["Knowsley",2,0,2,0,0]
["Lambeth",10,6,4,0,0]
["Lancashire",20,7,10,3,0]
["Leeds",10,0,9,1,0]
["Leicester",4,0,1,3,0]
["Leicestershire",8,0,1,7,0]
["Lewisham",3,0,2,1,0]
["Lincolnshire",14,2,9,3,0]
["Liverpool",8,2,6,0,0]
["Luton",7,1,2,4,0]
["Manchester",8,0,2,6,0]
["Medway",5,0,3,2,0]
["Merton",1,0,1,0,0]
["Middlesbrough",1,0,1,0,0]
["Milton Keynes",3,0,1,2,0]
["Newcastle Upon Tyne",7,1,6,0,0]
["Newham",5,1,4,0,0]
["Norfolk",11,1,6,4,0]
["North East Lincolnshire",3,2,1,0,0]
["North Lincolnshire",5,0,5,0,0]
["North Somerset",3,0,2,1,0]
["North Tyneside",3,2,1,0,0]
["North Yorkshire",9,0,2,7,0]
["Northamptonshire",10,0,4,5,1]
["Northumberland",4,1,3,0,0]
["Nottingham",3,0,0,3,0]
["Nottinghamshire",8,1,6,1,0]
["Oldham",2,0,2,0,0]
["Oxfordshire",9,0,7,2,0]
["Peterborough",0,0,0,0,0]
["Plymouth",3,0,1,0,2]
["Poole",0,0,0,0,0]
["Portsmouth",2,0,1,1,0]
["Reading",4,0,4,0,0]
["Redbridge",1,0,0,1,0]
["Redcar and Cleveland",1,0,1,0,0]
["Richmond upon Thames",1,0,1,0,0]
["Rochdale",4,0,0,4,0]
["Rotherham",4,0,4,0,0]
["Rutland",0,0,0,0,0]
["Salford",2,0,1,1,0]
["Sandwell",8,5,2,1,0]
["Sefton",2,0,2,0,0]
["Sheffield",9,0,3,5,1]
["Shropshire",3,0,3,0,0]
["Slough",1,0,1,0,0]
["Solihull",2,0,2,0,0]
["Somerset",11,0,4,6,1]
["South Gloucestershire",3,0,0,3,0]
["South Tyneside",4,0,3,1,0]
["Southampton",3,2,1,0,0]
["Southend-on-Sea",3,2,0,0,1]
["Southwark",4,0,2,2,0]
["St. Helens",4,0,0,4,0]
["Staffordshire",10,0,3,7,0]
["Stockport",2,0,1,1,0]
["Stockton-on-Tees",0,0,0,0,0]
["Stoke-on-Trent",1,1,0,0,0]
["Suffolk",10,1,6,3,0]
["Sunderland",3,0,3,0,0]
["Surrey",8,0,3,5,0]
["Sutton",2,0,1,1,0]
["Swindon",3,1,2,0,0]
["Tameside",5,0,0,5,0]
["Telford and Wrekin",1,0,0,1,0]
["Thurrock",5,0,1,3,1]
["Torbay",0,0,0,0,0]
["Tower Hamlets",0,0,0,0,0]
["Trafford",3,0,1,2,0]
["Wakefield",4,0,4,0,0]
["Walsall",6,1,2,2,1]
["Waltham Forest",3,1,1,0,1]
["Wandsworth",4,0,3,1,0]
["Warrington",1,0,1,0,0]
["Warwickshire",9,3,5,1,0]
["West Berkshire",2,0,0,2,0]
["West Sussex",8,1,3,4,0]
["Westminster",3,0,2,1,0]
["Wigan",4,0,1,3,0]
["Wiltshire",9,3,1,5,0]
["Windsor and Maidenhead",1,0,0,1,0]
["Wirral",6,0,4,2,0]
["Wokingham",0,0,0,0,0]
["Wolverhampton",4,1,3,0,0]
["Worcestershire",9,3,5,1,0]
["York",1,0,1,0,0]
[null,{"$f":"SUM(B32:B183)","v":708},{"$f":"SUM(C32:C183)","v":86},{"$f":"SUM(D32:D183)","v":378},{"$f":"SUM(E32:E183)","v":226},{"$f":"SUM(F32:F183)","v":18}]
["Chart 1"]
[]
[null,"Outstanding","Good","Satisfactory","Inadequate",null,null,"Outstanding","Good","Satisfactory","Inadequate"]
["Overall effectiveness (708)",{"$f":"SUM(H188/L188*100)","v":12.146892655367232},{"$f":"SUM(I188/L188*100)","v":53.389830508474581},{"$f":"SUM(J188/L188*100)","v":31.92090395480226},{"$f":"SUM(K188/L188*100)","v":2.5423728813559325},{"$f":"SUM(B188:E188)","v":100},"Overall effectiveness (708)",{"$f":"B4","v":86},{"$f":"C4","v":378},{"$f":"D4","v":226},{"$f":"E4","v":18},{"$f":"SUM(H188:K188)","v":708}]
["How good are outcomes for users? (708)",{"$f":"SUM(H189/L189*100)","v":11.581920903954803},{"$f":"SUM(I189/L189*100)","v":55.084745762711862},{"$f":"SUM(J189/L189*100)","v":30.932203389830509},{"$f":"SUM(K189/L189*100)","v":2.4011299435028248},{"$f":"SUM(B189:E189)","v":99.999999999999986},"How good are outcomes for users? (708)",{"$f":"B6","v":82},{"$f":"C6","v":390},{"$f":"D6","v":219},{"$f":"E6","v":17},{"$f":"SUM(H189:K189)","v":708}]
["How good is the provision? (708)",{"$f":"SUM(H190/L190*100)","v":15.395480225988701},{"$f":"SUM(I190/L190*100)","v":54.66101694915254},{"$f":"SUM(J190/L190*100)","v":27.966101694915253},{"$f":"SUM(K190/L190*100)","v":1.977401129943503},{"$f":"SUM(B190:E190)","v":100},"How good is the provision? (708)",{"$f":"B12","v":109},{"$f":"C12","v":387},{"$f":"D12","v":198},{"$f":"E12","v":14},{"$f":"SUM(H190:K190)","v":708}]
["How effective are the leadership and management? (708)",{"$f":"SUM(H191/L191*100)","v":13.27683615819209},{"$f":"SUM(I191/L191*100)","v":53.389830508474581},{"$f":"SUM(J191/L191*100)","v":30.932203389830509},{"$f":"SUM(K191/L191*100)","v":2.4011299435028248},{"$f":"SUM(B191:E191)","v":100},"How effective are the leadership and management? (708)",{"$f":"B18","v":94},{"$f":"C18","v":378},{"$f":"D18","v":219},{"$f":"E18","v":17},{"$f":"SUM(H191:K191)","v":708}]
[]
[]
["Chart 2"]
[null,"Outstanding","Good","Satisfactory","Inadequate","Total"]
["1 September 2011 - 31 August 2012",86,378,226,18,708]
["1 September 2010 - 31 August 2011",99,419,180,12,{"$f":"SUM(B197:E197)","v":710}]
[]
[]
[]
[null,"Outstanding","Good","Satisfactory","Inadequate","Total"]
["1 September 2011 - 31 August 2012 (708)",{"$f":"B196/F196*100","v":12.146892655367232},{"$f":"C196/F196*100","v":53.389830508474581},{"$f":"D196/F196*100","v":31.92090395480226},{"$f":"E196/F196*100","v":2.5423728813559325},{"$f":"SUM(B202:E202)","v":100}]
["1 September 2010 - 31 August 2011 (710)",{"$f":"B197/F197*100","v":13.943661971830986},{"$f":"C197/F197*100","v":59.014084507042256},{"$f":"D197/F197*100","v":25.352112676056336},{"$f":"E197/F197*100","v":1.6901408450704223},{"$f":"SUM(B203:E203)","v":100}]
{"$rows_empty":8}
["Table 5 (vlookup)"]
[]
["Local Authority","September 2011 - August 2012"]
["North East","Total inspected","Outstanding","Good","Satisfactory","Inadequate"]
["Darlington",{"$f":"VLOOKUP(A216,$A$31:$F$183,2,0)","v":1},{"$f":"VLOOKUP(A216,$A$31:$F$183,3,0)","v":0},{"$f":"VLOOKUP(A216,$A$31:$F$183,4,0)","v":1},{"$f":"VLOOKUP(A216,$A$31:$F$183,5,0)","v":0},{"$f":"VLOOKUP(A216,$A$31:$F$183,6,0)","v":0}]
["Durham",{"$f":"VLOOKUP(A217,$A$31:$F$183,2,0)","v":8},0,2,4,2]
["Gateshead",2,0,1,1,0]
["Hartlepool",2,0,2,0,0]
["Middlesbrough",1,0,1,0,0]
["Newcastle upon Tyne",7,1,6,0,0]
["North Tyneside",3,2,1,0,0]
["Northumberland",4,1,3,0,0]
["Redcar and Cleveland",1,0,1,0,0]
["South Tyneside",4,0,3,1,0]
["Stockton-on-Tees",0,0,0,0,0]
["Sunderland",3,0,3,0,0]
[]
[]
["Blackburn with Darwen",{"$f":"VLOOKUP(A230,$A$31:$F$183,2,0)","v":4},{"$f":"VLOOKUP(A230,$A$31:$F$183,3,0)","v":0},{"$f":"VLOOKUP(A230,$A$31:$F$183,4,0)","v":4},{"$f":"VLOOKUP(A230,$A$31:$F$183,5,0)","v":0},{"$f":"VLOOKUP(A230,$A$31:$F$183,6,0)","v":0}]
["Blackpool",3,2,1,0,0]
["Bolton",4,0,1,3,0]
["Bury",3,0,0,3,0]
["Cheshire East",2,0,1,1,0]
["Cheshire West and Chester",2,0,1,1,0]
["Cumbria",8,2,6,0,0]
["Halton",3,0,3,0,0]
["Knowsley",2,0,2,0,0]
["Lancashire",20,7,10,3,0]
["Liverpool",8,2,6,0,0]
["Manchester",8,0,2,6,0]
["Oldham",2,0,2,0,0]
["Rochdale",4,0,0,4,0]
["Salford",2,0,1,1,0]
["Sefton",2,0,2,0,0]
["St. Helens",4,0,0,4,0]
["Stockport",2,0,1,1,0]
["Tameside",5,0,0,5,0]
["Trafford",3,0,1,2,0]
["Warrington",1,0,1,0,0]
["Wigan",4,0,1,3,0]
["Wirral",6,0,4,2,0]
[]
[]
["Barnsley",{"$f":"VLOOKUP(A255,$A$31:$F$183,2,0)","v":1},{"$f":"VLOOKUP(A255,$A$31:$F$183,3,0)","v":0},{"$f":"VLOOKUP(A255,$A$31:$F$183,4,0)","v":0},{"$f":"VLOOKUP(A255,$A$31:$F$183,5,0)","v":1},{"$f":"VLOOKUP(A255,$A$31:$F$183,6,0)","v":0}]
["Bradford",8,1,6,0,1]
["Calderdale",3,0,0,3,0]
["Doncaster",7,0,3,3,1]
["East Riding of Yorkshire",2,0,2,0,0]
["Kingston upon Hull City of",4,0,1,3,0]
["Kirklees",8,1,7,0,0]
["Leeds",10,0,9,1,0]
["North East Lincolnshire",3,2,1,0,0]
["North Lincolnshire",5,0,5,0,0]
["North Yorkshire",9,0,2,7,0]
["Rotherham",4,0,4,0,0]
["Sheffield",9,0,3,5,1]
["Wakefield",4,0,4,0,0]
["York",1,0,1,0,0]
[]
[]
["Derby",{"$f":"VLOOKUP(A272,$A$31:$F$183,2,0)","v":4},{"$f":"VLOOKUP(A272,$A$31:$F$183,3,0)","v":0},{"$f":"VLOOKUP(A272,$A$31:$F$183,4,0)","v":2},{"$f":"VLOOKUP(A272,$A$31:$F$183,5,0)","v":2},{"$f":"VLOOKUP(A272,$A$31:$F$183,6,0)","v":0}]
["Derbyshire",13,0,9,3,1]
["Leicester",4,0,1,3,0]
["Leicestershire",8,0,1,7,0]
["Lincolnshire",14,2,9,3,0]
["Northamptonshire",10,0,4,5,1]
["Nottingham",3,0,0,3,0]
["Nottinghamshire",8,1,6,1,0]
["Rutland",0,0,0,0,0]
[]
[]
["Birmingham",{"$f":"VLOOKUP(A283,$A$31:$F$183,2,0)","v":23},{"$f":"VLOOKUP(A283,$A$31:$F$183,3,0)","v":4},{"$f":"VLOOKUP(A283,$A$31:$F$183,4,0)","v":9},{"$f":"VLOOKUP(A283,$A$31:$F$183,5,0)","v":9},{"$f":"VLOOKUP(A283,$A$31:$F$183,6,0)","v":1}]
["Coventry",4,1,2,1,0]
["Dudley",5,0,4,1,0]
["Herefordshire",2,0,2,0,0]
["Sandwell",8,5,2,1,0]
["Shropshire",3,0,3,0,0]
["Solihull",2,0,2,0,0]
["Staffordshire",10,0,3,7,0]
["Stoke-on-Trent",1,1,0,0,0]
["Telford and Wrekin",1,0,0,1,0]
["Walsall",6,1,2,2,1]
["Warwickshire",9,3,5,1,0]
["Wolverhampton",4,1,3,0,0]
["Worcestershire",9,3,5,1,0]
[]
[]
["Bedford",{"$f":"VLOOKUP(A299,$A$31:$F$183,2,0)","v":4},{"$f":"VLOOKUP(A299,$A$31:$F$183,3,0)","v":1},{"$f":"VLOOKUP(A299,$A$31:$F$183,4,0)","v":2},{"$f":"VLOOKUP(A299,$A$31:$F$183,5,0)","v":1},{"$f":"VLOOKUP(A299,$A$31:$F$183,6,0)","v":0}]
["Cambridgeshire",10,0,2,8,0]
["Central Bedfordshire",1,0,1,0,0]
["Essex",12,1,6,5,0]
["Hertfordshire",8,0,6,2,0]
["Luton",7,1,2,4,0]
["Norfolk",11,1,6,4,0]
["Peterborough",0,0,0,0,0]
["Southend-on-Sea",3,2,0,0,1]
["Suffolk",10,1,6,3,0]
["Thurrock",5,0,1,3,1]
[]
[]
["Barking and Dagenham",{"$f":"VLOOKUP(A312,$A$31:$F$183,2,0)","v":3},{"$f":"VLOOKUP(A312,$A$31:$F$183,3,0)","v":3},{"$f":"VLOOKUP(A312,$A$31:$F$183,4,0)","v":0},{"$f":"VLOOKUP(A312,$A$31:$F$183,5,0)","v":0},{"$f":"VLOOKUP(A312,$A$31:$F$183,6,0)","v":0}]
["Barnet",2,0,2,0,0]
["Bexley",1,0,1,0,0]
["Brent",1,0,1,0,0]
["Bromley",2,0,1,1,0]
["Camden",2,0,2,0,0]
["City of London",0,0,0,0,0]
["Croydon",6,1,4,1,0]
["Ealing",7,0,5,2,0]
["Enfield",5,0,4,1,0]
["Greenwich",5,0,5,0,0]
["Hackney",3,0,2,1,0]
["Hammersmith and Fulham",0,0,0,0,0]
["Haringey",3,0,2,1,0]
["Harrow",1,0,1,0,0]
["Havering",2,0,2,0,0]
["Hillingdon",4,0,2,1,1]
["Hounslow",0,0,0,0,0]
["Islington",7,0,7,0,0]
["Kensington and Chelsea",1,0,1,0,0]
["Kingston upon Thames",2,0,1,1,0]
["Lambeth",10,6,4,0,0]
["Lewisham",3,0,2,1,0]
["Merton",1,0,1,0,0]
["Newham",5,1,4,0,0]
["Redbridge",1,0,0,1,0]
["Richmond upon Thames",1,0,1,0,0]
["Southwark",4,0,2,2,0]
["Sutton",2,0,1,1,0]
["Tower Hamlets",0,0,0,0,0]
["Waltham Forest",3,1,1,0,1]
["Wandsworth",4,0,3,1,0]
["Westminster",3,0,2,1,0]
[]
[]
["Bracknell Forest",{"$f":"VLOOKUP(A347,$A$31:$F$183,2,0)","v":1},{"$f":"VLOOKUP(A347,$A$31:$F$183,3,0)","v":0},{"$f":"VLOOKUP(A347,$A$31:$F$183,4,0)","v":0},{"$f":"VLOOKUP(A347,$A$31:$F$183,5,0)","v":1},{"$f":"VLOOKUP(A347,$A$31:$F$183,6,0)","v":0}]
["Brighton and Hove",5,3,2,0,0]
["Buckinghamshire",7,0,1,4,2]
["East Sussex",10,1,8,1,0]
["Hampshire",7,2,4,1,0]
["Isle of Wight",4,2,2,0,0]
["Kent",22,5,14,3,0]
["Medway",5,0,3,2,0]
["Milton Keynes",3,0,1,2,0]
["Oxfordshire",9,0,7,2,0]
["Portsmouth",2,0,1,1,0]
["Reading",4,0,4,0,0]
["Slough",1,0,1,0,0]
["Southampton",3,2,1,0,0]
["Surrey",8,0,3,5,0]
["West Berkshire",2,0,0,2,0]
["West Sussex",8,1,3,4,0]
["Windsor and Maidenhead",1,0,0,1,0]
["Wokingham",0,0,0,0,0]
[]
[]
["Bath and North East Somerset",{"$f":"VLOOKUP(A368,$A$31:$F$183,2,0)","v":2},{"$f":"VLOOKUP(A368,$A$31:$F$183,3,0)","v":0},{"$f":"VLOOKUP(A368,$A$31:$F$183,4,0)","v":2},{"$f":"VLOOKUP(A368,$A$31:$F$183,5,0)","v":0},{"$f":"VLOOKUP(A368,$A$31:$F$183,6,0)","v":0}]
["Bournemouth",0,0,0,0,0]
["Bristol City of",10,4,5,1,0]
["Cornwall",3,0,1,2,0]
["Devon",11,0,6,5,0]
["Dorset",5,0,1,4,0]
["Gloucestershire",11,0,6,5,0]
["Isles Of Scilly",0,0,0,0,0]
["North Somerset",3,0,2,1,0]
["Plymouth",3,0,1,0,2]
["Poole",0,0,0,0,0]
["Somerset",11,0,4,6,1]
["South Gloucestershire",3,0,0,3,0]
["Swindon",3,1,2,0,0]
["Torbay",0,0,0,0,0]
["Wiltshire",9,3,1,5,0]
[null,{"$f":"SUM(B216:B383)","v":708},{"$f":"SUM(C216:C383)","v":86},{"$f":"SUM(D216:D383)","v":378},{"$f":"SUM(E216:E383)","v":226},{"$f":"SUM(F216:F383)","v":18}]

{"sheet":"Table 1","index":4,"n_rows":14,"n_cols":3,"rows_kept":14,"cut":false,"hidden":false,"merged":[[1,1,1,10]]}
[]
[null,"Table 1: Number of children's centres inspected between 1 April 2010 and 31 August 2012"]
[]
[]
[null,null,"Full inspections"]
[]
[null,"All inspections since April 20101",1457]
[]
[null,"1 September 2011 - 31 August 2012",708]
[]
[null,null,"Source: Ofsted Inspections"]
[]
[]
["1 These are all inspections since April 2010, including 14 re-inspections"]

{"sheet":"Table 2","index":5,"n_rows":35,"n_cols":21,"rows_kept":35,"cut":false,"hidden":false,"merged":[[1,1,1,20],[3,8,3,13],[5,19,5,20],[5,10,5,11],[5,8,6,8],[5,16,5,17],[3,5,3,6],[5,13,5,14],[9,1,9,6],[10,1,10,6],[26,1,26,6],[28,1,28,6],[23,1,23,6],[21,1,21,6],[18,1,18,6],[24,1,24,6],[31,1,31,6],[27,1,27,6],[11,1,11,6],[22,1,22,6],[30,1,30,6],[17,1,17,6],[20,1,20,6],[25,1,25,6],[29,1,29,6],[35,1,36,20],[13,1,13,6],[15,1,15,6],[14,1,14,6],[8,1,8,6],[19,1,19,6],[32,17,32,20],[12,1,12,6],[16,1,16,6],[34,1,34,20]]}
[]
[null,{"$f":"\"Table 2: Inspection outcomes of children's centres inspected \" & IF('Table 2'!I4=Dates1!$B$3, \"between \" & Dates1!$B$3, IF('Table 2'!I4 = Dates1!B4, \"in \" & Dates1!B4, IF('Table 2'!I4=Dates1!B5, \"in \" & Dates1!B5, IF('Table 2'!I4=Dates1!B6, \"in \" & Dates1!B6))))  & \"\" & CHAR(185)","v":"Table 2: Inspection outcomes of children's centres inspected between 1 September 2011 and 31 August 2012¹"}]
[]
[{"$nulls":8},"1 September 2011 and 31 August 2012"]
[]
[{"$nulls":8},"Total number inspected",null,"Outstanding",null,null,"Good",null,null,"Satisfactory",null,null,"Inadequate"]
[{"$nulls":10},"Number","%",null,"Number","%",null,"Number","%",null,"Number","%"]
[]
[null,"The effectiveness of the children’s centre in meeting the needs of and improving outcomes for families",{"$nulls":6},{"$f":"IF($I4=\"Select a quarter that matches the period from the box, right.\",\"-\",K9+N9+Q9+T9)","v":708},null,{"$f":"IF($I$4=Dates1!$B$3,Datapack!B4,IF($I$4=Dates1!$B$4,Datapack!H4,IF($I$4=Dates1!$B$5,Datapack!N4,IF($I$4=Dates1!$B$6,Datapack!T4))))","v":86},{"$f":"K9/$I9*100","v":12.146892655367232},null,{"$f":"IF($I$4=Dates1!$B$3,Datapack!C4,IF($I$4=Dates1!$B$4,Datapack!I4,IF($I$4=Dates1!$B$5,Datapack!O4,IF($I$4=Dates1!$B$6,Datapack!U4))))","v":378},{"$f":"N9/$I9*100","v":53.389830508474581},null,{"$f":"IF($I$4=Dates1!$B$3,Datapack!D4,IF($I$4=Dates1!$B$4,Datapack!J4,IF($I$4=Dates1!$B$5,Datapack!P4,IF($I$4=Dates1!$B$6,Datapack!V4))))","v":226},{"$f":"Q9/$I9*100","v":31.92090395480226},null,{"$f":"IF($I$4=Dates1!$B$3,Datapack!E4,IF($I$4=Dates1!$B$4,Datapack!K4,IF($I$4=Dates1!$B$5,Datapack!Q4,IF($I$4=Dates1!$B$6,Datapack!W4))))","v":18},{"$f":"T9/$I9*100","v":2.5423728813559325}]
[null,"The centre’s capacity for sustained improvement, including the quality of its leadership and management",{"$nulls":6},{"$f":"IF($I5=\"Select a quarter that matches the period from the box, right.\",\"-\",K10+N10+Q10+T10)","v":708},null,{"$f":"IF($I$4=Dates1!$B$3,Datapack!B5,IF($I$4=Dates1!$B$4,Datapack!H5,IF($I$4=Dates1!$B$5,Datapack!N5,IF($I$4=Dates1!$B$6,Datapack!T5))))","v":103},{"$f":"K10/$I10*100","v":14.548022598870055},null,{"$f":"IF($I$4=Dates1!$B$3,Datapack!C5,IF($I$4=Dates1!$B$4,Datapack!I5,IF($I$4=Dates1!$B$5,Datapack!O5,IF($I$4=Dates1!$B$6,Datapack!U5))))","v":369},{"$f":"N10/$I10*100","v":52.118644067796616},null,{"$f":"IF($I$4=Dates1!$B$3,Datapack!D5,IF($I$4=Dates1!$B$4,Datapack!J5,IF($I$4=Dates1!$B$5,Datapack!P5,IF($I$4=Dates1!$B$6,Datapack!V5))))","v":220},{"$f":"Q10/$I10*100","v":31.073446327683619},null,{"$f":"IF($I$4=Dates1!$B$3,Datapack!E5,IF($I$4=Dates1!$B$4,Datapack!K5,IF($I$4=Dates1!$B$5,Datapack!Q5,IF($I$4=Dates1!$B$6,Datapack!W5))))","v":16},{"$f":"T10/$I10*100","v":2.2598870056497176}]
[null,"How good are outcomes for families?",{"$nulls":6},708,null,{"$f":"IF($I$4=Dates1!$B$3,Datapack!B6,IF($I$4=Dates1!$B$4,Datapack!H6,IF($I$4=Dates1!$B$5,Datapack!N6,IF($I$4=Dates1!$B$6,Datapack!T6))))","v":82},11.581920903954803,null,{"$f":"IF($I$4=Dates1!$B$3,Datapack!C6,IF($I$4=Dates1!$B$4,Datapack!I6,IF($I$4=Dates1!$B$5,Datapack!O6,IF($I$4=Dates1!$B$6,Datapack!U6))))","v":390},55.084745762711862,null,{"$f":"IF($I$4=Dates1!$B$3,Datapack!D6,IF($I$4=Dates1!$B$4,Datapack!J6,IF($I$4=Dates1!$B$5,Datapack!P6,IF($I$4=Dates1!$B$6,Datapack!V6))))","v":219},30.932203389830509,null,{"$f":"IF($I$4=Dates1!$B$3,Datapack!E6,IF($I$4=Dates1!$B$4,Datapack!K6,IF($I$4=Dates1!$B$5,Datapack!Q6,IF($I$4=Dates1!$B$6,Datapack!W6))))","v":17},2.4011299435028248]
[null,"The extent to which children, including those from target groups, are physically, mentally and emotionally healthy and families have healthy lifestyles",{"$nulls":6},708,null,{"$f":"IF($I$4=Dates1!$B$3,Datapack!B7,IF($I$4=Dates1!$B$4,Datapack!H7,IF($I$4=Dates1!$B$5,Datapack!N7,IF($I$4=Dates1!$B$6,Datapack!T7))))","v":77},10.875706214689265,null,{"$f":"IF($I$4=Dates1!$B$3,Datapack!C7,IF($I$4=Dates1!$B$4,Datapack!I7,IF($I$4=Dates1!$B$5,Datapack!O7,IF($I$4=Dates1!$B$6,Datapack!U7))))","v":374},52.824858757062145,null,{"$f":"IF($I$4=Dates1!$B$3,Datapack!D7,IF($I$4=Dates1!$B$4,Datapack!J7,IF($I$4=Dates1!$B$5,Datapack!P7,IF($I$4=Dates1!$B$6,Datapack!V7))))","v":249},35.16949152542373,null,{"$f":"IF($I$4=Dates1!$B$3,Datapack!E7,IF($I$4=Dates1!$B$4,Datapack!K7,IF($I$4=Dates1!$B$5,Datapack!Q7,IF($I$4=Dates1!$B$6,Datapack!W7))))","v":8},1.1299435028248588]
[null,"The extent to which children are safe and protected, their welfare concerns are identified and appropriate steps taken to address them",{"$nulls":6},708,null,{"$f":"IF($I$4=Dates1!$B$3,Datapack!B8,IF($I$4=Dates1!$B$4,Datapack!H8,IF($I$4=Dates1!$B$5,Datapack!N8,IF($I$4=Dates1!$B$6,Datapack!T8))))","v":175},24.717514124293785,null,{"$f":"IF($I$4=Dates1!$B$3,Datapack!C8,IF($I$4=Dates1!$B$4,Datapack!I8,IF($I$4=Dates1!$B$5,Datapack!O8,IF($I$4=Dates1!$B$6,Datapack!U8))))","v":416},58.757062146892657,null,{"$f":"IF($I$4=Dates1!$B$3,Datapack!D8,IF($I$4=Dates1!$B$4,Datapack!J8,IF($I$4=Dates1!$B$5,Datapack!P8,IF($I$4=Dates1!$B$6,Datapack!V8))))","v":109},15.395480225988701,null,{"$f":"IF($I$4=Dates1!$B$3,Datapack!E8,IF($I$4=Dates1!$B$4,Datapack!K8,IF($I$4=Dates1!$B$5,Datapack!Q8,IF($I$4=Dates1!$B$6,Datapack!W8))))","v":8},1.1299435028248588]
[null,"The extent to which all children and parents, including those from target groups, enjoy and achieve educationally and in their personal and social development",{"$nulls":6},708,null,{"$f":"IF($I$4=Dates1!$B$3,Datapack!B9,IF($I$4=Dates1!$B$4,Datapack!H9,IF($I$4=Dates1!$B$5,Datapack!N9,IF($I$4=Dates1!$B$6,Datapack!T9))))","v":92},12.994350282485875,null,{"$f":"IF($I$4=Dates1!$B$3,Datapack!C9,IF($I$4=Dates1!$B$4,Datapack!I9,IF($I$4=Dates1!$B$5,Datapack!O9,IF($I$4=Dates1!$B$6,Datapack!U9))))","v":407},57.485875706214685,null,{"$f":"IF($I$4=Dates1!$B$3,Datapack!D9,IF($I$4=Dates1!$B$4,Datapack!J9,IF($I$4=Dates1!$B$5,Datapack!P9,IF($I$4=Dates1!$B$6,Datapack!V9))))","v":204},28.8135593220339,null,{"$f":"IF($I$4=Dates1!$B$3,Datapack!E9,IF($I$4=Dates1!$B$4,Datapack!K9,IF($I$4=Dates1!$B$5,Datapack!Q9,IF($I$4=Dates1!$B$6,Datapack!W9))))","v":5},0.70621468926553677]
[null,"The extent to which children engage in positive behaviour and develop positive relationships and parents, including those from target groups, contribute to decision-making and governance of the centre",{"$nulls":6},708,null,{"$f":"IF($I$4=Dates1!$B$3,Datapack!B10,IF($I$4=Dates1!$B$4,Datapack!H10,IF($I$4=Dates1!$B$5,Datapack!N10,IF($I$4=Dates1!$B$6,Datapack!T10))))","v":105},14.83050847457627,null,{"$f":"IF($I$4=Dates1!$B$3,Datapack!C10,IF($I$4=Dates1!$B$4,Datapack!I10,IF($I$4=Dates1!$B$5,Datapack!O10,IF($I$4=Dates1!$B$6,Datapack!U10))))","v":356},50.282485875706215,null,{"$f":"IF($I$4=Dates1!$B$3,Datapack!D10,IF($I$4=Dates1!$B$4,Datapack!J10,IF($I$4=Dates1!$B$5,Datapack!P10,IF($I$4=Dates1!$B$6,Datapack!V10))))","v":231},32.627118644067799,null,{"$f":"IF($I$4=Dates1!$B$3,Datapack!E10,IF($I$4=Dates1!$B$4,Datapack!K10,IF($I$4=Dates1!$B$5,Datapack!Q10,IF($I$4=Dates1!$B$6,Datapack!W10))))","v":16},2.2598870056497176]
[null,"The extent to which children are developing skills for the future and parents, including those from target groups, are developing economic stability and independence including access to training and employment",{"$nulls":6},708,null,{"$f":"IF($I$4=Dates1!$B$3,Datapack!B11,IF($I$4=Dates1!$B$4,Datapack!H11,IF($I$4=Dates1!$B$5,Datapack!N11,IF($I$4=Dates1!$B$6,Datapack!T11))))","v":64},9.0395480225988702,null,{"$f":"IF($I$4=Dates1!$B$3,Datapack!C11,IF($I$4=Dates1!$B$4,Datapack!I11,IF($I$4=Dates1!$B$5,Datapack!O11,IF($I$4=Dates1!$B$6,Datapack!U11))))","v":311},43.926553672316381,null,{"$f":"IF($I$4=Dates1!$B$3,Datapack!D11,IF($I$4=Dates1!$B$4,Datapack!J11,IF($I$4=Dates1!$B$5,Datapack!P11,IF($I$4=Dates1!$B$6,Datapack!V11))))","v":318},44.915254237288138,null,{"$f":"IF($I$4=Dates1!$B$3,Datapack!E11,IF($I$4=Dates1!$B$4,Datapack!K11,IF($I$4=Dates1!$B$5,Datapack!Q11,IF($I$4=Dates1!$B$6,Datapack!W11))))","v":15},2.1186440677966099]
[null,"How good is the provision?",{"$nulls":6},708,null,{"$f":"IF($I$4=Dates1!$B$3,Datapack!B12,IF($I$4=Dates1!$B$4,Datapack!H12,IF($I$4=Dates1!$B$5,Datapack!N12,IF($I$4=Dates1!$B$6,Datapack!T12))))","v":109},15.395480225988701,null,{"$f":"IF($I$4=Dates1!$B$3,Datapack!C12,IF($I$4=Dates1!$B$4,Datapack!I12,IF($I$4=Dates1!$B$5,Datapack!O12,IF($I$4=Dates1!$B$6,Datapack!U12))))","v":387},54.66101694915254,null,{"$f":"IF($I$4=Dates1!$B$3,Datapack!D12,IF($I$4=Dates1!$B$4,Datapack!J12,IF($I$4=Dates1!$B$5,Datapack!P12,IF($I$4=Dates1!$B$6,Datapack!V12))))","v":198},27.966101694915253,null,{"$f":"IF($I$4=Dates1!$B$3,Datapack!E12,IF($I$4=Dates1!$B$4,Datapack!K12,IF($I$4=Dates1!$B$5,Datapack!Q12,IF($I$4=Dates1!$B$6,Datapack!W12))))","v":14},1.977401129943503]
[null,"The effectiveness of the assessment of the needs of children, parents and other users2",{"$nulls":6},1,null,{"$f":"IF($I$4=Dates1!$B$3,Datapack!B13,IF($I$4=Dates1!$B$4,Datapack!H13,IF($I$4=Dates1!$B$5,Datapack!N13,IF($I$4=Dates1!$B$6,Datapack!T13))))","v":1},100,null,{"$f":"IF($I$4=Dates1!$B$3,Datapack!C13,IF($I$4=Dates1!$B$4,Datapack!I13,IF($I$4=Dates1!$B$5,Datapack!O13,IF($I$4=Dates1!$B$6,Datapack!U13))))","v":0},0,null,{"$f":"IF($I$4=Dates1!$B$3,Datapack!D13,IF($I$4=Dates1!$B$4,Datapack!J13,IF($I$4=Dates1!$B$5,Datapack!P13,IF($I$4=Dates1!$B$6,Datapack!V13))))","v":0},0,null,{"$f":"IF($I$4=Dates1!$B$3,Datapack!E13,IF($I$4=Dates1!$B$4,Datapack!K13,IF($I$4=Dates1!$B$5,Datapack!Q13,IF($I$4=Dates1!$B$6,Datapack!W13))))","v":0},0]
[null,"The extent to which the range of services, activities and opportunities meet the needs of families, including those in target groups2",{"$nulls":6},707,null,{"$f":"IF($I$4=Dates1!$B$3,Datapack!B14,IF($I$4=Dates1!$B$4,Datapack!H14,IF($I$4=Dates1!$B$5,Datapack!N14,IF($I$4=Dates1!$B$6,Datapack!T14))))","v":96},13.578500707213578,null,{"$f":"IF($I$4=Dates1!$B$3,Datapack!C14,IF($I$4=Dates1!$B$4,Datapack!I14,IF($I$4=Dates1!$B$5,Datapack!O14,IF($I$4=Dates1!$B$6,Datapack!U14))))","v":375},53.041018387553038,null,{"$f":"IF($I$4=Dates1!$B$3,Datapack!D14,IF($I$4=Dates1!$B$4,Datapack!J14,IF($I$4=Dates1!$B$5,Datapack!P14,IF($I$4=Dates1!$B$6,Datapack!V14))))","v":218},30.834512022630832,null,{"$f":"IF($I$4=Dates1!$B$3,Datapack!E14,IF($I$4=Dates1!$B$4,Datapack!K14,IF($I$4=Dates1!$B$5,Datapack!Q14,IF($I$4=Dates1!$B$6,Datapack!W14))))","v":18},2.5459688826025459]
[null,"The extent to which the centre promotes purposeful learning, development and enjoyment for all families, including those in target groups",{"$nulls":6},708,null,{"$f":"IF($I$4=Dates1!$B$3,Datapack!B15,IF($I$4=Dates1!$B$4,Datapack!H15,IF($I$4=Dates1!$B$5,Datapack!N15,IF($I$4=Dates1!$B$6,Datapack!T15))))","v":99},13.983050847457626,null,{"$f":"IF($I$4=Dates1!$B$3,Datapack!C15,IF($I$4=Dates1!$B$4,Datapack!I15,IF($I$4=Dates1!$B$5,Datapack!O15,IF($I$4=Dates1!$B$6,Datapack!U15))))","v":395},55.790960451977398,null,{"$f":"IF($I$4=Dates1!$B$3,Datapack!D15,IF($I$4=Dates1!$B$4,Datapack!J15,IF($I$4=Dates1!$B$5,Datapack!P15,IF($I$4=Dates1!$B$6,Datapack!V15))))","v":206},29.096045197740111,null,{"$f":"IF($I$4=Dates1!$B$3,Datapack!E15,IF($I$4=Dates1!$B$4,Datapack!K15,IF($I$4=Dates1!$B$5,Datapack!Q15,IF($I$4=Dates1!$B$6,Datapack!W15))))","v":8},1.1299435028248588]
[null,"The extent to which the range of services, activities and opportunities meet the needs of users and the wider community2",{"$nulls":6},1,null,{"$f":"IF($I$4=Dates1!$B$3,Datapack!B16,IF($I$4=Dates1!$B$4,Datapack!H16,IF($I$4=Dates1!$B$5,Datapack!N16,IF($I$4=Dates1!$B$6,Datapack!T16))))","v":0},0,null,{"$f":"IF($I$4=Dates1!$B$3,Datapack!C16,IF($I$4=Dates1!$B$4,Datapack!I16,IF($I$4=Dates1!$B$5,Datapack!O16,IF($I$4=Dates1!$B$6,Datapack!U16))))","v":1},100,null,{"$f":"IF($I$4=Dates1!$B$3,Datapack!D16,IF($I$4=Dates1!$B$4,Datapack!J16,IF($I$4=Dates1!$B$5,Datapack!P16,IF($I$4=Dates1!$B$6,Datapack!V16))))","v":0},0,null,{"$f":"IF($I$4=Dates1!$B$3,Datapack!E16,IF($I$4=Dates1!$B$4,Datapack!K16,IF($I$4=Dates1!$B$5,Datapack!Q16,IF($I$4=Dates1!$B$6,Datapack!W16))))","v":0},0]
[null,"The quality of care, guidance and support offered to families, including those in target groups",{"$nulls":6},708,null,{"$f":"IF($I$4=Dates1!$B$3,Datapack!B17,IF($I$4=Dates1!$B$4,Datapack!H17,IF($I$4=Dates1!$B$5,Datapack!N17,IF($I$4=Dates1!$B$6,Datapack!T17))))","v":227},32.06214689265537,null,{"$f":"IF($I$4=Dates1!$B$3,Datapack!C17,IF($I$4=Dates1!$B$4,Datapack!I17,IF($I$4=Dates1!$B$5,Datapack!O17,IF($I$4=Dates1!$B$6,Datapack!U17))))","v":373},52.683615819209038,null,{"$f":"IF($I$4=Dates1!$B$3,Datapack!D17,IF($I$4=Dates1!$B$4,Datapack!J17,IF($I$4=Dates1!$B$5,Datapack!P17,IF($I$4=Dates1!$B$6,Datapack!V17))))","v":100},14.124293785310735,null,{"$f":"IF($I$4=Dates1!$B$3,Datapack!E17,IF($I$4=Dates1!$B$4,Datapack!K17,IF($I$4=Dates1!$B$5,Datapack!Q17,IF($I$4=Dates1!$B$6,Datapack!W17))))","v":8},1.1299435028248588]
[null,"How effective are the leadership and management?",{"$nulls":6},708,null,{"$f":"IF($I$4=Dates1!$B$3,Datapack!B18,IF($I$4=Dates1!$B$4,Datapack!H18,IF($I$4=Dates1!$B$5,Datapack!N18,IF($I$4=Dates1!$B$6,Datapack!T18))))","v":94},13.27683615819209,null,{"$f":"IF($I$4=Dates1!$B$3,Datapack!C18,IF($I$4=Dates1!$B$4,Datapack!I18,IF($I$4=Dates1!$B$5,Datapack!O18,IF($I$4=Dates1!$B$6,Datapack!U18))))","v":378},53.389830508474581,null,{"$f":"IF($I$4=Dates1!$B$3,Datapack!D18,IF($I$4=Dates1!$B$4,Datapack!J18,IF($I$4=Dates1!$B$5,Datapack!P18,IF($I$4=Dates1!$B$6,Datapack!V18))))","v":219},30.932203389830509,null,{"$f":"IF($I$4=Dates1!$B$3,Datapack!E18,IF($I$4=Dates1!$B$4,Datapack!K18,IF($I$4=Dates1!$B$5,Datapack!Q18,IF($I$4=Dates1!$B$6,Datapack!W18))))","v":17},2.4011299435028248]
[null,"The extent to which governance, accountability, professional supervision and day-to-day management arrangements are clear and understood",{"$nulls":6},708,null,{"$f":"IF($I$4=Dates1!$B$3,Datapack!B19,IF($I$4=Dates1!$B$4,Datapack!H19,IF($I$4=Dates1!$B$5,Datapack!N19,IF($I$4=Dates1!$B$6,Datapack!T19))))","v":90},12.711864406779661,null,{"$f":"IF($I$4=Dates1!$B$3,Datapack!C19,IF($I$4=Dates1!$B$4,Datapack!I19,IF($I$4=Dates1!$B$5,Datapack!O19,IF($I$4=Dates1!$B$6,Datapack!U19))))","v":361},50.988700564971758,null,{"$f":"IF($I$4=Dates1!$B$3,Datapack!D19,IF($I$4=Dates1!$B$4,Datapack!J19,IF($I$4=Dates1!$B$5,Datapack!P19,IF($I$4=Dates1!$B$6,Datapack!V19))))","v":240},33.898305084745758,null,{"$f":"IF($I$4=Dates1!$B$3,Datapack!E19,IF($I$4=Dates1!$B$4,Datapack!K19,IF($I$4=Dates1!$B$5,Datapack!Q19,IF($I$4=Dates1!$B$6,Datapack!W19))))","v":17},2.4011299435028248]
[null,"The effectiveness of evaluation and its use in setting ambitious targets which secure improvement in outcomes2",{"$nulls":6},{"$f":"IF($I20=\"Select a quarter that matches the period from the box, right.\",\"-\",K25+N25+Q25+T25)","v":707},null,{"$f":"IF($I$4=Dates1!$B$3,Datapack!B20,IF($I$4=Dates1!$B$4,Datapack!H20,IF($I$4=Dates1!$B$5,Datapack!N20,IF($I$4=Dates1!$B$6,Datapack!T20))))","v":97},13.719943422913719,null,{"$f":"IF($I$4=Dates1!$B$3,Datapack!C20,IF($I$4=Dates1!$B$4,Datapack!I20,IF($I$4=Dates1!$B$5,Datapack!O20,IF($I$4=Dates1!$B$6,Datapack!U20))))","v":325},45.968882602545968,null,{"$f":"IF($I$4=Dates1!$B$3,Datapack!D20,IF($I$4=Dates1!$B$4,Datapack!J20,IF($I$4=Dates1!$B$5,Datapack!P20,IF($I$4=Dates1!$B$6,Datapack!V20))))","v":267},37.765205091937766,null,{"$f":"IF($I$4=Dates1!$B$3,Datapack!E20,IF($I$4=Dates1!$B$4,Datapack!K20,IF($I$4=Dates1!$B$5,Datapack!Q20,IF($I$4=Dates1!$B$6,Datapack!W20))))","v":18},2.5459688826025459]
[null,"The extent to which ambitious targets drive improvement, provision is integrated and there are high expectations for users and the wider community2",{"$nulls":6},1,null,{"$f":"IF($I$4=Dates1!$B$3,Datapack!B21,IF($I$4=Dates1!$B$4,Datapack!H21,IF($I$4=Dates1!$B$5,Datapack!N21,IF($I$4=Dates1!$B$6,Datapack!T1))))","v":0},0,null,{"$f":"IF($I$4=Dates1!$B$3,Datapack!C21,IF($I$4=Dates1!$B$4,Datapack!I21,IF($I$4=Dates1!$B$5,Datapack!O21,IF($I$4=Dates1!$B$6,Datapack!U21))))","v":1},100,null,{"$f":"IF($I$4=Dates1!$B$3,Datapack!D21,IF($I$4=Dates1!$B$4,Datapack!J21,IF($I$4=Dates1!$B$5,Datapack!P21,IF($I$4=Dates1!$B$6,Datapack!V21))))","v":0},0,null,{"$f":"IF($I$4=Dates1!$B$3,Datapack!E21,IF($I$4=Dates1!$B$4,Datapack!K21,IF($I$4=Dates1!$B$5,Datapack!Q21,IF($I$4=Dates1!$B$6,Datapack!W21))))","v":0},0]
[null,"The extent to which resources are used and managed efficiently and effectively to meet the needs of families, including those in target groups",{"$nulls":6},708,null,{"$f":"IF($I$4=Dates1!$B$3,Datapack!B22,IF($I$4=Dates1!$B$4,Datapack!H22,IF($I$4=Dates1!$B$5,Datapack!N22,IF($I$4=Dates1!$B$6,Datapack!T22))))","v":119},16.807909604519775,null,{"$f":"IF($I$4=Dates1!$B$3,Datapack!C22,IF($I$4=Dates1!$B$4,Datapack!I22,IF($I$4=Dates1!$B$5,Datapack!O22,IF($I$4=Dates1!$B$6,Datapack!U22))))","v":350},49.435028248587571,null,{"$f":"IF($I$4=Dates1!$B$3,Datapack!D22,IF($I$4=Dates1!$B$4,Datapack!J22,IF($I$4=Dates1!$B$5,Datapack!P22,IF($I$4=Dates1!$B$6,Datapack!V22))))","v":222},31.35593220338983,null,{"$f":"IF($I$4=Dates1!$B$3,Datapack!E22,IF($I$4=Dates1!$B$4,Datapack!K22,IF($I$4=Dates1!$B$5,Datapack!Q22,IF($I$4=Dates1!$B$6,Datapack!W22))))","v":17},2.4011299435028248]
[null,"The extent to which equality is promoted and diversity celebrated, illegal or unlawful discrimination is tackled and the centre fulfils its statutory duties",{"$nulls":6},708,null,{"$f":"IF($I$4=Dates1!$B$3,Datapack!B23,IF($I$4=Dates1!$B$4,Datapack!H23,IF($I$4=Dates1!$B$5,Datapack!N23,IF($I$4=Dates1!$B$6,Datapack!T23))))","v":99},13.983050847457626,null,{"$f":"IF($I$4=Dates1!$B$3,Datapack!C23,IF($I$4=Dates1!$B$4,Datapack!I23,IF($I$4=Dates1!$B$5,Datapack!O23,IF($I$4=Dates1!$B$6,Datapack!U23))))","v":383},54.096045197740118,null,{"$f":"IF($I$4=Dates1!$B$3,Datapack!D23,IF($I$4=Dates1!$B$4,Datapack!J23,IF($I$4=Dates1!$B$5,Datapack!P23,IF($I$4=Dates1!$B$6,Datapack!V23))))","v":212},29.943502824858758,null,{"$f":"IF($I$4=Dates1!$B$3,Datapack!E23,IF($I$4=Dates1!$B$4,Datapack!K23,IF($I$4=Dates1!$B$5,Datapack!Q23,IF($I$4=Dates1!$B$6,Datapack!W23))))","v":14},1.977401129943503]
[null,"The effectiveness of the centre’s policy, procedures and work with key agencies in safeguarding children and, where applicable, vulnerable adults",{"$nulls":6},708,null,{"$f":"IF($I$4=Dates1!$B$3,Datapack!B24,IF($I$4=Dates1!$B$4,Datapack!H24,IF($I$4=Dates1!$B$5,Datapack!N24,IF($I$4=Dates1!$B$6,Datapack!T24))))","v":200},28.248587570621471,null,{"$f":"IF($I$4=Dates1!$B$3,Datapack!C24,IF($I$4=Dates1!$B$4,Datapack!I24,IF($I$4=Dates1!$B$5,Datapack!O24,IF($I$4=Dates1!$B$6,Datapack!U24))))","v":404},57.062146892655363,null,{"$f":"IF($I$4=Dates1!$B$3,Datapack!D24,IF($I$4=Dates1!$B$4,Datapack!J24,IF($I$4=Dates1!$B$5,Datapack!P24,IF($I$4=Dates1!$B$6,Datapack!V24))))","v":97},13.700564971751412,null,{"$f":"IF($I$4=Dates1!$B$3,Datapack!E24,IF($I$4=Dates1!$B$4,Datapack!K24,IF($I$4=Dates1!$B$5,Datapack!Q24,IF($I$4=Dates1!$B$6,Datapack!W24))))","v":7},0.98870056497175152]
[null,"The extent to which evaluation is used to shape and improve services and activities2",{"$nulls":6},1,null,{"$f":"IF($I$4=Dates1!$B$3,Datapack!B25,IF($I$4=Dates1!$B$4,Datapack!H25,IF($I$4=Dates1!$B$5,Datapack!N25,IF($I$4=Dates1!$B$6,Datapack!T25))))","v":0},0,null,{"$f":"IF($I$4=Dates1!$B$3,Datapack!C25,IF($I$4=Dates1!$B$4,Datapack!I25,IF($I$4=Dates1!$B$5,Datapack!O25,IF($I$4=Dates1!$B$6,Datapack!U25))))","v":1},100,null,{"$f":"IF($I$4=Dates1!$B$3,Datapack!D25,IF($I$4=Dates1!$B$4,Datapack!J25,IF($I$4=Dates1!$B$5,Datapack!P25,IF($I$4=Dates1!$B$6,Datapack!V25))))","v":0},0,null,{"$f":"IF($I$4=Dates1!$B$3,Datapack!E25,IF($I$4=Dates1!$B$4,Datapack!K25,IF($I$4=Dates1!$B$5,Datapack!Q25,IF($I$4=Dates1!$B$6,Datapack!W25))))","v":0},0]
[null,"The extent to which partnerships with other agencies ensure the integrated delivery of the range of services provided by the centre to meet its core purpose",{"$nulls":6},708,null,{"$f":"IF($I$4=Dates1!$B$3,Datapack!B26,IF($I$4=Dates1!$B$4,Datapack!H26,IF($I$4=Dates1!$B$5,Datapack!N26,IF($I$4=Dates1!$B$6,Datapack!T26))))","v":162},22.881355932203391,null,{"$f":"IF($I$4=Dates1!$B$3,Datapack!C26,IF($I$4=Dates1!$B$4,Datapack!I26,IF($I$4=Dates1!$B$5,Datapack!O26,IF($I$4=Dates1!$B$6,Datapack!U26))))","v":362},51.129943502824858,null,{"$f":"IF($I$4=Dates1!$B$3,Datapack!D26,IF($I$4=Dates1!$B$4,Datapack!J26,IF($I$4=Dates1!$B$5,Datapack!P26,IF($I$4=Dates1!$B$6,Datapack!V26))))","v":174},24.576271186440678,null,{"$f":"IF($I$4=Dates1!$B$3,Datapack!E26,IF($I$4=Dates1!$B$4,Datapack!K26,IF($I$4=Dates1!$B$5,Datapack!Q26,IF($I$4=Dates1!$B$6,Datapack!W26))))","v":10},1.4124293785310735]
[null,"The extent to which the centre supports and encourages families in the reach area to engage with services and uses their views to develop the range of provision",{"$nulls":6},708,null,{"$f":"IF($I$4=Dates1!$B$3,Datapack!B27,IF($I$4=Dates1!$B$4,Datapack!H27,IF($I$4=Dates1!$B$5,Datapack!N27,IF($I$4=Dates1!$B$6,Datapack!T27))))","v":100},14.124293785310735,null,{"$f":"IF($I$4=Dates1!$B$3,Datapack!C27,IF($I$4=Dates1!$B$4,Datapack!I27,IF($I$4=Dates1!$B$5,Datapack!O27,IF($I$4=Dates1!$B$6,Datapack!U27))))","v":350},49.435028248587571,null,{"$f":"IF($I$4=Dates1!$B$3,Datapack!D27,IF($I$4=Dates1!$B$4,Datapack!J27,IF($I$4=Dates1!$B$5,Datapack!P27,IF($I$4=Dates1!$B$6,Datapack!V27))))","v":246},34.745762711864408,null,{"$f":"IF($I$4=Dates1!$B$3,Datapack!E27,IF($I$4=Dates1!$B$4,Datapack!K27,IF($I$4=Dates1!$B$5,Datapack!Q27,IF($I$4=Dates1!$B$6,Datapack!W27))))","v":12},1.6949152542372881]
[{"$nulls":17},"Source: Ofsted Inspections"]
[null,"1. Percentages are rounded and may not add to 100."]
[null,"2. One inspection began in August and ended in September 2011. Although the inspection was completed in September, outcomes were recorded against 4 judgements that were no longer part of the inspection framework after 1 September 2011 and 2 new outcomes included after 1 September 2011 were not judged. Several re-worded judgements were amalgamated."]

{"sheet":"Table 3","index":6,"n_rows":36,"n_cols":21,"rows_kept":36,"cut":false,"hidden":false,"merged":[[36,1,37,20],[26,1,26,6],[34,1,34,6],[35,1,35,8],[28,1,28,6],[29,1,29,6],[30,1,30,6],[27,1,27,6],[33,1,33,20],[25,1,25,6],[23,1,23,6],[24,1,24,6],[21,1,21,6],[22,1,22,6],[19,1,19,6],[20,1,20,6],[16,1,16,6],[18,1,18,6],[4,19,4,20],[7,1,7,6],[8,1,8,6],[9,1,9,6],[4,8,5,8],[17,1,17,6],[13,1,13,6],[1,1,1,20],[10,1,10,6],[11,1,11,6],[12,1,12,6],[31,17,31,20],[4,10,4,11],[4,13,4,14],[4,16,4,17],[14,1,14,6],[15,1,15,6]]}
[]
[null,"Table 3: Most recent inspection outcomes of children's centres as at 31 August 20121 2"]
[]
[]
[{"$nulls":8},"Total number inspected",null,"Outstanding",null,null,"Good",null,null,"Satisfactory",null,null,"Inadequate"]
[{"$nulls":10},"Number","%",null,"Number","%",null,"Number","%",null,"Number","%"]
[]
[null,"The effectiveness of the children’s centre in meeting the needs of and improving outcomes for families",{"$nulls":6},{"$f":"SUM(K8+N8+Q8+T8)","v":1443},null,190,{"$f":"SUM(K8/I8*100)","v":13.167013167013167},null,814,{"$f":"SUM(N8/I8*100)","v":56.410256410256409},null,419,{"$f":"SUM(Q8/I8*100)","v":29.036729036729035},null,20,{"$f":"SUM(T8/I8*100)","v":1.386001386001386}]
[null,"The centre’s capacity for sustained improvement, including the quality of its leadership and management",{"$nulls":6},{"$f":"SUM(K9+N9+Q9+T9)","v":1443},null,221,{"$f":"SUM(K9/I9*100)","v":15.315315315315313},null,804,{"$f":"SUM(N9/I9*100)","v":55.717255717255718},null,398,{"$f":"SUM(Q9/I9*100)","v":27.58142758142758},null,20,{"$f":"SUM(T9/I9*100)","v":1.386001386001386}]
[null,"How good are outcomes for families?",{"$nulls":6},1443,null,182,12.612612612612612,null,857,59.39015939015939,null,387,26.819126819126822,null,17,1.1781011781011781]
[null,"The extent to which children, including those from target groups, are physically, mentally and emotionally healthy and families have healthy lifestyles",{"$nulls":6},1443,null,199,13.79071379071379,null,824,57.1032571032571,null,412,28.55162855162855,null,8,0.55440055440055436]
[null,"The extent to which children are safe and protected, their welfare concerns are identified and appropriate steps taken to address them",{"$nulls":6},1443,null,349,24.185724185724187,null,887,61.46916146916147,null,199,13.79071379071379,null,8,0.55440055440055436]
[null,"The extent to which all children and parents, including those from target groups, enjoy and achieve educationally and in their personal and social development",{"$nulls":6},1443,null,209,14.483714483714483,null,883,61.191961191961198,null,346,23.977823977823977,null,5,0.3465003465003465]
[null,"The extent to which children engage in positive behaviour and develop positive relationships and parents, including those from target groups, contribute to decision-making and governance of the centre",{"$nulls":6},1443,null,237,16.424116424116423,null,769,53.291753291753295,null,419,29.036729036729035,null,18,1.2474012474012475]
[null,"The extent to which children are developing skills for the future and parents, including those from target groups, are developing economic stability and independence including access to training and employment",{"$nulls":6},1443,null,145,10.048510048510048,null,715,49.549549549549546,null,568,39.36243936243936,null,15,1.0395010395010396]
[null,"How good is the provision?",{"$nulls":6},1443,null,233,16.146916146916148,null,830,57.519057519057512,null,365,25.294525294525293,null,15,1.0395010395010396]
[4,"The effectiveness of the assessment of the needs of children, parents and other users",{"$nulls":6},737,null,169,22.930800542740844,null,400,54.274084124830388,null,166,22.523744911804613,null,2,0.27137042062415195]
[3,"The extent to which the range of services, activities and opportunities meet the needs of families, including those in target groups",{"$nulls":6},706,null,96,13.597733711048161,null,375,53.116147308781869,null,218,30.878186968838527,null,17,2.4079320113314444]
[null,"The extent to which the centre promotes purposeful learning, development and enjoyment for all families, including those in target groups",{"$nulls":6},1443,null,210,14.553014553014554,null,878,60.845460845460842,null,347,24.047124047124047,null,8,0.55440055440055436]
[4,"The extent to which the range of services, activities and opportunities meet the needs of users and the wider community",{"$nulls":6},737,null,124,16.824966078697422,null,412,55.902306648575305,null,198,26.865671641791046,null,3,0.40705563093622793]
[null,"The quality of care, guidance and support offered to families, including those in target groups",{"$nulls":6},1443,null,493,34.164934164934166,null,758,52.529452529452527,null,185,12.820512820512819,null,7,0.48510048510048509]
[null,"How effective are the leadership and management?",{"$nulls":6},1443,null,210,14.553014553014554,null,811,56.202356202356206,null,403,27.927927927927925,null,19,1.3167013167013166]
[null,"The extent to which governance, accountability, professional supervision and day-to-day management arrangements are clear and understood",{"$nulls":6},1443,null,210,14.553014553014554,null,769,53.291753291753295,null,438,30.353430353430355,null,26,1.8018018018018018]
[3,"The effectiveness of evaluation and its use in setting ambitious targets which secure improvement in outcomes",{"$nulls":6},706,null,97,13.739376770538245,null,325,46.033994334277622,null,267,37.818696883852695,null,17,2.4079320113314444]
[4,"The extent to which ambitious targets drive improvement, provision is integrated and there are high expectations for users and the wider community",{"$nulls":6},737,null,127,17.232021709633649,null,392,53.188602442333789,null,212,28.765264586160111,null,6,0.81411126187245586]
[null,"The extent to which resources are used and managed efficiently and effectively to meet the needs of families, including those in target groups",{"$nulls":6},1443,null,261,18.087318087318089,null,759,52.598752598752597,null,405,28.066528066528068,null,18,1.2474012474012475]
[null,"The extent to which equality is promoted and diversity celebrated, illegal or unlawful discrimination is tackled and the centre fulfils its statutory duties",{"$nulls":6},1443,null,213,14.760914760914762,null,814,56.410256410256409,null,402,27.858627858627859,null,14,0.97020097020097018]
[null,"The effectiveness of the centre’s policy, procedures and work with key agencies in safeguarding children and, where applicable, vulnerable adults",{"$nulls":6},1443,null,399,27.650727650727653,null,843,58.419958419958419,null,192,13.305613305613306,null,9,0.62370062370062374]
[4,"The extent to which evaluation is used to shape and improve services and activities",{"$nulls":6},737,null,98,13.297150610583447,null,349,47.354138398914522,null,280,37.991858887381277,null,10,1.3568521031207599]
[null,"The extent to which partnerships with other agencies ensure the integrated delivery of the range of services provided by the centre to meet its core purpose",{"$nulls":6},1443,null,393,27.234927234927238,null,727,50.381150381150384,null,310,21.483021483021485,null,13,0.90090090090090091]
[null,"The extent to which the centre supports and encourages families in the reach area to engage with services and uses their views to develop the range of provision",{"$nulls":6},1443,null,220,15.246015246015245,null,754,52.252252252252248,null,451,31.254331254331252,null,18,1.2474012474012475]
[{"$nulls":17},"Source: Ofsted Inspections"]
[null,"1. Percentages are rounded and may not add to 100."]
[null,"2. Wording of some judgements refreshed on 1 September 2011 but the criteria for assessing them is unchanged. Data are amalgamated for inspections conducted before and after this date."]
[null,"3. Judgement only made at inspections since 1 September 2011."]
[null,"4. Judgement only made at inspections between 1 April 2010 and 31 August 2011."]

{"sheet":"Table 4","index":7,"n_rows":13,"n_cols":15,"rows_kept":13,"cut":false,"hidden":false,"merged":[[4,10,4,11],[4,13,4,14],[12,11,12,14],[1,1,1,17],[4,1,5,1],[4,2,5,2],[4,4,4,5],[4,7,4,8]]}
[]
[null,"Table 4: Overall effectiveness of children's centres inspected over two inspection years"]
[]
[]
[null,null,"Total number inspected",null,"Outstanding",null,null,"Good",null,null,"Satisfactory",null,null,"Inadequate"]
[{"$nulls":4},"Number","%",null,"Number","%",null,"Number","%",null,"Number","%"]
[]
[null,"1 September 2011 and 31 August 2012",708,null,86,{"$f":"E8/C8*100","v":12.146892655367232},null,378,{"$f":"H8/C8*100","v":53.389830508474581},null,226,{"$f":"K8/C8*100","v":31.92090395480226},null,18,{"$f":"N8/C8*100","v":2.5423728813559325}]
[]
[]
[null,"1 September 2010 and 31 August 2011",710,null,99,{"$f":"E11/C11*100","v":13.943661971830986},null,419,{"$f":"H11/C11*100","v":59.014084507042256},null,180,{"$f":"K11/C11*100","v":25.352112676056336},null,12,{"$f":"N11/C11*100","v":1.6901408450704223}]
[]
[{"$nulls":11},"Source: Ofsted Inspections"]

{"sheet":"Table 5","index":8,"n_rows":181,"n_cols":14,"rows_kept":181,"cut":false,"hidden":false,"merged":[[11,1,11,3],[12,1,12,3],[13,1,13,3],[14,1,14,3],[10,1,10,3],[7,1,7,3],[9,1,9,3],[19,1,19,3],[20,1,20,3],[21,1,21,3],[23,1,23,3],[15,1,15,3],[16,1,16,3],[17,1,17,3],[18,1,18,3],[28,1,28,3],[29,1,29,3],[30,1,30,3],[31,1,31,3],[24,1,24,3],[25,1,25,3],[26,1,26,3],[27,1,27,3],[36,1,36,3],[37,1,37,3],[38,1,38,3],[39,1,39,3],[32,1,32,3],[33,1,33,3],[34,1,34,3],[35,1,35,3],[44,1,44,3],[45,1,45,3],[46,1,46,3],[48,1,48,3],[40,1,40,3],[41,1,41,3],[42,1,42,3],[43,1,43,3],[53,1,53,3],[54,1,54,3],[55,1,55,3],[56,1,56,3],[49,1,49,3],[50,1,50,3],[51,1,51,3],[52,1,52,3],[61,1,61,3],[62,1,62,3],[63,1,63,3],[65,1,65,3],[57,1,57,3],[58,1,58,3],[59,1,59,3],[60,1,60,3],[70,1,70,3],[71,1,71,3],[72,1,72,3],[73,1,73,3],[66,1,66,3],[67,1,67,3],[68,1,68,3],[69,1,69,3],[79,1,79,3],[80,1,80,3],[81,1,81,3],[82,1,82,3],[74,1,74,3],[76,1,76,3],[77,1,77,3],[78,1,78,3],[87,1,87,3],[88,1,88,3],[89,1,89,3],[90,1,90,3],[83,1,83,3],[84,1,84,3],[85,1,85,3],[86,1,86,3],[96,1,96,3],[97,1,97,3],[98,1,98,3],[99,1,99,3],[92,1,92,3],[93,1,93,3],[94,1,94,3],[95,1,95,3],[105,1,105,3],[106,1,106,3],[107,1,107,3],[108,1,108,3],[100,1,100,3],[101,1,101,3],[102,1,102,3],[103,1,103,3],[113,1,113,3],[114,1,114,3],[115,1,115,3],[116,1,116,3],[109,1,109,3],[110,1,110,3],[111,1,111,3],[112,1,112,3],[121,1,121,3],[122,1,122,3],[123,1,123,3],[124,1,124,3],[117,1,117,3],[118,1,118,3],[119,1,119,3],[120,1,120,3],[129,1,129,3],[130,1,130,3],[131,1,131,3],[132,1,132,3],[125,1,125,3],[126,1,126,3],[127,1,127,3],[128,1,128,3],[162,1,162,3],[137,1,137,3],[138,1,138,3],[140,1,140,3],[141,1,141,3],[133,1,133,3],[134,1,134,3],[135,1,135,3],[136,1,136,3],[146,1,146,3],[147,1,147,3],[148,1,148,3],[149,1,149,3],[142,1,142,3],[143,1,143,3],[144,1,144,3],[145,1,145,3],[164,1,164,3],[165,1,165,3],[166,1,166,3],[150,1,150,3],[151,1,151,3],[152,1,152,3],[153,1,153,3],[154,1,154,3],[155,1,155,3],[163,1,163,3],[173,1,173,3],[174,1,174,3],[175,1,175,3],[176,1,176,3],[170,1,170,3],[156,1,156,3],[157,1,157,3],[158,1,158,3],[159,1,159,3],[161,1,161,3],[3,6,3,11],[180,1,180,5],[179,11,179,13],[1,1,1,20],[171,1,171,3],[167,1,167,3],[168,1,168,3],[169,1,169,3],[177,1,177,3],[172,1,172,3]]}
[]
[null,{"$f":"\"Table 5: Overall effectiveness of children's centres inspected \"&IF('Table 5'!G4=Dates1!$B$3,\"between \"&Dates1!$B$3,IF('Table 5'!G4=Dates1!B4,\"in \"&Dates1!B4,IF('Table 5'!G4=Dates1!B5,\"in \"&Dates1!B5,IF('Table 5'!G4=Dates1!B6,\"in \"&Dates1!B6))))&\", by local authority\"&\"\"&CHAR(185)&\"\"","v":"Table 5: Overall effectiveness of children's centres inspected between 1 September 2011 and 31 August 2012, by local authority¹"}]
[]
[{"$nulls":6},"1 September 2011 and 31 August 2012"]
[]
[{"$nulls":5},"Total number inspected",null,"Outstanding",null,"Good",null,"Satisfactory",null,"Inadequate"]
[]
[null,"ENGLAND ",null,null,null,{"$f":"SUM(F10+F24+F49+F66+F77+F93+F106+F141+F162)","v":708},null,{"$f":"SUM(H10+H24+H49+H66+H77+H93+H106+H141+H162)","v":86},null,378,null,226,null,18]
[]
[null,"NORTH EAST ",null,null,null,{"$f":"SUM(F11:F22)","v":36},null,{"$f":"SUM(H11:H22)","v":4},null,{"$f":"SUM(J11:J22)","v":24},null,{"$f":"SUM(L11:L22)","v":6},null,{"$f":"SUM(N11:N22)","v":2}]
[null,"Darlington",null,null,null,{"$f":"IF($G$4=Dates1!$B$3,Datapack!B216,IF($G$4=Dates1!$B$4,Datapack!H216,IF($G$4=Dates1!$B$5,Datapack!N216,IF($G$4=Dates1!$B$6,Datapack!T216,))))","v":1},null,{"$f":"IF($G$4=Dates1!$B$3,Datapack!C216,IF($G$4=Dates1!$B$4,Datapack!I216,IF($G$4=Dates1!$B$5,Datapack!O216,IF($G$4=Dates1!$B$6,Datapack!U216,))))","v":0},null,{"$f":"IF($G$4=Dates1!$B$3,Datapack!D216,IF($G$4=Dates1!$B$4,Datapack!J216,IF($G$4=Dates1!$B$5,Datapack!P216,IF($G$4=Dates1!$B$6,Datapack!V216,))))","v":1},null,{"$f":"IF($G$4=Dates1!$B$3,Datapack!E216,IF($G$4=Dates1!$B$4,Datapack!K216,IF($G$4=Dates1!$B$5,Datapack!Q216,IF($G$4=Dates1!$B$6,Datapack!W216,))))","v":0},null,{"$f":"IF($G$4=Dates1!$B$3,Datapack!F216,IF($G$4=Dates1!$B$4,Datapack!L216,IF($G$4=Dates1!$B$5,Datapack!R216,IF($G$4=Dates1!$B$6,Datapack!X216,))))","v":0}]
[null,"Durham",null,null,null,{"$f":"IF($G$4=Dates1!$B$3,Datapack!B217,IF($G$4=Dates1!$B$4,Datapack!H217,IF($G$4=Dates1!$B$5,Datapack!N217,IF($G$4=Dates1!$B$6,Datapack!T217,))))","v":8},null,{"$f":"IF($G$4=Dates1!$B$3,Datapack!C217,IF($G$4=Dates1!$B$4,Datapack!I217,IF($G$4=Dates1!$B$5,Datapack!O217,IF($G$4=Dates1!$B$6,Datapack!U217,))))","v":0},null,{"$f":"IF($G$4=Dates1!$B$3,Datapack!D217,IF($G$4=Dates1!$B$4,Datapack!J217,IF($G$4=Dates1!$B$5,Datapack!P217,IF($G$4=Dates1!$B$6,Datapack!V217,))))","v":2},null,{"$f":"IF($G$4=Dates1!$B$3,Datapack!E217,IF($G$4=Dates1!$B$4,Datapack!K217,IF($G$4=Dates1!$B$5,Datapack!Q217,IF($G$4=Dates1!$B$6,Datapack!W217,))))","v":4},null,{"$f":"IF($G$4=Dates1!$B$3,Datapack!F217,IF($G$4=Dates1!$B$4,Datapack!L217,IF($G$4=Dates1!$B$5,Datapack!R217,IF($G$4=Dates1!$B$6,Datapack!X217,))))","v":2}]
[null,"Gateshead",null,null,null,{"$f":"IF($G$4=Dates1!$B$3,Datapack!B218,IF($G$4=Dates1!$B$4,Datapack!H218,IF($G$4=Dates1!$B$5,Datapack!N218,IF($G$4=Dates1!$B$6,Datapack!T218,))))","v":2},null,{"$f":"IF($G$4=Dates1!$B$3,Datapack!C218,IF($G$4=Dates1!$B$4,Datapack!I218,IF($G$4=Dates1!$B$5,Datapack!O218,IF($G$4=Dates1!$B$6,Datapack!U218,))))","v":0},null,{"$f":"IF($G$4=Dates1!$B$3,Datapack!D218,IF($G$4=Dates1!$B$4,Datapack!J218,IF($G$4=Dates1!$B$5,Datapack!P218,IF($G$4=Dates1!$B$6,Datapack!V218,))))","v":1},null,{"$f":"IF($G$4=Dates1!$B$3,Datapack!E218,IF($G$4=Dates1!$B$4,Datapack!K218,IF($G$4=Dates1!$B$5,Datapack!Q218,IF($G$4=Dates1!$B$6,Datapack!W218,))))","v":1},null,{"$f":"IF($G$4=Dates1!$B$3,Datapack!F218,IF($G$4=Dates1!$B$4,Datapack!L218,IF($G$4=Dates1!$B$5,Datapack!R218,IF($G$4=Dates1!$B$6,Datapack!X218,))))","v":0}]
[null,"Hartlepool",null,null,null,{"$f":"IF($G$4=Dates1!$B$3,Datapack!B219,IF($G$4=Dates1!$B$4,Datapack!H219,IF($G$4=Dates1!$B$5,Datapack!N219,IF($G$4=Dates1!$B$6,Datapack!T219,))))","v":2},null,{"$f":"IF($G$4=Dates1!$B$3,Datapack!C219,IF($G$4=Dates1!$B$4,Datapack!I219,IF($G$4=Dates1!$B$5,Datapack!O219,IF($G$4=Dates1!$B$6,Datapack!U219,))))","v":0},null,{"$f":"IF($G$4=Dates1!$B$3,Datapack!D219,IF($G$4=Dates1!$B$4,Datapack!J219,IF($G$4=Dates1!$B$5,Datapack!P219,IF($G$4=Dates1!$B$6,Datapack!V219,))))","v":2},null,{"$f":"IF($G$4=Dates1!$B$3,Datapack!E219,IF($G$4=Dates1!$B$4,Datapack!K219,IF($G$4=Dates1!$B$5,Datapack!Q219,IF($G$4=Dates1!$B$6,Datapack!W219,))))","v":0},null,{"$f":"IF($G$4=Dates1!$B$3,Datapack!F219,IF($G$4=Dates1!$B$4,Datapack!L219,IF($G$4=Dates1!$B$5,Datapack!R219,IF($G$4=Dates1!$B$6,Datapack!X219,))))","v":0}]
[null,"Middlesbrough",null,null,null,{"$f":"IF($G$4=Dates1!$B$3,Datapack!B220,IF($G$4=Dates1!$B$4,Datapack!H220,IF($G$4=Dates1!$B$5,Datapack!N220,IF($G$4=Dates1!$B$6,Datapack!T220,))))","v":1},null,{"$f":"IF($G$4=Dates1!$B$3,Datapack!C220,IF($G$4=Dates1!$B$4,Datapack!I220,IF($G$4=Dates1!$B$5,Datapack!O220,IF($G$4=Dates1!$B$6,Datapack!U220,))))","v":0},null,{"$f":"IF($G$4=Dates1!$B$3,Datapack!D220,IF($G$4=Dates1!$B$4,Datapack!J220,IF($G$4=Dates1!$B$5,Datapack!P220,IF($G$4=Dates1!$B$6,Datapack!V220,))))","v":1},null,{"$f":"IF($G$4=Dates1!$B$3,Datapack!E220,IF($G$4=Dates1!$B$4,Datapack!K220,IF($G$4=Dates1!$B$5,Datapack!Q220,IF($G$4=Dates1!$B$6,Datapack!W220,))))","v":0},null,{"$f":"IF($G$4=Dates1!$B$3,Datapack!F220,IF($G$4=Dates1!$B$4,Datapack!L220,IF($G$4=Dates1!$B$5,Datapack!R220,IF($G$4=Dates1!$B$6,Datapack!X220,))))","v":0}]
[null,"Newcastle upon Tyne",null,null,null,{"$f":"IF($G$4=Dates1!$B$3,Datapack!B221,IF($G$4=Dates1!$B$4,Datapack!H221,IF($G$4=Dates1!$B$5,Datapack!N221,IF($G$4=Dates1!$B$6,Datapack!T221,))))","v":7},null,{"$f":"IF($G$4=Dates1!$B$3,Datapack!C221,IF($G$4=Dates1!$B$4,Datapack!I221,IF($G$4=Dates1!$B$5,Datapack!O221,IF($G$4=Dates1!$B$6,Datapack!U221,))))","v":1},null,{"$f":"IF($G$4=Dates1!$B$3,Datapack!D221,IF($G$4=Dates1!$B$4,Datapack!J221,IF($G$4=Dates1!$B$5,Datapack!P221,IF($G$4=Dates1!$B$6,Datapack!V221,))))","v":6},null,{"$f":"IF($G$4=Dates1!$B$3,Datapack!E221,IF($G$4=Dates1!$B$4,Datapack!K221,IF($G$4=Dates1!$B$5,Datapack!Q221,IF($G$4=Dates1!$B$6,Datapack!W221,))))","v":0},null,{"$f":"IF($G$4=Dates1!$B$3,Datapack!F221,IF($G$4=Dates1!$B$4,Datapack!L221,IF($G$4=Dates1!$B$5,Datapack!R221,IF($G$4=Dates1!$B$6,Datapack!X221,))))","v":0}]
[null,"North Tyneside",null,null,null,{"$f":"IF($G$4=Dates1!$B$3,Datapack!B222,IF($G$4=Dates1!$B$4,Datapack!H222,IF($G$4=Dates1!$B$5,Datapack!N222,IF($G$4=Dates1!$B$6,Datapack!T222,))))","v":3},null,{"$f":"IF($G$4=Dates1!$B$3,Datapack!C222,IF($G$4=Dates1!$B$4,Datapack!I222,IF($G$4=Dates1!$B$5,Datapack!O222,IF($G$4=Dates1!$B$6,Datapack!U222,))))","v":2},null,{"$f":"IF($G$4=Dates1!$B$3,Datapack!D222,IF($G$4=Dates1!$B$4,Datapack!J222,IF($G$4=Dates1!$B$5,Datapack!P222,IF($G$4=Dates1!$B$6,Datapack!V222,))))","v":1},null,{"$f":"IF($G$4=Dates1!$B$3,Datapack!E222,IF($G$4=Dates1!$B$4,Datapack!K222,IF($G$4=Dates1!$B$5,Datapack!Q222,IF($G$4=Dates1!$B$6,Datapack!W222,))))","v":0},null,{"$f":"IF($G$4=Dates1!$B$3,Datapack!F222,IF($G$4=Dates1!$B$4,Datapack!L222,IF($G$4=Dates1!$B$5,Datapack!R222,IF($G$4=Dates1!$B$6,Datapack!X222,))))","v":0}]
[null,"Northumberland",null,null,null,{"$f":"IF($G$4=Dates1!$B$3,Datapack!B223,IF($G$4=Dates1!$B$4,Datapack!H223,IF($G$4=Dates1!$B$5,Datapack!N223,IF($G$4=Dates1!$B$6,Datapack!T223,))))","v":4},null,{"$f":"IF($G$4=Dates1!$B$3,Datapack!C223,IF($G$4=Dates1!$B$4,Datapack!I223,IF($G$4=Dates1!$B$5,Datapack!O223,IF($G$4=Dates1!$B$6,Datapack!U223,))))","v":1},null,{"$f":"IF($G$4=Dates1!$B$3,Datapack!D223,IF($G$4=Dates1!$B$4,Datapack!J223,IF($G$4=Dates1!$B$5,Datapack!P223,IF($G$4=Dates1!$B$6,Datapack!V223,))))","v":3},null,{"$f":"IF($G$4=Dates1!$B$3,Datapack!E223,IF($G$4=Dates1!$B$4,Datapack!K223,IF($G$4=Dates1!$B$5,Datapack!Q223,IF($G$4=Dates1!$B$6,Datapack!W223,))))","v":0},null,{"$f":"IF($G$4=Dates1!$B$3,Datapack!F223,IF($G$4=Dates1!$B$4,Datapack!L223,IF($G$4=Dates1!$B$5,Datapack!R223,IF($G$4=Dates1!$B$6,Datapack!X223,))))","v":0}]
[null,"Redcar and Cleveland",null,null,null,{"$f":"IF($G$4=Dates1!$B$3,Datapack!B224,IF($G$4=Dates1!$B$4,Datapack!H224,IF($G$4=Dates1!$B$5,Datapack!N224,IF($G$4=Dates1!$B$6,Datapack!T224,))))","v":1},null,{"$f":"IF($G$4=Dates1!$B$3,Datapack!C224,IF($G$4=Dates1!$B$4,Datapack!I224,IF($G$4=Dates1!$B$5,Datapack!O224,IF($G$4=Dates1!$B$6,Datapack!U224,))))","v":0},null,{"$f":"IF($G$4=Dates1!$B$3,Datapack!D224,IF($G$4=Dates1!$B$4,Datapack!J224,IF($G$4=Dates1!$B$5,Datapack!P224,IF($G$4=Dates1!$B$6,Datapack!V224,))))","v":1},null,{"$f":"IF($G$4=Dates1!$B$3,Datapack!E224,IF($G$4=Dates1!$B$4,Datapack!K224,IF($G$4=Dates1!$B$5,Datapack!Q224,IF($G$4=Dates1!$B$6,Datapack!W224,))))","v":0},null,{"$f":"IF($G$4=Dates1!$B$3,Datapack!F224,IF($G$4=Dates1!$B$4,Datapack!L224,IF($G$4=Dates1!$B$5,Datapack!R224,IF($G$4=Dates1!$B$6,Datapack!X224,))))","v":0}]
[null,"South Tyneside",null,null,null,{"$f":"IF($G$4=Dates1!$B$3,Datapack!B225,IF($G$4=Dates1!$B$4,Datapack!H225,IF($G$4=Dates1!$B$5,Datapack!N225,IF($G$4=Dates1!$B$6,Datapack!T225,))))","v":4},null,{"$f":"IF($G$4=Dates1!$B$3,Datapack!C225,IF($G$4=Dates1!$B$4,Datapack!I225,IF($G$4=Dates1!$B$5,Datapack!O225,IF($G$4=Dates1!$B$6,Datapack!U225,))))","v":0},null,{"$f":"IF($G$4=Dates1!$B$3,Datapack!D225,IF($G$4=Dates1!$B$4,Datapack!J225,IF($G$4=Dates1!$B$5,Datapack!P225,IF($G$4=Dates1!$B$6,Datapack!V225,))))","v":3},null,{"$f":"IF($G$4=Dates1!$B$3,Datapack!E225,IF($G$4=Dates1!$B$4,Datapack!K225,IF($G$4=Dates1!$B$5,Datapack!Q225,IF($G$4=Dates1!$B$6,Datapack!W225,))))","v":1},null,{"$f":"IF($G$4=Dates1!$B$3,Datapack!F225,IF($G$4=Dates1!$B$4,Datapack!L225,IF($G$4=Dates1!$B$5,Datapack!R225,IF($G$4=Dates1!$B$6,Datapack!X225,))))","v":0}]
[null,"Stockton-on-Tees",null,null,null,{"$f":"IF($G$4=Dates1!$B$3,Datapack!B226,IF($G$4=Dates1!$B$4,Datapack!H226,IF($G$4=Dates1!$B$5,Datapack!N226,IF($G$4=Dates1!$B$6,Datapack!T226,))))","v":0},null,{"$f":"IF($G$4=Dates1!$B$3,Datapack!C226,IF($G$4=Dates1!$B$4,Datapack!I226,IF($G$4=Dates1!$B$5,Datapack!O226,IF($G$4=Dates1!$B$6,Datapack!U226,))))","v":0},null,{"$f":"IF($G$4=Dates1!$B$3,Datapack!D226,IF($G$4=Dates1!$B$4,Datapack!J226,IF($G$4=Dates1!$B$5,Datapack!P226,IF($G$4=Dates1!$B$6,Datapack!V226,))))","v":0},null,{"$f":"IF($G$4=Dates1!$B$3,Datapack!E226,IF($G$4=Dates1!$B$4,Datapack!K226,IF($G$4=Dates1!$B$5,Datapack!Q226,IF($G$4=Dates1!$B$6,Datapack!W226,))))","v":0},null,{"$f":"IF($G$4=Dates1!$B$3,Datapack!F226,IF($G$4=Dates1!$B$4,Datapack!L226,IF($G$4=Dates1!$B$5,Datapack!R226,IF($G$4=Dates1!$B$6,Datapack!X226,))))","v":0}]
[null,"Sunderland",null,null,null,{"$f":"IF($G$4=Dates1!$B$3,Datapack!B227,IF($G$4=Dates1!$B$4,Datapack!H227,IF($G$4=Dates1!$B$5,Datapack!N227,IF($G$4=Dates1!$B$6,Datapack!T227,))))","v":3},null,{"$f":"IF($G$4=Dates1!$B$3,Datapack!C227,IF($G$4=Dates1!$B$4,Datapack!I227,IF($G$4=Dates1!$B$5,Datapack!O227,IF($G$4=Dates1!$B$6,Datapack!U227,))))","v":0},null,{"$f":"IF($G$4=Dates1!$B$3,Datapack!D227,IF($G$4=Dates1!$B$4,Datapack!J227,IF($G$4=Dates1!$B$5,Datapack!P227,IF($G$4=Dates1!$B$6,Datapack!V227,))))","v":3},null,{"$f":"IF($G$4=Dates1!$B$3,Datapack!E227,IF($G$4=Dates1!$B$4,Datapack!K227,IF($G$4=Dates1!$B$5,Datapack!Q227,IF($G$4=Dates1!$B$6,Datapack!W227,))))","v":0},null,{"$f":"IF($G$4=Dates1!$B$3,Datapack!F227,IF($G$4=Dates1!$B$4,Datapack!L227,IF($G$4=Dates1!$B$5,Datapack!R227,IF($G$4=Dates1!$B$6,Datapack!X227,))))","v":0}]
[]
[null,"NORTH WEST",null,null,null,{"$f":"SUM(F25:F47)","v":102},null,{"$f":"SUM(H25:H47)","v":13},null,50,null,39,null,0]
[null,"Blackburn with Darwen",null,null,null,{"$f":"IF($G$4=Dates1!$B$3,Datapack!B230,IF($G$4=Dates1!$B$4,Datapack!H230,IF($G$4=Dates1!$B$5,Datapack!N230,IF($G$4=Dates1!$B$6,Datapack!T230,))))","v":4},null,{"$f":"IF($G$4=Dates1!$B$3,Datapack!C230,IF($G$4=Dates1!$B$4,Datapack!I230,IF($G$4=Dates1!$B$5,Datapack!O230,IF($G$4=Dates1!$B$6,Datapack!U230,))))","v":0},null,{"$f":"IF($G$4=Dates1!$B$3,Datapack!D230,IF($G$4=Dates1!$B$4,Datapack!J230,IF($G$4=Dates1!$B$5,Datapack!P230,IF($G$4=Dates1!$B$6,Datapack!V230,))))","v":4},null,{"$f":"IF($G$4=Dates1!$B$3,Datapack!E230,IF($G$4=Dates1!$B$4,Datapack!K230,IF($G$4=Dates1!$B$5,Datapack!Q230,IF($G$4=Dates1!$B$6,Datapack!W230,))))","v":0},null,{"$f":"IF($G$4=Dates1!$B$3,Datapack!F230,IF($G$4=Dates1!$B$4,Datapack!L230,IF($G$4=Dates1!$B$5,Datapack!R230,IF($G$4=Dates1!$B$6,Datapack!X230,))))","v":0}]
[null,"Blackpool",null,null,null,{"$f":"IF($G$4=Dates1!$B$3,Datapack!B231,IF($G$4=Dates1!$B$4,Datapack!H231,IF($G$4=Dates1!$B$5,Datapack!N231,IF($G$4=Dates1!$B$6,Datapack!T231,))))","v":3},null,{"$f":"IF($G$4=Dates1!$B$3,Datapack!C231,IF($G$4=Dates1!$B$4,Datapack!I231,IF($G$4=Dates1!$B$5,Datapack!O231,IF($G$4=Dates1!$B$6,Datapack!U231,))))","v":2},null,{"$f":"IF($G$4=Dates1!$B$3,Datapack!D231,IF($G$4=Dates1!$B$4,Datapack!J231,IF($G$4=Dates1!$B$5,Datapack!P231,IF($G$4=Dates1!$B$6,Datapack!V231,))))","v":1},null,{"$f":"IF($G$4=Dates1!$B$3,Datapack!E231,IF($G$4=Dates1!$B$4,Datapack!K231,IF($G$4=Dates1!$B$5,Datapack!Q231,IF($G$4=Dates1!$B$6,Datapack!W231,))))","v":0},null,{"$f":"IF($G$4=Dates1!$B$3,Datapack!F231,IF($G$4=Dates1!$B$4,Datapack!L231,IF($G$4=Dates1!$B$5,Datapack!R231,IF($G$4=Dates1!$B$6,Datapack!X231,))))","v":0}]
[null,"Bolton",null,null,null,{"$f":"IF($G$4=Dates1!$B$3,Datapack!B232,IF($G$4=Dates1!$B$4,Datapack!H232,IF($G$4=Dates1!$B$5,Datapack!N232,IF($G$4=Dates1!$B$6,Datapack!T232,))))","v":4},null,{"$f":"IF($G$4=Dates1!$B$3,Datapack!C232,IF($G$4=Dates1!$B$4,Datapack!I232,IF($G$4=Dates1!$B$5,Datapack!O232,IF($G$4=Dates1!$B$6,Datapack!U232,))))","v":0},null,{"$f":"IF($G$4=Dates1!$B$3,Datapack!D232,IF($G$4=Dates1!$B$4,Datapack!J232,IF($G$4=Dates1!$B$5,Datapack!P232,IF($G$4=Dates1!$B$6,Datapack!V232,))))","v":1},null,{"$f":"IF($G$4=Dates1!$B$3,Datapack!E232,IF($G$4=Dates1!$B$4,Datapack!K232,IF($G$4=Dates1!$B$5,Datapack!Q232,IF($G$4=Dates1!$B$6,Datapack!W232,))))","v":3},null,{"$f":"IF($G$4=Dates1!$B$3,Datapack!F232,IF($G$4=Dates1!$B$4,Datapack!L232,IF($G$4=Dates1!$B$5,Datapack!R232,IF($G$4=Dates1!$B$6,Datapack!X232,))))","v":0}]
[null,"Bury",null,null,null,{"$f":"IF($G$4=Dates1!$B$3,Datapack!B233,IF($G$4=Dates1!$B$4,Datapack!H233,IF($G$4=Dates1!$B$5,Datapack!N233,IF($G$4=Dates1!$B$6,Datapack!T233,))))","v":3},null,{"$f":"IF($G$4=Dates1!$B$3,Datapack!C233,IF($G$4=Dates1!$B$4,Datapack!I233,IF($G$4=Dates1!$B$5,Datapack!O233,IF($G$4=Dates1!$B$6,Datapack!U233,))))","v":0},null,{"$f":"IF($G$4=Dates1!$B$3,Datapack!D233,IF($G$4=Dates1!$B$4,Datapack!J233,IF($G$4=Dates1!$B$5,Datapack!P233,IF($G$4=Dates1!$B$6,Datapack!V233,))))","v":0},null,{"$f":"IF($G$4=Dates1!$B$3,Datapack!E233,IF($G$4=Dates1!$B$4,Datapack!K233,IF($G$4=Dates1!$B$5,Datapack!Q233,IF($G$4=Dates1!$B$6,Datapack!W233,))))","v":3},null,{"$f":"IF($G$4=Dates1!$B$3,Datapack!F233,IF($G$4=Dates1!$B$4,Datapack!L233,IF($G$4=Dates1!$B$5,Datapack!R233,IF($G$4=Dates1!$B$6,Datapack!X233,))))","v":0}]
[null,"Cheshire East",null,null,null,{"$f":"IF($G$4=Dates1!$B$3,Datapack!B234,IF($G$4=Dates1!$B$4,Datapack!H234,IF($G$4=Dates1!$B$5,Datapack!N234,IF($G$4=Dates1!$B$6,Datapack!T234,))))","v":2},null,{"$f":"IF($G$4=Dates1!$B$3,Datapack!C234,IF($G$4=Dates1!$B$4,Datapack!I234,IF($G$4=Dates1!$B$5,Datapack!O234,IF($G$4=Dates1!$B$6,Datapack!U234,))))","v":0},null,{"$f":"IF($G$4=Dates1!$B$3,Datapack!D234,IF($G$4=Dates1!$B$4,Datapack!J234,IF($G$4=Dates1!$B$5,Datapack!P234,IF($G$4=Dates1!$B$6,Datapack!V234,))))","v":1},null,{"$f":"IF($G$4=Dates1!$B$3,Datapack!E234,IF($G$4=Dates1!$B$4,Datapack!K234,IF($G$4=Dates1!$B$5,Datapack!Q234,IF($G$4=Dates1!$B$6,Datapack!W234,))))","v":1},null,{"$f":"IF($G$4=Dates1!$B$3,Datapack!F234,IF($G$4=Dates1!$B$4,Datapack!L234,IF($G$4=Dates1!$B$5,Datapack!R234,IF($G$4=Dates1!$B$6,Datapack!X234,))))","v":0}]
[null,"Cheshire West and Chester",null,null,null,{"$f":"IF($G$4=Dates1!$B$3,Datapack!B235,IF($G$4=Dates1!$B$4,Datapack!H235,IF($G$4=Dates1!$B$5,Datapack!N235,IF($G$4=Dates1!$B$6,Datapack!T235,))))","v":2},null,{"$f":"IF($G$4=Dates1!$B$3,Datapack!C235,IF($G$4=Dates1!$B$4,Datapack!I235,IF($G$4=Dates1!$B$5,Datapack!O235,IF($G$4=Dates1!$B$6,Datapack!U235,))))","v":0},null,{"$f":"IF($G$4=Dates1!$B$3,Datapack!D235,IF($G$4=Dates1!$B$4,Datapack!J235,IF($G$4=Dates1!$B$5,Datapack!P235,IF($G$4=Dates1!$B$6,Datapack!V235,))))","v":1},null,{"$f":"IF($G$4=Dates1!$B$3,Datapack!E235,IF($G$4=Dates1!$B$4,Datapack!K235,IF($G$4=Dates1!$B$5,Datapack!Q235,IF($G$4=Dates1!$B$6,Datapack!W235,))))","v":1},null,{"$f":"IF($G$4=Dates1!$B$3,Datapack!F235,IF($G$4=Dates1!$B$4,Datapack!L235,IF($G$4=Dates1!$B$5,Datapack!R235,IF($G$4=Dates1!$B$6,Datapack!X235,))))","v":0}]
[null,"Cumbria",null,null,null,{"$f":"IF($G$4=Dates1!$B$3,Datapack!B236,IF($G$4=Dates1!$B$4,Datapack!H236,IF($G$4=Dates1!$B$5,Datapack!N236,IF($G$4=Dates1!$B$6,Datapack!T236,))))","v":8},null,{"$f":"IF($G$4=Dates1!$B$3,Datapack!C236,IF($G$4=Dates1!$B$4,Datapack!I236,IF($G$4=Dates1!$B$5,Datapack!O236,IF($G$4=Dates1!$B$6,Datapack!U236,))))","v":2},null,{"$f":"IF($G$4=Dates1!$B$3,Datapack!D236,IF($G$4=Dates1!$B$4,Datapack!J236,IF($G$4=Dates1!$B$5,Datapack!P236,IF($G$4=Dates1!$B$6,Datapack!V236,))))","v":6},null,{"$f":"IF($G$4=Dates1!$B$3,Datapack!E236,IF($G$4=Dates1!$B$4,Datapack!K236,IF($G$4=Dates1!$B$5,Datapack!Q236,IF($G$4=Dates1!$B$6,Datapack!W236,))))","v":0},null,{"$f":"IF($G$4=Dates1!$B$3,Datapack!F236,IF($G$4=Dates1!$B$4,Datapack!L236,IF($G$4=Dates1!$B$5,Datapack!R236,IF($G$4=Dates1!$B$6,Datapack!X236,))))","v":0}]
[null,"Halton",null,null,null,{"$f":"IF($G$4=Dates1!$B$3,Datapack!B237,IF($G$4=Dates1!$B$4,Datapack!H237,IF($G$4=Dates1!$B$5,Datapack!N237,IF($G$4=Dates1!$B$6,Datapack!T237,))))","v":3},null,{"$f":"IF($G$4=Dates1!$B$3,Datapack!C237,IF($G$4=Dates1!$B$4,Datapack!I237,IF($G$4=Dates1!$B$5,Datapack!O237,IF($G$4=Dates1!$B$6,Datapack!U237,))))","v":0},null,{"$f":"IF($G$4=Dates1!$B$3,Datapack!D237,IF($G$4=Dates1!$B$4,Datapack!J237,IF($G$4=Dates1!$B$5,Datapack!P237,IF($G$4=Dates1!$B$6,Datapack!V237,))))","v":3},null,{"$f":"IF($G$4=Dates1!$B$3,Datapack!E237,IF($G$4=Dates1!$B$4,Datapack!K237,IF($G$4=Dates1!$B$5,Datapack!Q237,IF($G$4=Dates1!$B$6,Datapack!W237,))))","v":0},null,{"$f":"IF($G$4=Dates1!$B$3,Datapack!F237,IF($G$4=Dates1!$B$4,Datapack!L237,IF($G$4=Dates1!$B$5,Datapack!R237,IF($G$4=Dates1!$B$6,Datapack!X237,))))","v":0}]
[null,"Knowsley",null,null,null,{"$f":"IF($G$4=Dates1!$B$3,Datapack!B238,IF($G$4=Dates1!$B$4,Datapack!H238,IF($G$4=Dates1!$B$5,Datapack!N238,IF($G$4=Dates1!$B$6,Datapack!T238,))))","v":2},null,{"$f":"IF($G$4=Dates1!$B$3,Datapack!C238,IF($G$4=Dates1!$B$4,Datapack!I238,IF($G$4=Dates1!$B$5,Datapack!O238,IF($G$4=Dates1!$B$6,Datapack!U238,))))","v":0},null,{"$f":"IF($G$4=Dates1!$B$3,Datapack!D238,IF($G$4=Dates1!$B$4,Datapack!J238,IF($G$4=Dates1!$B$5,Datapack!P238,IF($G$4=Dates1!$B$6,Datapack!V238,))))","v":2},null,{"$f":"IF($G$4=Dates1!$B$3,Datapack!E238,IF($G$4=Dates1!$B$4,Datapack!K238,IF($G$4=Dates1!$B$5,Datapack!Q238,IF($G$4=Dates1!$B$6,Datapack!W238,))))","v":0},null,{"$f":"IF($G$4=Dates1!$B$3,Datapack!F238,IF($G$4=Dates1!$B$4,Datapack!L238,IF($G$4=Dates1!$B$5,Datapack!R238,IF($G$4=Dates1!$B$6,Datapack!X238,))))","v":0}]
[null,"Lancashire",null,null,null,{"$f":"IF($G$4=Dates1!$B$3,Datapack!B239,IF($G$4=Dates1!$B$4,Datapack!H239,IF($G$4=Dates1!$B$5,Datapack!N239,IF($G$4=Dates1!$B$6,Datapack!T239,))))","v":20},null,{"$f":"IF($G$4=Dates1!$B$3,Datapack!C239,IF($G$4=Dates1!$B$4,Datapack!I239,IF($G$4=Dates1!$B$5,Datapack!O239,IF($G$4=Dates1!$B$6,Datapack!U239,))))","v":7},null,{"$f":"IF($G$4=Dates1!$B$3,Datapack!D239,IF($G$4=Dates1!$B$4,Datapack!J239,IF($G$4=Dates1!$B$5,Datapack!P239,IF($G$4=Dates1!$B$6,Datapack!V239,))))","v":10},null,{"$f":"IF($G$4=Dates1!$B$3,Datapack!E239,IF($G$4=Dates1!$B$4,Datapack!K239,IF($G$4=Dates1!$B$5,Datapack!Q239,IF($G$4=Dates1!$B$6,Datapack!W239,))))","v":3},null,{"$f":"IF($G$4=Dates1!$B$3,Datapack!F239,IF($G$4=Dates1!$B$4,Datapack!L239,IF($G$4=Dates1!$B$5,Datapack!R239,IF($G$4=Dates1!$B$6,Datapack!X239,))))","v":0}]
[null,"Liverpool",null,null,null,{"$f":"IF($G$4=Dates1!$B$3,Datapack!B240,IF($G$4=Dates1!$B$4,Datapack!H240,IF($G$4=Dates1!$B$5,Datapack!N240,IF($G$4=Dates1!$B$6,Datapack!T240,))))","v":8},null,{"$f":"IF($G$4=Dates1!$B$3,Datapack!C240,IF($G$4=Dates1!$B$4,Datapack!I240,IF($G$4=Dates1!$B$5,Datapack!O240,IF($G$4=Dates1!$B$6,Datapack!U240,))))","v":2},null,{"$f":"IF($G$4=Dates1!$B$3,Datapack!D240,IF($G$4=Dates1!$B$4,Datapack!J240,IF($G$4=Dates1!$B$5,Datapack!P240,IF($G$4=Dates1!$B$6,Datapack!V240,))))","v":6},null,{"$f":"IF($G$4=Dates1!$B$3,Datapack!E240,IF($G$4=Dates1!$B$4,Datapack!K240,IF($G$4=Dates1!$B$5,Datapack!Q240,IF($G$4=Dates1!$B$6,Datapack!W240,))))","v":0},null,{"$f":"IF($G$4=Dates1!$B$3,Datapack!F240,IF($G$4=Dates1!$B$4,Datapack!L240,IF($G$4=Dates1!$B$5,Datapack!R240,IF($G$4=Dates1!$B$6,Datapack!X240,))))","v":0}]
[null,"Manchester",null,null,null,{"$f":"IF($G$4=Dates1!$B$3,Datapack!B241,IF($G$4=Dates1!$B$4,Datapack!H241,IF($G$4=Dates1!$B$5,Datapack!N241,IF($G$4=Dates1!$B$6,Datapack!T241,))))","v":8},null,{"$f":"IF($G$4=Dates1!$B$3,Datapack!C241,IF($G$4=Dates1!$B$4,Datapack!I241,IF($G$4=Dates1!$B$5,Datapack!O241,IF($G$4=Dates1!$B$6,Datapack!U241,))))","v":0},null,{"$f":"IF($G$4=Dates1!$B$3,Datapack!D241,IF($G$4=Dates1!$B$4,Datapack!J241,IF($G$4=Dates1!$B$5,Datapack!P241,IF($G$4=Dates1!$B$6,Datapack!V241,))))","v":2},null,{"$f":"IF($G$4=Dates1!$B$3,Datapack!E241,IF($G$4=Dates1!$B$4,Datapack!K241,IF($G$4=Dates1!$B$5,Datapack!Q241,IF($G$4=Dates1!$B$6,Datapack!W241,))))","v":6},null,{"$f":"IF($G$4=Dates1!$B$3,Datapack!F241,IF($G$4=Dates1!$B$4,Datapack!L241,IF($G$4=Dates1!$B$5,Datapack!R241,IF($G$4=Dates1!$B$6,Datapack!X241,))))","v":0}]
[null,"Oldham",null,null,null,{"$f":"IF($G$4=Dates1!$B$3,Datapack!B242,IF($G$4=Dates1!$B$4,Datapack!H242,IF($G$4=Dates1!$B$5,Datapack!N242,IF($G$4=Dates1!$B$6,Datapack!T242,))))","v":2},null,{"$f":"IF($G$4=Dates1!$B$3,Datapack!C242,IF($G$4=Dates1!$B$4,Datapack!I242,IF($G$4=Dates1!$B$5,Datapack!O242,IF($G$4=Dates1!$B$6,Datapack!U242,))))","v":0},null,{"$f":"IF($G$4=Dates1!$B$3,Datapack!D242,IF($G$4=Dates1!$B$4,Datapack!J242,IF($G$4=Dates1!$B$5,Datapack!P242,IF($G$4=Dates1!$B$6,Datapack!V242,))))","v":2},null,{"$f":"IF($G$4=Dates1!$B$3,Datapack!E242,IF($G$4=Dates1!$B$4,Datapack!K242,IF($G$4=Dates1!$B$5,Datapack!Q242,IF($G$4=Dates1!$B$6,Datapack!W242,))))","v":0},null,{"$f":"IF($G$4=Dates1!$B$3,Datapack!F242,IF($G$4=Dates1!$B$4,Datapack!L242,IF($G$4=Dates1!$B$5,Datapack!R242,IF($G$4=Dates1!$B$6,Datapack!X242,))))","v":0}]
[null,"Rochdale",null,null,null,{"$f":"IF($G$4=Dates1!$B$3,Datapack!B243,IF($G$4=Dates1!$B$4,Datapack!H243,IF($G$4=Dates1!$B$5,Datapack!N243,IF($G$4=Dates1!$B$6,Datapack!T243,))))","v":4},null,{"$f":"IF($G$4=Dates1!$B$3,Datapack!C243,IF($G$4=Dates1!$B$4,Datapack!I243,IF($G$4=Dates1!$B$5,Datapack!O243,IF($G$4=Dates1!$B$6,Datapack!U243,))))","v":0},null,{"$f":"IF($G$4=Dates1!$B$3,Datapack!D243,IF($G$4=Dates1!$B$4,Datapack!J243,IF($G$4=Dates1!$B$5,Datapack!P243,IF($G$4=Dates1!$B$6,Datapack!V243,))))","v":0},null,{"$f":"IF($G$4=Dates1!$B$3,Datapack!E243,IF($G$4=Dates1!$B$4,Datapack!K243,IF($G$4=Dates1!$B$5,Datapack!Q243,IF($G$4=Dates1!$B$6,Datapack!W243,))))","v":4},null,{"$f":"IF($G$4=Dates1!$B$3,Datapack!F243,IF($G$4=Dates1!$B$4,Datapack!L243,IF($G$4=Dates1!$B$5,Datapack!R243,IF($G$4=Dates1!$B$6,Datapack!X243,))))","v":0}]
[null,"Salford",null,null,null,{"$f":"IF($G$4=Dates1!$B$3,Datapack!B244,IF($G$4=Dates1!$B$4,Datapack!H244,IF($G$4=Dates1!$B$5,Datapack!N244,IF($G$4=Dates1!$B$6,Datapack!T244,))))","v":2},null,{"$f":"IF($G$4=Dates1!$B$3,Datapack!C244,IF($G$4=Dates1!$B$4,Datapack!I244,IF($G$4=Dates1!$B$5,Datapack!O244,IF($G$4=Dates1!$B$6,Datapack!U244,))))","v":0},null,{"$f":"IF($G$4=Dates1!$B$3,Datapack!D244,IF($G$4=Dates1!$B$4,Datapack!J244,IF($G$4=Dates1!$B$5,Datapack!P244,IF($G$4=Dates1!$B$6,Datapack!V244,))))","v":1},null,{"$f":"IF($G$4=Dates1!$B$3,Datapack!E244,IF($G$4=Dates1!$B$4,Datapack!K244,IF($G$4=Dates1!$B$5,Datapack!Q244,IF($G$4=Dates1!$B$6,Datapack!W244,))))","v":1},null,{"$f":"IF($G$4=Dates1!$B$3,Datapack!F244,IF($G$4=Dates1!$B$4,Datapack!L244,IF($G$4=Dates1!$B$5,Datapack!R244,IF($G$4=Dates1!$B$6,Datapack!X244,))))","v":0}]
[null,"Sefton",null,null,null,{"$f":"IF($G$4=Dates1!$B$3,Datapack!B245,IF($G$4=Dates1!$B$4,Datapack!H245,IF($G$4=Dates1!$B$5,Datapack!N245,IF($G$4=Dates1!$B$6,Datapack!T245,))))","v":2},null,{"$f":"IF($G$4=Dates1!$B$3,Datapack!C245,IF($G$4=Dates1!$B$4,Datapack!I245,IF($G$4=Dates1!$B$5,Datapack!O245,IF($G$4=Dates1!$B$6,Datapack!U245,))))","v":0},null,{"$f":"IF($G$4=Dates1!$B$3,Datapack!D245,IF($G$4=Dates1!$B$4,Datapack!J245,IF($G$4=Dates1!$B$5,Datapack!P245,IF($G$4=Dates1!$B$6,Datapack!V245,))))","v":2},null,{"$f":"IF($G$4=Dates1!$B$3,Datapack!E245,IF($G$4=Dates1!$B$4,Datapack!K245,IF($G$4=Dates1!$B$5,Datapack!Q245,IF($G$4=Dates1!$B$6,Datapack!W245,))))","v":0},null,{"$f":"IF($G$4=Dates1!$B$3,Datapack!F245,IF($G$4=Dates1!$B$4,Datapack!L245,IF($G$4=Dates1!$B$5,Datapack!R245,IF($G$4=Dates1!$B$6,Datapack!X245,))))","v":0}]
[null,"St. Helens",null,null,null,{"$f":"IF($G$4=Dates1!$B$3,Datapack!B246,IF($G$4=Dates1!$B$4,Datapack!H246,IF($G$4=Dates1!$B$5,Datapack!N246,IF($G$4=Dates1!$B$6,Datapack!T246,))))","v":4},null,{"$f":"IF($G$4=Dates1!$B$3,Datapack!C246,IF($G$4=Dates1!$B$4,Datapack!I246,IF($G$4=Dates1!$B$5,Datapack!O246,IF($G$4=Dates1!$B$6,Datapack!U246,))))","v":0},null,{"$f":"IF($G$4=Dates1!$B$3,Datapack!D246,IF($G$4=Dates1!$B$4,Datapack!J246,IF($G$4=Dates1!$B$5,Datapack!P246,IF($G$4=Dates1!$B$6,Datapack!V246,))))","v":0},null,{"$f":"IF($G$4=Dates1!$B$3,Datapack!E246,IF($G$4=Dates1!$B$4,Datapack!K246,IF($G$4=Dates1!$B$5,Datapack!Q246,IF($G$4=Dates1!$B$6,Datapack!W246,))))","v":4},null,{"$f":"IF($G$4=Dates1!$B$3,Datapack!F246,IF($G$4=Dates1!$B$4,Datapack!L246,IF($G$4=Dates1!$B$5,Datapack!R246,IF($G$4=Dates1!$B$6,Datapack!X246,))))","v":0}]
[null,"Stockport",null,null,null,{"$f":"IF($G$4=Dates1!$B$3,Datapack!B247,IF($G$4=Dates1!$B$4,Datapack!H247,IF($G$4=Dates1!$B$5,Datapack!N247,IF($G$4=Dates1!$B$6,Datapack!T247,))))","v":2},null,{"$f":"IF($G$4=Dates1!$B$3,Datapack!C247,IF($G$4=Dates1!$B$4,Datapack!I247,IF($G$4=Dates1!$B$5,Datapack!O247,IF($G$4=Dates1!$B$6,Datapack!U247,))))","v":0},null,{"$f":"IF($G$4=Dates1!$B$3,Datapack!D247,IF($G$4=Dates1!$B$4,Datapack!J247,IF($G$4=Dates1!$B$5,Datapack!P247,IF($G$4=Dates1!$B$6,Datapack!V247,))))","v":1},null,{"$f":"IF($G$4=Dates1!$B$3,Datapack!E247,IF($G$4=Dates1!$B$4,Datapack!K247,IF($G$4=Dates1!$B$5,Datapack!Q247,IF($G$4=Dates1!$B$6,Datapack!W247,))))","v":1},null,{"$f":"IF($G$4=Dates1!$B$3,Datapack!F247,IF($G$4=Dates1!$B$4,Datapack!L247,IF($G$4=Dates1!$B$5,Datapack!R247,IF($G$4=Dates1!$B$6,Datapack!X247,))))","v":0}]
[null,"Tameside",null,null,null,{"$f":"IF($G$4=Dates1!$B$3,Datapack!B248,IF($G$4=Dates1!$B$4,Datapack!H248,IF($G$4=Dates1!$B$5,Datapack!N248,IF($G$4=Dates1!$B$6,Datapack!T248,))))","v":5},null,{"$f":"IF($G$4=Dates1!$B$3,Datapack!C248,IF($G$4=Dates1!$B$4,Datapack!I248,IF($G$4=Dates1!$B$5,Datapack!O248,IF($G$4=Dates1!$B$6,Datapack!U248,))))","v":0},null,{"$f":"IF($G$4=Dates1!$B$3,Datapack!D248,IF($G$4=Dates1!$B$4,Datapack!J248,IF($G$4=Dates1!$B$5,Datapack!P248,IF($G$4=Dates1!$B$6,Datapack!V248,))))","v":0},null,{"$f":"IF($G$4=Dates1!$B$3,Datapack!E248,IF($G$4=Dates1!$B$4,Datapack!K248,IF($G$4=Dates1!$B$5,Datapack!Q248,IF($G$4=Dates1!$B$6,Datapack!W248,))))","v":5},null,{"$f":"IF($G$4=Dates1!$B$3,Datapack!F248,IF($G$4=Dates1!$B$4,Datapack!L248,IF($G$4=Dates1!$B$5,Datapack!R248,IF($G$4=Dates1!$B$6,Datapack!X248,))))","v":0}]
[null,"Trafford",null,null,null,{"$f":"IF($G$4=Dates1!$B$3,Datapack!B249,IF($G$4=Dates1!$B$4,Datapack!H249,IF($G$4=Dates1!$B$5,Datapack!N249,IF($G$4=Dates1!$B$6,Datapack!T249,))))","v":3},null,{"$f":"IF($G$4=Dates1!$B$3,Datapack!C249,IF($G$4=Dates1!$B$4,Datapack!I249,IF($G$4=Dates1!$B$5,Datapack!O249,IF($G$4=Dates1!$B$6,Datapack!U249,))))","v":0},null,{"$f":"IF($G$4=Dates1!$B$3,Datapack!D249,IF($G$4=Dates1!$B$4,Datapack!J249,IF($G$4=Dates1!$B$5,Datapack!P249,IF($G$4=Dates1!$B$6,Datapack!V249,))))","v":1},null,{"$f":"IF($G$4=Dates1!$B$3,Datapack!E249,IF($G$4=Dates1!$B$4,Datapack!K249,IF($G$4=Dates1!$B$5,Datapack!Q249,IF($G$4=Dates1!$B$6,Datapack!W249,))))","v":2},null,{"$f":"IF($G$4=Dates1!$B$3,Datapack!F249,IF($G$4=Dates1!$B$4,Datapack!L249,IF($G$4=Dates1!$B$5,Datapack!R249,IF($G$4=Dates1!$B$6,Datapack!X249,))))","v":0}]
[null,"Warrington",null,null,null,{"$f":"IF($G$4=Dates1!$B$3,Datapack!B250,IF($G$4=Dates1!$B$4,Datapack!H250,IF($G$4=Dates1!$B$5,Datapack!N250,IF($G$4=Dates1!$B$6,Datapack!T250,))))","v":1},null,{"$f":"IF($G$4=Dates1!$B$3,Datapack!C250,IF($G$4=Dates1!$B$4,Datapack!I250,IF($G$4=Dates1!$B$5,Datapack!O250,IF($G$4=Dates1!$B$6,Datapack!U250,))))","v":0},null,{"$f":"IF($G$4=Dates1!$B$3,Datapack!D250,IF($G$4=Dates1!$B$4,Datapack!J250,IF($G$4=Dates1!$B$5,Datapack!P250,IF($G$4=Dates1!$B$6,Datapack!V250,))))","v":1},null,{"$f":"IF($G$4=Dates1!$B$3,Datapack!E250,IF($G$4=Dates1!$B$4,Datapack!K250,IF($G$4=Dates1!$B$5,Datapack!Q250,IF($G$4=Dates1!$B$6,Datapack!W250,))))","v":0},null,{"$f":"IF($G$4=Dates1!$B$3,Datapack!F250,IF($G$4=Dates1!$B$4,Datapack!L250,IF($G$4=Dates1!$B$5,Datapack!R250,IF($G$4=Dates1!$B$6,Datapack!X250,))))","v":0}]
[null,"Wigan",null,null,null,{"$f":"IF($G$4=Dates1!$B$3,Datapack!B251,IF($G$4=Dates1!$B$4,Datapack!H251,IF($G$4=Dates1!$B$5,Datapack!N251,IF($G$4=Dates1!$B$6,Datapack!T251,))))","v":4},null,{"$f":"IF($G$4=Dates1!$B$3,Datapack!C251,IF($G$4=Dates1!$B$4,Datapack!I251,IF($G$4=Dates1!$B$5,Datapack!O251,IF($G$4=Dates1!$B$6,Datapack!U251,))))","v":0},null,{"$f":"IF($G$4=Dates1!$B$3,Datapack!D251,IF($G$4=Dates1!$B$4,Datapack!J251,IF($G$4=Dates1!$B$5,Datapack!P251,IF($G$4=Dates1!$B$6,Datapack!V251,))))","v":1},null,{"$f":"IF($G$4=Dates1!$B$3,Datapack!E251,IF($G$4=Dates1!$B$4,Datapack!K251,IF($G$4=Dates1!$B$5,Datapack!Q251,IF($G$4=Dates1!$B$6,Datapack!W251,))))","v":3},null,{"$f":"IF($G$4=Dates1!$B$3,Datapack!F251,IF($G$4=Dates1!$B$4,Datapack!L251,IF($G$4=Dates1!$B$5,Datapack!R251,IF($G$4=Dates1!$B$6,Datapack!X251,))))","v":0}]
[null,"Wirral",null,null,null,{"$f":"IF($G$4=Dates1!$B$3,Datapack!B252,IF($G$4=Dates1!$B$4,Datapack!H252,IF($G$4=Dates1!$B$5,Datapack!N252,IF($G$4=Dates1!$B$6,Datapack!T252,))))","v":6},null,{"$f":"IF($G$4=Dates1!$B$3,Datapack!C252,IF($G$4=Dates1!$B$4,Datapack!I252,IF($G$4=Dates1!$B$5,Datapack!O252,IF($G$4=Dates1!$B$6,Datapack!U252,))))","v":0},null,{"$f":"IF($G$4=Dates1!$B$3,Datapack!D252,IF($G$4=Dates1!$B$4,Datapack!J252,IF($G$4=Dates1!$B$5,Datapack!P252,IF($G$4=Dates1!$B$6,Datapack!V252,))))","v":4},null,{"$f":"IF($G$4=Dates1!$B$3,Datapack!E252,IF($G$4=Dates1!$B$4,Datapack!K252,IF($G$4=Dates1!$B$5,Datapack!Q252,IF($G$4=Dates1!$B$6,Datapack!W252,))))","v":2},null,{"$f":"IF($G$4=Dates1!$B$3,Datapack!F252,IF($G$4=Dates1!$B$4,Datapack!L252,IF($G$4=Dates1!$B$5,Datapack!R252,IF($G$4=Dates1!$B$6,Datapack!X252,))))","v":0}]
[]
[null,"YORKSHIRE AND THE HUMBER",null,null,null,{"$f":"SUM(F50:F64)","v":78},null,{"$f":"SUM(H50:H64)","v":4},null,48,null,23,null,3]
[null,"Barnsley",null,null,null,{"$f":"IF($G$4=Dates1!$B$3,Datapack!B255,IF($G$4=Dates1!$B$4,Datapack!H255,IF($G$4=Dates1!$B$5,Datapack!N255,IF($G$4=Dates1!$B$6,Datapack!T255,))))","v":1},null,{"$f":"IF($G$4=Dates1!$B$3,Datapack!C255,IF($G$4=Dates1!$B$4,Datapack!I255,IF($G$4=Dates1!$B$5,Datapack!O255,IF($G$4=Dates1!$B$6,Datapack!U255,))))","v":0},null,{"$f":"IF($G$4=Dates1!$B$3,Datapack!D255,IF($G$4=Dates1!$B$4,Datapack!J255,IF($G$4=Dates1!$B$5,Datapack!P255,IF($G$4=Dates1!$B$6,Datapack!V255,))))","v":0},null,{"$f":"IF($G$4=Dates1!$B$3,Datapack!E255,IF($G$4=Dates1!$B$4,Datapack!K255,IF($G$4=Dates1!$B$5,Datapack!Q255,IF($G$4=Dates1!$B$6,Datapack!W255,))))","v":1},null,{"$f":"IF($G$4=Dates1!$B$3,Datapack!F255,IF($G$4=Dates1!$B$4,Datapack!L255,IF($G$4=Dates1!$B$5,Datapack!R255,IF($G$4=Dates1!$B$6,Datapack!X255,))))","v":0}]
[null,"Bradford",null,null,null,{"$f":"IF($G$4=Dates1!$B$3,Datapack!B256,IF($G$4=Dates1!$B$4,Datapack!H256,IF($G$4=Dates1!$B$5,Datapack!N256,IF($G$4=Dates1!$B$6,Datapack!T256,))))","v":8},null,{"$f":"IF($G$4=Dates1!$B$3,Datapack!C256,IF($G$4=Dates1!$B$4,Datapack!I256,IF($G$4=Dates1!$B$5,Datapack!O256,IF($G$4=Dates1!$B$6,Datapack!U256,))))","v":1},null,{"$f":"IF($G$4=Dates1!$B$3,Datapack!D256,IF($G$4=Dates1!$B$4,Datapack!J256,IF($G$4=Dates1!$B$5,Datapack!P256,IF($G$4=Dates1!$B$6,Datapack!V256,))))","v":6},null,{"$f":"IF($G$4=Dates1!$B$3,Datapack!E256,IF($G$4=Dates1!$B$4,Datapack!K256,IF($G$4=Dates1!$B$5,Datapack!Q256,IF($G$4=Dates1!$B$6,Datapack!W256,))))","v":0},null,{"$f":"IF($G$4=Dates1!$B$3,Datapack!F256,IF($G$4=Dates1!$B$4,Datapack!L256,IF($G$4=Dates1!$B$5,Datapack!R256,IF($G$4=Dates1!$B$6,Datapack!X256,))))","v":1}]
[null,"Calderdale",null,null,null,{"$f":"IF($G$4=Dates1!$B$3,Datapack!B257,IF($G$4=Dates1!$B$4,Datapack!H257,IF($G$4=Dates1!$B$5,Datapack!N257,IF($G$4=Dates1!$B$6,Datapack!T257,))))","v":3},null,{"$f":"IF($G$4=Dates1!$B$3,Datapack!C257,IF($G$4=Dates1!$B$4,Datapack!I257,IF($G$4=Dates1!$B$5,Datapack!O257,IF($G$4=Dates1!$B$6,Datapack!U257,))))","v":0},null,{"$f":"IF($G$4=Dates1!$B$3,Datapack!D257,IF($G$4=Dates1!$B$4,Datapack!J257,IF($G$4=Dates1!$B$5,Datapack!P257,IF($G$4=Dates1!$B$6,Datapack!V257,))))","v":0},null,{"$f":"IF($G$4=Dates1!$B$3,Datapack!E257,IF($G$4=Dates1!$B$4,Datapack!K257,IF($G$4=Dates1!$B$5,Datapack!Q257,IF($G$4=Dates1!$B$6,Datapack!W257,))))","v":3},null,{"$f":"IF($G$4=Dates1!$B$3,Datapack!F257,IF($G$4=Dates1!$B$4,Datapack!L257,IF($G$4=Dates1!$B$5,Datapack!R257,IF($G$4=Dates1!$B$6,Datapack!X257,))))","v":0}]
[null,"Doncaster",null,null,null,{"$f":"IF($G$4=Dates1!$B$3,Datapack!B258,IF($G$4=Dates1!$B$4,Datapack!H258,IF($G$4=Dates1!$B$5,Datapack!N258,IF($G$4=Dates1!$B$6,Datapack!T258,))))","v":7},null,{"$f":"IF($G$4=Dates1!$B$3,Datapack!C258,IF($G$4=Dates1!$B$4,Datapack!I258,IF($G$4=Dates1!$B$5,Datapack!O258,IF($G$4=Dates1!$B$6,Datapack!U258,))))","v":0},null,{"$f":"IF($G$4=Dates1!$B$3,Datapack!D258,IF($G$4=Dates1!$B$4,Datapack!J258,IF($G$4=Dates1!$B$5,Datapack!P258,IF($G$4=Dates1!$B$6,Datapack!V258,))))","v":3},null,{"$f":"IF($G$4=Dates1!$B$3,Datapack!E258,IF($G$4=Dates1!$B$4,Datapack!K258,IF($G$4=Dates1!$B$5,Datapack!Q258,IF($G$4=Dates1!$B$6,Datapack!W258,))))","v":3},null,{"$f":"IF($G$4=Dates1!$B$3,Datapack!F258,IF($G$4=Dates1!$B$4,Datapack!L258,IF($G$4=Dates1!$B$5,Datapack!R258,IF($G$4=Dates1!$B$6,Datapack!X258,))))","v":1}]
[null,"East Riding of Yorkshire",null,null,null,{"$f":"IF($G$4=Dates1!$B$3,Datapack!B259,IF($G$4=Dates1!$B$4,Datapack!H259,IF($G$4=Dates1!$B$5,Datapack!N259,IF($G$4=Dates1!$B$6,Datapack!T259,))))","v":2},null,{"$f":"IF($G$4=Dates1!$B$3,Datapack!C259,IF($G$4=Dates1!$B$4,Datapack!I259,IF($G$4=Dates1!$B$5,Datapack!O259,IF($G$4=Dates1!$B$6,Datapack!U259,))))","v":0},null,{"$f":"IF($G$4=Dates1!$B$3,Datapack!D259,IF($G$4=Dates1!$B$4,Datapack!J259,IF($G$4=Dates1!$B$5,Datapack!P259,IF($G$4=Dates1!$B$6,Datapack!V259,))))","v":2},null,{"$f":"IF($G$4=Dates1!$B$3,Datapack!E259,IF($G$4=Dates1!$B$4,Datapack!K259,IF($G$4=Dates1!$B$5,Datapack!Q259,IF($G$4=Dates1!$B$6,Datapack!W259,))))","v":0},null,{"$f":"IF($G$4=Dates1!$B$3,Datapack!F259,IF($G$4=Dates1!$B$4,Datapack!L259,IF($G$4=Dates1!$B$5,Datapack!R259,IF($G$4=Dates1!$B$6,Datapack!X259,))))","v":0}]
[null,"Kingston upon Hull City of",null,null,null,{"$f":"IF($G$4=Dates1!$B$3,Datapack!B260,IF($G$4=Dates1!$B$4,Datapack!H260,IF($G$4=Dates1!$B$5,Datapack!N260,IF($G$4=Dates1!$B$6,Datapack!T260,))))","v":4},null,{"$f":"IF($G$4=Dates1!$B$3,Datapack!C260,IF($G$4=Dates1!$B$4,Datapack!I260,IF($G$4=Dates1!$B$5,Datapack!O260,IF($G$4=Dates1!$B$6,Datapack!U260,))))","v":0},null,{"$f":"IF($G$4=Dates1!$B$3,Datapack!D260,IF($G$4=Dates1!$B$4,Datapack!J260,IF($G$4=Dates1!$B$5,Datapack!P260,IF($G$4=Dates1!$B$6,Datapack!V260,))))","v":1},null,{"$f":"IF($G$4=Dates1!$B$3,Datapack!E260,IF($G$4=Dates1!$B$4,Datapack!K260,IF($G$4=Dates1!$B$5,Datapack!Q260,IF($G$4=Dates1!$B$6,Datapack!W260,))))","v":3},null,{"$f":"IF($G$4=Dates1!$B$3,Datapack!F260,IF($G$4=Dates1!$B$4,Datapack!L260,IF($G$4=Dates1!$B$5,Datapack!R260,IF($G$4=Dates1!$B$6,Datapack!X260,))))","v":0}]
[null,"Kirklees",null,null,null,{"$f":"IF($G$4=Dates1!$B$3,Datapack!B261,IF($G$4=Dates1!$B$4,Datapack!H261,IF($G$4=Dates1!$B$5,Datapack!N261,IF($G$4=Dates1!$B$6,Datapack!T261,))))","v":8},null,{"$f":"IF($G$4=Dates1!$B$3,Datapack!C261,IF($G$4=Dates1!$B$4,Datapack!I261,IF($G$4=Dates1!$B$5,Datapack!O261,IF($G$4=Dates1!$B$6,Datapack!U261,))))","v":1},null,{"$f":"IF($G$4=Dates1!$B$3,Datapack!D261,IF($G$4=Dates1!$B$4,Datapack!J261,IF($G$4=Dates1!$B$5,Datapack!P261,IF($G$4=Dates1!$B$6,Datapack!V261,))))","v":7},null,{"$f":"IF($G$4=Dates1!$B$3,Datapack!E261,IF($G$4=Dates1!$B$4,Datapack!K261,IF($G$4=Dates1!$B$5,Datapack!Q261,IF($G$4=Dates1!$B$6,Datapack!W261,))))","v":0},null,{"$f":"IF($G$4=Dates1!$B$3,Datapack!F261,IF($G$4=Dates1!$B$4,Datapack!L261,IF($G$4=Dates1!$B$5,Datapack!R261,IF($G$4=Dates1!$B$6,Datapack!X261,))))","v":0}]
[null,"Leeds",null,null,null,{"$f":"IF($G$4=Dates1!$B$3,Datapack!B262,IF($G$4=Dates1!$B$4,Datapack!H262,IF($G$4=Dates1!$B$5,Datapack!N262,IF($G$4=Dates1!$B$6,Datapack!T262,))))","v":10},null,{"$f":"IF($G$4=Dates1!$B$3,Datapack!C262,IF($G$4=Dates1!$B$4,Datapack!I262,IF($G$4=Dates1!$B$5,Datapack!O262,IF($G$4=Dates1!$B$6,Datapack!U262,))))","v":0},null,{"$f":"IF($G$4=Dates1!$B$3,Datapack!D262,IF($G$4=Dates1!$B$4,Datapack!J262,IF($G$4=Dates1!$B$5,Datapack!P262,IF($G$4=Dates1!$B$6,Datapack!V262,))))","v":9},null,{"$f":"IF($G$4=Dates1!$B$3,Datapack!E262,IF($G$4=Dates1!$B$4,Datapack!K262,IF($G$4=Dates1!$B$5,Datapack!Q262,IF($G$4=Dates1!$B$6,Datapack!W262,))))","v":1},null,{"$f":"IF($G$4=Dates1!$B$3,Datapack!F262,IF($G$4=Dates1!$B$4,Datapack!L262,IF($G$4=Dates1!$B$5,Datapack!R262,IF($G$4=Dates1!$B$6,Datapack!X262,))))","v":0}]
[null,"North East Lincolnshire",null,null,null,{"$f":"IF($G$4=Dates1!$B$3,Datapack!B263,IF($G$4=Dates1!$B$4,Datapack!H263,IF($G$4=Dates1!$B$5,Datapack!N263,IF($G$4=Dates1!$B$6,Datapack!T263,))))","v":3},null,{"$f":"IF($G$4=Dates1!$B$3,Datapack!C263,IF($G$4=Dates1!$B$4,Datapack!I263,IF($G$4=Dates1!$B$5,Datapack!O263,IF($G$4=Dates1!$B$6,Datapack!U263,))))","v":2},null,{"$f":"IF($G$4=Dates1!$B$3,Datapack!D263,IF($G$4=Dates1!$B$4,Datapack!J263,IF($G$4=Dates1!$B$5,Datapack!P263,IF($G$4=Dates1!$B$6,Datapack!V263,))))","v":1},null,{"$f":"IF($G$4=Dates1!$B$3,Datapack!E263,IF($G$4=Dates1!$B$4,Datapack!K263,IF($G$4=Dates1!$B$5,Datapack!Q263,IF($G$4=Dates1!$B$6,Datapack!W263,))))","v":0},null,{"$f":"IF($G$4=Dates1!$B$3,Datapack!F263,IF($G$4=Dates1!$B$4,Datapack!L263,IF($G$4=Dates1!$B$5,Datapack!R263,IF($G$4=Dates1!$B$6,Datapack!X263,))))","v":0}]
[null,"North Lincolnshire",null,null,null,{"$f":"IF($G$4=Dates1!$B$3,Datapack!B264,IF($G$4=Dates1!$B$4,Datapack!H264,IF($G$4=Dates1!$B$5,Datapack!N264,IF($G$4=Dates1!$B$6,Datapack!T264,))))","v":5},null,{"$f":"IF($G$4=Dates1!$B$3,Datapack!C264,IF($G$4=Dates1!$B$4,Datapack!I264,IF($G$4=Dates1!$B$5,Datapack!O264,IF($G$4=Dates1!$B$6,Datapack!U264,))))","v":0},null,{"$f":"IF($G$4=Dates1!$B$3,Datapack!D264,IF($G$4=Dates1!$B$4,Datapack!J264,IF($G$4=Dates1!$B$5,Datapack!P264,IF($G$4=Dates1!$B$6,Datapack!V264,))))","v":5},null,{"$f":"IF($G$4=Dates1!$B$3,Datapack!E264,IF($G$4=Dates1!$B$4,Datapack!K264,IF($G$4=Dates1!$B$5,Datapack!Q264,IF($G$4=Dates1!$B$6,Datapack!W264,))))","v":0},null,{"$f":"IF($G$4=Dates1!$B$3,Datapack!F264,IF($G$4=Dates1!$B$4,Datapack!L264,IF($G$4=Dates1!$B$5,Datapack!R264,IF($G$4=Dates1!$B$6,Datapack!X264,))))","v":0}]
[null,"North Yorkshire",null,null,null,{"$f":"IF($G$4=Dates1!$B$3,Datapack!B265,IF($G$4=Dates1!$B$4,Datapack!H265,IF($G$4=Dates1!$B$5,Datapack!N265,IF($G$4=Dates1!$B$6,Datapack!T265,))))","v":9},null,{"$f":"IF($G$4=Dates1!$B$3,Datapack!C265,IF($G$4=Dates1!$B$4,Datapack!I265,IF($G$4=Dates1!$B$5,Datapack!O265,IF($G$4=Dates1!$B$6,Datapack!U265,))))","v":0},null,{"$f":"IF($G$4=Dates1!$B$3,Datapack!D265,IF($G$4=Dates1!$B$4,Datapack!J265,IF($G$4=Dates1!$B$5,Datapack!P265,IF($G$4=Dates1!$B$6,Datapack!V265,))))","v":2},null,{"$f":"IF($G$4=Dates1!$B$3,Datapack!E265,IF($G$4=Dates1!$B$4,Datapack!K265,IF($G$4=Dates1!$B$5,Datapack!Q265,IF($G$4=Dates1!$B$6,Datapack!W265,))))","v":7},null,{"$f":"IF($G$4=Dates1!$B$3,Datapack!F265,IF($G$4=Dates1!$B$4,Datapack!L265,IF($G$4=Dates1!$B$5,Datapack!R265,IF($G$4=Dates1!$B$6,Datapack!X265,))))","v":0}]
[null,"Rotherham",null,null,null,{"$f":"IF($G$4=Dates1!$B$3,Datapack!B266,IF($G$4=Dates1!$B$4,Datapack!H266,IF($G$4=Dates1!$B$5,Datapack!N266,IF($G$4=Dates1!$B$6,Datapack!T266,))))","v":4},null,{"$f":"IF($G$4=Dates1!$B$3,Datapack!C266,IF($G$4=Dates1!$B$4,Datapack!I266,IF($G$4=Dates1!$B$5,Datapack!O266,IF($G$4=Dates1!$B$6,Datapack!U266,))))","v":0},null,{"$f":"IF($G$4=Dates1!$B$3,Datapack!D266,IF($G$4=Dates1!$B$4,Datapack!J266,IF($G$4=Dates1!$B$5,Datapack!P266,IF($G$4=Dates1!$B$6,Datapack!V266,))))","v":4},null,{"$f":"IF($G$4=Dates1!$B$3,Datapack!E266,IF($G$4=Dates1!$B$4,Datapack!K266,IF($G$4=Dates1!$B$5,Datapack!Q266,IF($G$4=Dates1!$B$6,Datapack!W266,))))","v":0},null,{"$f":"IF($G$4=Dates1!$B$3,Datapack!F266,IF($G$4=Dates1!$B$4,Datapack!L266,IF($G$4=Dates1!$B$5,Datapack!R266,IF($G$4=Dates1!$B$6,Datapack!X266,))))","v":0}]
[null,"Sheffield",null,null,null,{"$f":"IF($G$4=Dates1!$B$3,Datapack!B267,IF($G$4=Dates1!$B$4,Datapack!H267,IF($G$4=Dates1!$B$5,Datapack!N267,IF($G$4=Dates1!$B$6,Datapack!T267,))))","v":9},null,{"$f":"IF($G$4=Dates1!$B$3,Datapack!C267,IF($G$4=Dates1!$B$4,Datapack!I267,IF($G$4=Dates1!$B$5,Datapack!O267,IF($G$4=Dates1!$B$6,Datapack!U267,))))","v":0},null,{"$f":"IF($G$4=Dates1!$B$3,Datapack!D267,IF($G$4=Dates1!$B$4,Datapack!J267,IF($G$4=Dates1!$B$5,Datapack!P267,IF($G$4=Dates1!$B$6,Datapack!V267,))))","v":3},null,{"$f":"IF($G$4=Dates1!$B$3,Datapack!E267,IF($G$4=Dates1!$B$4,Datapack!K267,IF($G$4=Dates1!$B$5,Datapack!Q267,IF($G$4=Dates1!$B$6,Datapack!W267,))))","v":5},null,{"$f":"IF($G$4=Dates1!$B$3,Datapack!F267,IF($G$4=Dates1!$B$4,Datapack!L267,IF($G$4=Dates1!$B$5,Datapack!R267,IF($G$4=Dates1!$B$6,Datapack!X267,))))","v":1}]
[null,"Wakefield",null,null,null,{"$f":"IF($G$4=Dates1!$B$3,Datapack!B268,IF($G$4=Dates1!$B$4,Datapack!H268,IF($G$4=Dates1!$B$5,Datapack!N268,IF($G$4=Dates1!$B$6,Datapack!T268,))))","v":4},null,{"$f":"IF($G$4=Dates1!$B$3,Datapack!C268,IF($G$4=Dates1!$B$4,Datapack!I268,IF($G$4=Dates1!$B$5,Datapack!O268,IF($G$4=Dates1!$B$6,Datapack!U268,))))","v":0},null,{"$f":"IF($G$4=Dates1!$B$3,Datapack!D268,IF($G$4=Dates1!$B$4,Datapack!J268,IF($G$4=Dates1!$B$5,Datapack!P268,IF($G$4=Dates1!$B$6,Datapack!V268,))))","v":4},null,{"$f":"IF($G$4=Dates1!$B$3,Datapack!E268,IF($G$4=Dates1!$B$4,Datapack!K268,IF($G$4=Dates1!$B$5,Datapack!Q268,IF($G$4=Dates1!$B$6,Datapack!W268,))))","v":0},null,{"$f":"IF($G$4=Dates1!$B$3,Datapack!F268,IF($G$4=Dates1!$B$4,Datapack!L268,IF($G$4=Dates1!$B$5,Datapack!R268,IF($G$4=Dates1!$B$6,Datapack!X268,))))","v":0}]
[null,"York",null,null,null,{"$f":"IF($G$4=Dates1!$B$3,Datapack!B269,IF($G$4=Dates1!$B$4,Datapack!H269,IF($G$4=Dates1!$B$5,Datapack!N269,IF($G$4=Dates1!$B$6,Datapack!T269,))))","v":1},null,{"$f":"IF($G$4=Dates1!$B$3,Datapack!C269,IF($G$4=Dates1!$B$4,Datapack!I269,IF($G$4=Dates1!$B$5,Datapack!O269,IF($G$4=Dates1!$B$6,Datapack!U269,))))","v":0},null,{"$f":"IF($G$4=Dates1!$B$3,Datapack!D269,IF($G$4=Dates1!$B$4,Datapack!J269,IF($G$4=Dates1!$B$5,Datapack!P269,IF($G$4=Dates1!$B$6,Datapack!V269,))))","v":1},null,{"$f":"IF($G$4=Dates1!$B$3,Datapack!E269,IF($G$4=Dates1!$B$4,Datapack!K269,IF($G$4=Dates1!$B$5,Datapack!Q269,IF($G$4=Dates1!$B$6,Datapack!W269,))))","v":0},null,{"$f":"IF($G$4=Dates1!$B$3,Datapack!F269,IF($G$4=Dates1!$B$4,Datapack!L269,IF($G$4=Dates1!$B$5,Datapack!R269,IF($G$4=Dates1!$B$6,Datapack!X269,))))","v":0}]
[]
[null,"EAST MIDLANDS",null,null,null,{"$f":"SUM(F67:F75)","v":64},null,{"$f":"SUM(H67:H75)","v":3},null,32,null,27,null,2]
[null,"Derby",null,null,null,{"$f":"IF($G$4=Dates1!$B$3,Datapack!B272,IF($G$4=Dates1!$B$4,Datapack!H272,IF($G$4=Dates1!$B$5,Datapack!N272,IF($G$4=Dates1!$B$6,Datapack!T272,))))","v":4},null,{"$f":"IF($G$4=Dates1!$B$3,Datapack!C272,IF($G$4=Dates1!$B$4,Datapack!I272,IF($G$4=Dates1!$B$5,Datapack!O272,IF($G$4=Dates1!$B$6,Datapack!U272,))))","v":0},null,{"$f":"IF($G$4=Dates1!$B$3,Datapack!D272,IF($G$4=Dates1!$B$4,Datapack!J272,IF($G$4=Dates1!$B$5,Datapack!P272,IF($G$4=Dates1!$B$6,Datapack!V272,))))","v":2},null,{"$f":"IF($G$4=Dates1!$B$3,Datapack!E272,IF($G$4=Dates1!$B$4,Datapack!K272,IF($G$4=Dates1!$B$5,Datapack!Q272,IF($G$4=Dates1!$B$6,Datapack!W272,))))","v":2},null,{"$f":"IF($G$4=Dates1!$B$3,Datapack!F272,IF($G$4=Dates1!$B$4,Datapack!L272,IF($G$4=Dates1!$B$5,Datapack!R272,IF($G$4=Dates1!$B$6,Datapack!X272,))))","v":0}]
[null,"Derbyshire",null,null,null,{"$f":"IF($G$4=Dates1!$B$3,Datapack!B273,IF($G$4=Dates1!$B$4,Datapack!H273,IF($G$4=Dates1!$B$5,Datapack!N273,IF($G$4=Dates1!$B$6,Datapack!T273,))))","v":13},null,{"$f":"IF($G$4=Dates1!$B$3,Datapack!C273,IF($G$4=Dates1!$B$4,Datapack!I273,IF($G$4=Dates1!$B$5,Datapack!O273,IF($G$4=Dates1!$B$6,Datapack!U273,))))","v":0},null,{"$f":"IF($G$4=Dates1!$B$3,Datapack!D273,IF($G$4=Dates1!$B$4,Datapack!J273,IF($G$4=Dates1!$B$5,Datapack!P273,IF($G$4=Dates1!$B$6,Datapack!V273,))))","v":9},null,{"$f":"IF($G$4=Dates1!$B$3,Datapack!E273,IF($G$4=Dates1!$B$4,Datapack!K273,IF($G$4=Dates1!$B$5,Datapack!Q273,IF($G$4=Dates1!$B$6,Datapack!W273,))))","v":3},null,{"$f":"IF($G$4=Dates1!$B$3,Datapack!F273,IF($G$4=Dates1!$B$4,Datapack!L273,IF($G$4=Dates1!$B$5,Datapack!R273,IF($G$4=Dates1!$B$6,Datapack!X273,))))","v":1}]
[null,"Leicester",null,null,null,{"$f":"IF($G$4=Dates1!$B$3,Datapack!B274,IF($G$4=Dates1!$B$4,Datapack!H274,IF($G$4=Dates1!$B$5,Datapack!N274,IF($G$4=Dates1!$B$6,Datapack!T274,))))","v":4},null,{"$f":"IF($G$4=Dates1!$B$3,Datapack!C274,IF($G$4=Dates1!$B$4,Datapack!I274,IF($G$4=Dates1!$B$5,Datapack!O274,IF($G$4=Dates1!$B$6,Datapack!U274,))))","v":0},null,{"$f":"IF($G$4=Dates1!$B$3,Datapack!D274,IF($G$4=Dates1!$B$4,Datapack!J274,IF($G$4=Dates1!$B$5,Datapack!P274,IF($G$4=Dates1!$B$6,Datapack!V274,))))","v":1},null,{"$f":"IF($G$4=Dates1!$B$3,Datapack!E274,IF($G$4=Dates1!$B$4,Datapack!K274,IF($G$4=Dates1!$B$5,Datapack!Q274,IF($G$4=Dates1!$B$6,Datapack!W274,))))","v":3},null,{"$f":"IF($G$4=Dates1!$B$3,Datapack!F274,IF($G$4=Dates1!$B$4,Datapack!L274,IF($G$4=Dates1!$B$5,Datapack!R274,IF($G$4=Dates1!$B$6,Datapack!X274,))))","v":0}]
[null,"Leicestershire",null,null,null,{"$f":"IF($G$4=Dates1!$B$3,Datapack!B275,IF($G$4=Dates1!$B$4,Datapack!H275,IF($G$4=Dates1!$B$5,Datapack!N275,IF($G$4=Dates1!$B$6,Datapack!T275,))))","v":8},null,{"$f":"IF($G$4=Dates1!$B$3,Datapack!C275,IF($G$4=Dates1!$B$4,Datapack!I275,IF($G$4=Dates1!$B$5,Datapack!O275,IF($G$4=Dates1!$B$6,Datapack!U275,))))","v":0},null,{"$f":"IF($G$4=Dates1!$B$3,Datapack!D275,IF($G$4=Dates1!$B$4,Datapack!J275,IF($G$4=Dates1!$B$5,Datapack!P275,IF($G$4=Dates1!$B$6,Datapack!V275,))))","v":1},null,{"$f":"IF($G$4=Dates1!$B$3,Datapack!E275,IF($G$4=Dates1!$B$4,Datapack!K275,IF($G$4=Dates1!$B$5,Datapack!Q275,IF($G$4=Dates1!$B$6,Datapack!W275,))))","v":7},null,{"$f":"IF($G$4=Dates1!$B$3,Datapack!F275,IF($G$4=Dates1!$B$4,Datapack!L275,IF($G$4=Dates1!$B$5,Datapack!R275,IF($G$4=Dates1!$B$6,Datapack!X275,))))","v":0}]
[null,"Lincolnshire",null,null,null,{"$f":"IF($G$4=Dates1!$B$3,Datapack!B276,IF($G$4=Dates1!$B$4,Datapack!H276,IF($G$4=Dates1!$B$5,Datapack!N276,IF($G$4=Dates1!$B$6,Datapack!T276,))))","v":14},null,{"$f":"IF($G$4=Dates1!$B$3,Datapack!C276,IF($G$4=Dates1!$B$4,Datapack!I276,IF($G$4=Dates1!$B$5,Datapack!O276,IF($G$4=Dates1!$B$6,Datapack!U276,))))","v":2},null,{"$f":"IF($G$4=Dates1!$B$3,Datapack!D276,IF($G$4=Dates1!$B$4,Datapack!J276,IF($G$4=Dates1!$B$5,Datapack!P276,IF($G$4=Dates1!$B$6,Datapack!V276,))))","v":9},null,{"$f":"IF($G$4=Dates1!$B$3,Datapack!E276,IF($G$4=Dates1!$B$4,Datapack!K276,IF($G$4=Dates1!$B$5,Datapack!Q276,IF($G$4=Dates1!$B$6,Datapack!W276,))))","v":3},null,{"$f":"IF($G$4=Dates1!$B$3,Datapack!F276,IF($G$4=Dates1!$B$4,Datapack!L276,IF($G$4=Dates1!$B$5,Datapack!R276,IF($G$4=Dates1!$B$6,Datapack!X276,))))","v":0}]
[null,"Northamptonshire",null,null,null,{"$f":"IF($G$4=Dates1!$B$3,Datapack!B277,IF($G$4=Dates1!$B$4,Datapack!H277,IF($G$4=Dates1!$B$5,Datapack!N277,IF($G$4=Dates1!$B$6,Datapack!T277,))))","v":10},null,{"$f":"IF($G$4=Dates1!$B$3,Datapack!C277,IF($G$4=Dates1!$B$4,Datapack!I277,IF($G$4=Dates1!$B$5,Datapack!O277,IF($G$4=Dates1!$B$6,Datapack!U277,))))","v":0},null,{"$f":"IF($G$4=Dates1!$B$3,Datapack!D277,IF($G$4=Dates1!$B$4,Datapack!J277,IF($G$4=Dates1!$B$5,Datapack!P277,IF($G$4=Dates1!$B$6,Datapack!V277,))))","v":4},null,{"$f":"IF($G$4=Dates1!$B$3,Datapack!E277,IF($G$4=Dates1!$B$4,Datapack!K277,IF($G$4=Dates1!$B$5,Datapack!Q277,IF($G$4=Dates1!$B$6,Datapack!W277,))))","v":5},null,{"$f":"IF($G$4=Dates1!$B$3,Datapack!F277,IF($G$4=Dates1!$B$4,Datapack!L277,IF($G$4=Dates1!$B$5,Datapack!R277,IF($G$4=Dates1!$B$6,Datapack!X277,))))","v":1}]
[null,"Nottingham",null,null,null,{"$f":"IF($G$4=Dates1!$B$3,Datapack!B278,IF($G$4=Dates1!$B$4,Datapack!H278,IF($G$4=Dates1!$B$5,Datapack!N278,IF($G$4=Dates1!$B$6,Datapack!T278,))))","v":3},null,{"$f":"IF($G$4=Dates1!$B$3,Datapack!C278,IF($G$4=Dates1!$B$4,Datapack!I278,IF($G$4=Dates1!$B$5,Datapack!O278,IF($G$4=Dates1!$B$6,Datapack!U278,))))","v":0},null,{"$f":"IF($G$4=Dates1!$B$3,Datapack!D278,IF($G$4=Dates1!$B$4,Datapack!J278,IF($G$4=Dates1!$B$5,Datapack!P278,IF($G$4=Dates1!$B$6,Datapack!V278,))))","v":0},null,{"$f":"IF($G$4=Dates1!$B$3,Datapack!E278,IF($G$4=Dates1!$B$4,Datapack!K278,IF($G$4=Dates1!$B$5,Datapack!Q278,IF($G$4=Dates1!$B$6,Datapack!W278,))))","v":3},null,{"$f":"IF($G$4=Dates1!$B$3,Datapack!F278,IF($G$4=Dates1!$B$4,Datapack!L278,IF($G$4=Dates1!$B$5,Datapack!R278,IF($G$4=Dates1!$B$6,Datapack!X278,))))","v":0}]
[null,"Nottinghamshire",null,null,null,{"$f":"IF($G$4=Dates1!$B$3,Datapack!B279,IF($G$4=Dates1!$B$4,Datapack!H279,IF($G$4=Dates1!$B$5,Datapack!N279,IF($G$4=Dates1!$B$6,Datapack!T279,))))","v":8},null,{"$f":"IF($G$4=Dates1!$B$3,Datapack!C279,IF($G$4=Dates1!$B$4,Datapack!I279,IF($G$4=Dates1!$B$5,Datapack!O279,IF($G$4=Dates1!$B$6,Datapack!U279,))))","v":1},null,{"$f":"IF($G$4=Dates1!$B$3,Datapack!D279,IF($G$4=Dates1!$B$4,Datapack!J279,IF($G$4=Dates1!$B$5,Datapack!P279,IF($G$4=Dates1!$B$6,Datapack!V279,))))","v":6},null,{"$f":"IF($G$4=Dates1!$B$3,Datapack!E279,IF($G$4=Dates1!$B$4,Datapack!K279,IF($G$4=Dates1!$B$5,Datapack!Q279,IF($G$4=Dates1!$B$6,Datapack!W279,))))","v":1},null,{"$f":"IF($G$4=Dates1!$B$3,Datapack!F279,IF($G$4=Dates1!$B$4,Datapack!L279,IF($G$4=Dates1!$B$5,Datapack!R279,IF($G$4=Dates1!$B$6,Datapack!X279,))))","v":0}]
[null,"Rutland",null,null,null,{"$f":"IF($G$4=Dates1!$B$3,Datapack!B280,IF($G$4=Dates1!$B$4,Datapack!H280,IF($G$4=Dates1!$B$5,Datapack!N280,IF($G$4=Dates1!$B$6,Datapack!T280,))))","v":0},null,{"$f":"IF($G$4=Dates1!$B$3,Datapack!C280,IF($G$4=Dates1!$B$4,Datapack!I280,IF($G$4=Dates1!$B$5,Datapack!O280,IF($G$4=Dates1!$B$6,Datapack!U280,))))","v":0},null,{"$f":"IF($G$4=Dates1!$B$3,Datapack!D280,IF($G$4=Dates1!$B$4,Datapack!J280,IF($G$4=Dates1!$B$5,Datapack!P280,IF($G$4=Dates1!$B$6,Datapack!V280,))))","v":0},null,{"$f":"IF($G$4=Dates1!$B$3,Datapack!E280,IF($G$4=Dates1!$B$4,Datapack!K280,IF($G$4=Dates1!$B$5,Datapack!Q280,IF($G$4=Dates1!$B$6,Datapack!W280,))))","v":0},null,{"$f":"IF($G$4=Dates1!$B$3,Datapack!F280,IF($G$4=Dates1!$B$4,Datapack!L280,IF($G$4=Dates1!$B$5,Datapack!R280,IF($G$4=Dates1!$B$6,Datapack!X280,))))","v":0}]
[]
[null,"WEST MIDLANDS",null,null,null,{"$f":"SUM(F78:F91)","v":87},null,{"$f":"SUM(H78:H91)","v":19},null,42,null,24,null,2]
[null,"Birmingham",null,null,null,{"$f":"IF($G$4=Dates1!$B$3,Datapack!B283,IF($G$4=Dates1!$B$4,Datapack!H283,IF($G$4=Dates1!$B$5,Datapack!N283,IF($G$4=Dates1!$B$6,Datapack!T283,))))","v":23},null,{"$f":"IF($G$4=Dates1!$B$3,Datapack!C283,IF($G$4=Dates1!$B$4,Datapack!I283,IF($G$4=Dates1!$B$5,Datapack!O283,IF($G$4=Dates1!$B$6,Datapack!U283,))))","v":4},null,{"$f":"IF($G$4=Dates1!$B$3,Datapack!D283,IF($G$4=Dates1!$B$4,Datapack!J283,IF($G$4=Dates1!$B$5,Datapack!P283,IF($G$4=Dates1!$B$6,Datapack!V283,))))","v":9},null,{"$f":"IF($G$4=Dates1!$B$3,Datapack!E283,IF($G$4=Dates1!$B$4,Datapack!K283,IF($G$4=Dates1!$B$5,Datapack!Q283,IF($G$4=Dates1!$B$6,Datapack!W283,))))","v":9},null,{"$f":"IF($G$4=Dates1!$B$3,Datapack!F283,IF($G$4=Dates1!$B$4,Datapack!L283,IF($G$4=Dates1!$B$5,Datapack!R283,IF($G$4=Dates1!$B$6,Datapack!X283,))))","v":1}]
[null,"Coventry",null,null,null,{"$f":"IF($G$4=Dates1!$B$3,Datapack!B284,IF($G$4=Dates1!$B$4,Datapack!H284,IF($G$4=Dates1!$B$5,Datapack!N284,IF($G$4=Dates1!$B$6,Datapack!T284,))))","v":4},null,{"$f":"IF($G$4=Dates1!$B$3,Datapack!C284,IF($G$4=Dates1!$B$4,Datapack!I284,IF($G$4=Dates1!$B$5,Datapack!O284,IF($G$4=Dates1!$B$6,Datapack!U284,))))","v":1},null,{"$f":"IF($G$4=Dates1!$B$3,Datapack!D284,IF($G$4=Dates1!$B$4,Datapack!J284,IF($G$4=Dates1!$B$5,Datapack!P284,IF($G$4=Dates1!$B$6,Datapack!V284,))))","v":2},null,{"$f":"IF($G$4=Dates1!$B$3,Datapack!E284,IF($G$4=Dates1!$B$4,Datapack!K284,IF($G$4=Dates1!$B$5,Datapack!Q284,IF($G$4=Dates1!$B$6,Datapack!W284,))))","v":1},null,{"$f":"IF($G$4=Dates1!$B$3,Datapack!F284,IF($G$4=Dates1!$B$4,Datapack!L284,IF($G$4=Dates1!$B$5,Datapack!R284,IF($G$4=Dates1!$B$6,Datapack!X284,))))","v":0}]
[null,"Dudley",null,null,null,{"$f":"IF($G$4=Dates1!$B$3,Datapack!B285,IF($G$4=Dates1!$B$4,Datapack!H285,IF($G$4=Dates1!$B$5,Datapack!N285,IF($G$4=Dates1!$B$6,Datapack!T285,))))","v":5},null,{"$f":"IF($G$4=Dates1!$B$3,Datapack!C285,IF($G$4=Dates1!$B$4,Datapack!I285,IF($G$4=Dates1!$B$5,Datapack!O285,IF($G$4=Dates1!$B$6,Datapack!U285,))))","v":0},null,{"$f":"IF($G$4=Dates1!$B$3,Datapack!D285,IF($G$4=Dates1!$B$4,Datapack!J285,IF($G$4=Dates1!$B$5,Datapack!P285,IF($G$4=Dates1!$B$6,Datapack!V285,))))","v":4},null,{"$f":"IF($G$4=Dates1!$B$3,Datapack!E285,IF($G$4=Dates1!$B$4,Datapack!K285,IF($G$4=Dates1!$B$5,Datapack!Q285,IF($G$4=Dates1!$B$6,Datapack!W285,))))","v":1},null,{"$f":"IF($G$4=Dates1!$B$3,Datapack!F285,IF($G$4=Dates1!$B$4,Datapack!L285,IF($G$4=Dates1!$B$5,Datapack!R285,IF($G$4=Dates1!$B$6,Datapack!X285,))))","v":0}]
[null,"Herefordshire",null,null,null,{"$f":"IF($G$4=Dates1!$B$3,Datapack!B286,IF($G$4=Dates1!$B$4,Datapack!H286,IF($G$4=Dates1!$B$5,Datapack!N286,IF($G$4=Dates1!$B$6,Datapack!T286,))))","v":2},null,{"$f":"IF($G$4=Dates1!$B$3,Datapack!C286,IF($G$4=Dates1!$B$4,Datapack!I286,IF($G$4=Dates1!$B$5,Datapack!O286,IF($G$4=Dates1!$B$6,Datapack!U286,))))","v":0},null,{"$f":"IF($G$4=Dates1!$B$3,Datapack!D286,IF($G$4=Dates1!$B$4,Datapack!J286,IF($G$4=Dates1!$B$5,Datapack!P286,IF($G$4=Dates1!$B$6,Datapack!V286,))))","v":2},null,{"$f":"IF($G$4=Dates1!$B$3,Datapack!E286,IF($G$4=Dates1!$B$4,Datapack!K286,IF($G$4=Dates1!$B$5,Datapack!Q286,IF($G$4=Dates1!$B$6,Datapack!W286,))))","v":0},null,{"$f":"IF($G$4=Dates1!$B$3,Datapack!F286,IF($G$4=Dates1!$B$4,Datapack!L286,IF($G$4=Dates1!$B$5,Datapack!R286,IF($G$4=Dates1!$B$6,Datapack!X286,))))","v":0}]
[null,"Sandwell",null,null,null,{"$f":"IF($G$4=Dates1!$B$3,Datapack!B287,IF($G$4=Dates1!$B$4,Datapack!H287,IF($G$4=Dates1!$B$5,Datapack!N287,IF($G$4=Dates1!$B$6,Datapack!T287,))))","v":8},null,{"$f":"IF($G$4=Dates1!$B$3,Datapack!C287,IF($G$4=Dates1!$B$4,Datapack!I287,IF($G$4=Dates1!$B$5,Datapack!O287,IF($G$4=Dates1!$B$6,Datapack!U287,))))","v":5},null,{"$f":"IF($G$4=Dates1!$B$3,Datapack!D287,IF($G$4=Dates1!$B$4,Datapack!J287,IF($G$4=Dates1!$B$5,Datapack!P287,IF($G$4=Dates1!$B$6,Datapack!V287,))))","v":2},null,{"$f":"IF($G$4=Dates1!$B$3,Datapack!E287,IF($G$4=Dates1!$B$4,Datapack!K287,IF($G$4=Dates1!$B$5,Datapack!Q287,IF($G$4=Dates1!$B$6,Datapack!W287,))))","v":1},null,{"$f":"IF($G$4=Dates1!$B$3,Datapack!F287,IF($G$4=Dates1!$B$4,Datapack!L287,IF($G$4=Dates1!$B$5,Datapack!R287,IF($G$4=Dates1!$B$6,Datapack!X287,))))","v":0}]
[null,"Shropshire",null,null,null,{"$f":"IF($G$4=Dates1!$B$3,Datapack!B288,IF($G$4=Dates1!$B$4,Datapack!H288,IF($G$4=Dates1!$B$5,Datapack!N288,IF($G$4=Dates1!$B$6,Datapack!T288,))))","v":3},null,{"$f":"IF($G$4=Dates1!$B$3,Datapack!C288,IF($G$4=Dates1!$B$4,Datapack!I288,IF($G$4=Dates1!$B$5,Datapack!O288,IF($G$4=Dates1!$B$6,Datapack!U288,))))","v":0},null,{"$f":"IF($G$4=Dates1!$B$3,Datapack!D288,IF($G$4=Dates1!$B$4,Datapack!J288,IF($G$4=Dates1!$B$5,Datapack!P288,IF($G$4=Dates1!$B$6,Datapack!V288,))))","v":3},null,{"$f":"IF($G$4=Dates1!$B$3,Datapack!E288,IF($G$4=Dates1!$B$4,Datapack!K288,IF($G$4=Dates1!$B$5,Datapack!Q288,IF($G$4=Dates1!$B$6,Datapack!W288,))))","v":0},null,{"$f":"IF($G$4=Dates1!$B$3,Datapack!F288,IF($G$4=Dates1!$B$4,Datapack!L288,IF($G$4=Dates1!$B$5,Datapack!R288,IF($G$4=Dates1!$B$6,Datapack!X288,))))","v":0}]
[null,"Solihull",null,null,null,{"$f":"IF($G$4=Dates1!$B$3,Datapack!B289,IF($G$4=Dates1!$B$4,Datapack!H289,IF($G$4=Dates1!$B$5,Datapack!N289,IF($G$4=Dates1!$B$6,Datapack!T289,))))","v":2},null,{"$f":"IF($G$4=Dates1!$B$3,Datapack!C289,IF($G$4=Dates1!$B$4,Datapack!I289,IF($G$4=Dates1!$B$5,Datapack!O289,IF($G$4=Dates1!$B$6,Datapack!U289,))))","v":0},null,{"$f":"IF($G$4=Dates1!$B$3,Datapack!D289,IF($G$4=Dates1!$B$4,Datapack!J289,IF($G$4=Dates1!$B$5,Datapack!P289,IF($G$4=Dates1!$B$6,Datapack!V289,))))","v":2},null,{"$f":"IF($G$4=Dates1!$B$3,Datapack!E289,IF($G$4=Dates1!$B$4,Datapack!K289,IF($G$4=Dates1!$B$5,Datapack!Q289,IF($G$4=Dates1!$B$6,Datapack!W289,))))","v":0},null,{"$f":"IF($G$4=Dates1!$B$3,Datapack!F289,IF($G$4=Dates1!$B$4,Datapack!L289,IF($G$4=Dates1!$B$5,Datapack!R289,IF($G$4=Dates1!$B$6,Datapack!X289,))))","v":0}]
[null,"Staffordshire",null,null,null,{"$f":"IF($G$4=Dates1!$B$3,Datapack!B290,IF($G$4=Dates1!$B$4,Datapack!H290,IF($G$4=Dates1!$B$5,Datapack!N290,IF($G$4=Dates1!$B$6,Datapack!T290,))))","v":10},null,{"$f":"IF($G$4=Dates1!$B$3,Datapack!C290,IF($G$4=Dates1!$B$4,Datapack!I290,IF($G$4=Dates1!$B$5,Datapack!O290,IF($G$4=Dates1!$B$6,Datapack!U290,))))","v":0},null,{"$f":"IF($G$4=Dates1!$B$3,Datapack!D290,IF($G$4=Dates1!$B$4,Datapack!J290,IF($G$4=Dates1!$B$5,Datapack!P290,IF($G$4=Dates1!$B$6,Datapack!V290,))))","v":3},null,{"$f":"IF($G$4=Dates1!$B$3,Datapack!E290,IF($G$4=Dates1!$B$4,Datapack!K290,IF($G$4=Dates1!$B$5,Datapack!Q290,IF($G$4=Dates1!$B$6,Datapack!W290,))))","v":7},null,{"$f":"IF($G$4=Dates1!$B$3,Datapack!F290,IF($G$4=Dates1!$B$4,Datapack!L290,IF($G$4=Dates1!$B$5,Datapack!R290,IF($G$4=Dates1!$B$6,Datapack!X290,))))","v":0}]
[null,"Stoke-on-Trent",null,null,null,{"$f":"IF($G$4=Dates1!$B$3,Datapack!B291,IF($G$4=Dates1!$B$4,Datapack!H291,IF($G$4=Dates1!$B$5,Datapack!N291,IF($G$4=Dates1!$B$6,Datapack!T291,))))","v":1},null,{"$f":"IF($G$4=Dates1!$B$3,Datapack!C291,IF($G$4=Dates1!$B$4,Datapack!I291,IF($G$4=Dates1!$B$5,Datapack!O291,IF($G$4=Dates1!$B$6,Datapack!U291,))))","v":1},null,{"$f":"IF($G$4=Dates1!$B$3,Datapack!D291,IF($G$4=Dates1!$B$4,Datapack!J291,IF($G$4=Dates1!$B$5,Datapack!P291,IF($G$4=Dates1!$B$6,Datapack!V291,))))","v":0},null,{"$f":"IF($G$4=Dates1!$B$3,Datapack!E291,IF($G$4=Dates1!$B$4,Datapack!K291,IF($G$4=Dates1!$B$5,Datapack!Q291,IF($G$4=Dates1!$B$6,Datapack!W291,))))","v":0},null,{"$f":"IF($G$4=Dates1!$B$3,Datapack!F291,IF($G$4=Dates1!$B$4,Datapack!L291,IF($G$4=Dates1!$B$5,Datapack!R291,IF($G$4=Dates1!$B$6,Datapack!X291,))))","v":0}]
[null,"Telford and Wrekin",null,null,null,{"$f":"IF($G$4=Dates1!$B$3,Datapack!B292,IF($G$4=Dates1!$B$4,Datapack!H292,IF($G$4=Dates1!$B$5,Datapack!N292,IF($G$4=Dates1!$B$6,Datapack!T292,))))","v":1},null,{"$f":"IF($G$4=Dates1!$B$3,Datapack!C292,IF($G$4=Dates1!$B$4,Datapack!I292,IF($G$4=Dates1!$B$5,Datapack!O292,IF($G$4=Dates1!$B$6,Datapack!U292,))))","v":0},null,{"$f":"IF($G$4=Dates1!$B$3,Datapack!D292,IF($G$4=Dates1!$B$4,Datapack!J292,IF($G$4=Dates1!$B$5,Datapack!P292,IF($G$4=Dates1!$B$6,Datapack!V292,))))","v":0},null,{"$f":"IF($G$4=Dates1!$B$3,Datapack!E292,IF($G$4=Dates1!$B$4,Datapack!K292,IF($G$4=Dates1!$B$5,Datapack!Q292,IF($G$4=Dates1!$B$6,Datapack!W292,))))","v":1},null,{"$f":"IF($G$4=Dates1!$B$3,Datapack!F292,IF($G$4=Dates1!$B$4,Datapack!L292,IF($G$4=Dates1!$B$5,Datapack!R292,IF($G$4=Dates1!$B$6,Datapack!X292,))))","v":0}]
[null,"Walsall",null,null,null,{"$f":"IF($G$4=Dates1!$B$3,Datapack!B293,IF($G$4=Dates1!$B$4,Datapack!H293,IF($G$4=Dates1!$B$5,Datapack!N293,IF($G$4=Dates1!$B$6,Datapack!T293,))))","v":6},null,{"$f":"IF($G$4=Dates1!$B$3,Datapack!C293,IF($G$4=Dates1!$B$4,Datapack!I293,IF($G$4=Dates1!$B$5,Datapack!O293,IF($G$4=Dates1!$B$6,Datapack!U293,))))","v":1},null,{"$f":"IF($G$4=Dates1!$B$3,Datapack!D293,IF($G$4=Dates1!$B$4,Datapack!J293,IF($G$4=Dates1!$B$5,Datapack!P293,IF($G$4=Dates1!$B$6,Datapack!V293,))))","v":2},null,{"$f":"IF($G$4=Dates1!$B$3,Datapack!E293,IF($G$4=Dates1!$B$4,Datapack!K293,IF($G$4=Dates1!$B$5,Datapack!Q293,IF($G$4=Dates1!$B$6,Datapack!W293,))))","v":2},null,{"$f":"IF($G$4=Dates1!$B$3,Datapack!F293,IF($G$4=Dates1!$B$4,Datapack!L293,IF($G$4=Dates1!$B$5,Datapack!R293,IF($G$4=Dates1!$B$6,Datapack!X293,))))","v":1}]
[null,"Warwickshire",null,null,null,{"$f":"IF($G$4=Dates1!$B$3,Datapack!B294,IF($G$4=Dates1!$B$4,Datapack!H294,IF($G$4=Dates1!$B$5,Datapack!N294,IF($G$4=Dates1!$B$6,Datapack!T294,))))","v":9},null,{"$f":"IF($G$4=Dates1!$B$3,Datapack!C294,IF($G$4=Dates1!$B$4,Datapack!I294,IF($G$4=Dates1!$B$5,Datapack!O294,IF($G$4=Dates1!$B$6,Datapack!U294,))))","v":3},null,{"$f":"IF($G$4=Dates1!$B$3,Datapack!D294,IF($G$4=Dates1!$B$4,Datapack!J294,IF($G$4=Dates1!$B$5,Datapack!P294,IF($G$4=Dates1!$B$6,Datapack!V294,))))","v":5},null,{"$f":"IF($G$4=Dates1!$B$3,Datapack!E294,IF($G$4=Dates1!$B$4,Datapack!K294,IF($G$4=Dates1!$B$5,Datapack!Q294,IF($G$4=Dates1!$B$6,Datapack!W294,))))","v":1},null,{"$f":"IF($G$4=Dates1!$B$3,Datapack!F294,IF($G$4=Dates1!$B$4,Datapack!L294,IF($G$4=Dates1!$B$5,Datapack!R294,IF($G$4=Dates1!$B$6,Datapack!X294,))))","v":0}]
[null,"Wolverhampton",null,null,null,{"$f":"IF($G$4=Dates1!$B$3,Datapack!B295,IF($G$4=Dates1!$B$4,Datapack!H295,IF($G$4=Dates1!$B$5,Datapack!N295,IF($G$4=Dates1!$B$6,Datapack!T295,))))","v":4},null,{"$f":"IF($G$4=Dates1!$B$3,Datapack!C295,IF($G$4=Dates1!$B$4,Datapack!I295,IF($G$4=Dates1!$B$5,Datapack!O295,IF($G$4=Dates1!$B$6,Datapack!U295,))))","v":1},null,{"$f":"IF($G$4=Dates1!$B$3,Datapack!D295,IF($G$4=Dates1!$B$4,Datapack!J295,IF($G$4=Dates1!$B$5,Datapack!P295,IF($G$4=Dates1!$B$6,Datapack!V295,))))","v":3},null,{"$f":"IF($G$4=Dates1!$B$3,Datapack!E295,IF($G$4=Dates1!$B$4,Datapack!K295,IF($G$4=Dates1!$B$5,Datapack!Q295,IF($G$4=Dates1!$B$6,Datapack!W295,))))","v":0},null,{"$f":"IF($G$4=Dates1!$B$3,Datapack!F295,IF($G$4=Dates1!$B$4,Datapack!L295,IF($G$4=Dates1!$B$5,Datapack!R295,IF($G$4=Dates1!$B$6,Datapack!X295,))))","v":0}]
[null,"Worcestershire",null,null,null,{"$f":"IF($G$4=Dates1!$B$3,Datapack!B296,IF($G$4=Dates1!$B$4,Datapack!H296,IF($G$4=Dates1!$B$5,Datapack!N296,IF($G$4=Dates1!$B$6,Datapack!T296,))))","v":9},null,{"$f":"IF($G$4=Dates1!$B$3,Datapack!C296,IF($G$4=Dates1!$B$4,Datapack!I296,IF($G$4=Dates1!$B$5,Datapack!O296,IF($G$4=Dates1!$B$6,Datapack!U296,))))","v":3},null,{"$f":"IF($G$4=Dates1!$B$3,Datapack!D296,IF($G$4=Dates1!$B$4,Datapack!J296,IF($G$4=Dates1!$B$5,Datapack!P296,IF($G$4=Dates1!$B$6,Datapack!V296,))))","v":5},null,{"$f":"IF($G$4=Dates1!$B$3,Datapack!E296,IF($G$4=Dates1!$B$4,Datapack!K296,IF($G$4=Dates1!$B$5,Datapack!Q296,IF($G$4=Dates1!$B$6,Datapack!W296,))))","v":1},null,{"$f":"IF($G$4=Dates1!$B$3,Datapack!F296,IF($G$4=Dates1!$B$4,Datapack!L296,IF($G$4=Dates1!$B$5,Datapack!R296,IF($G$4=Dates1!$B$6,Datapack!X296,))))","v":0}]
[]
[null,"EAST OF ENGLAND",null,null,null,{"$f":"SUM(F94:F104)","v":71},null,{"$f":"SUM(H94:H104)","v":7},null,32,null,30,null,2]
[null,"Bedford",null,null,null,{"$f":"IF($G$4=Dates1!$B$3,Datapack!B299,IF($G$4=Dates1!$B$4,Datapack!H299,IF($G$4=Dates1!$B$5,Datapack!N299,IF($G$4=Dates1!$B$6,Datapack!T299,))))","v":4},null,{"$f":"IF($G$4=Dates1!$B$3,Datapack!C299,IF($G$4=Dates1!$B$4,Datapack!I299,IF($G$4=Dates1!$B$5,Datapack!O299,IF($G$4=Dates1!$B$6,Datapack!U299,))))","v":1},null,{"$f":"IF($G$4=Dates1!$B$3,Datapack!D299,IF($G$4=Dates1!$B$4,Datapack!J299,IF($G$4=Dates1!$B$5,Datapack!P299,IF($G$4=Dates1!$B$6,Datapack!V299,))))","v":2},null,{"$f":"IF($G$4=Dates1!$B$3,Datapack!E299,IF($G$4=Dates1!$B$4,Datapack!K299,IF($G$4=Dates1!$B$5,Datapack!Q299,IF($G$4=Dates1!$B$6,Datapack!W299,))))","v":1},null,{"$f":"IF($G$4=Dates1!$B$3,Datapack!F299,IF($G$4=Dates1!$B$4,Datapack!L299,IF($G$4=Dates1!$B$5,Datapack!R299,IF($G$4=Dates1!$B$6,Datapack!X299,))))","v":0}]
[null,"Cambridgeshire",null,null,null,{"$f":"IF($G$4=Dates1!$B$3,Datapack!B300,IF($G$4=Dates1!$B$4,Datapack!H300,IF($G$4=Dates1!$B$5,Datapack!N300,IF($G$4=Dates1!$B$6,Datapack!T300,))))","v":10},null,{"$f":"IF($G$4=Dates1!$B$3,Datapack!C300,IF($G$4=Dates1!$B$4,Datapack!I300,IF($G$4=Dates1!$B$5,Datapack!O300,IF($G$4=Dates1!$B$6,Datapack!U300,))))","v":0},null,{"$f":"IF($G$4=Dates1!$B$3,Datapack!D300,IF($G$4=Dates1!$B$4,Datapack!J300,IF($G$4=Dates1!$B$5,Datapack!P300,IF($G$4=Dates1!$B$6,Datapack!V300,))))","v":2},null,{"$f":"IF($G$4=Dates1!$B$3,Datapack!E300,IF($G$4=Dates1!$B$4,Datapack!K300,IF($G$4=Dates1!$B$5,Datapack!Q300,IF($G$4=Dates1!$B$6,Datapack!W300,))))","v":8},null,{"$f":"IF($G$4=Dates1!$B$3,Datapack!F300,IF($G$4=Dates1!$B$4,Datapack!L300,IF($G$4=Dates1!$B$5,Datapack!R300,IF($G$4=Dates1!$B$6,Datapack!X300,))))","v":0}]
[null,"Central Bedfordshire",null,null,null,{"$f":"IF($G$4=Dates1!$B$3,Datapack!B301,IF($G$4=Dates1!$B$4,Datapack!H301,IF($G$4=Dates1!$B$5,Datapack!N301,IF($G$4=Dates1!$B$6,Datapack!T301,))))","v":1},null,{"$f":"IF($G$4=Dates1!$B$3,Datapack!C301,IF($G$4=Dates1!$B$4,Datapack!I301,IF($G$4=Dates1!$B$5,Datapack!O301,IF($G$4=Dates1!$B$6,Datapack!U301,))))","v":0},null,{"$f":"IF($G$4=Dates1!$B$3,Datapack!D301,IF($G$4=Dates1!$B$4,Datapack!J301,IF($G$4=Dates1!$B$5,Datapack!P301,IF($G$4=Dates1!$B$6,Datapack!V301,))))","v":1},null,{"$f":"IF($G$4=Dates1!$B$3,Datapack!E301,IF($G$4=Dates1!$B$4,Datapack!K301,IF($G$4=Dates1!$B$5,Datapack!Q301,IF($G$4=Dates1!$B$6,Datapack!W301,))))","v":0},null,{"$f":"IF($G$4=Dates1!$B$3,Datapack!F301,IF($G$4=Dates1!$B$4,Datapack!L301,IF($G$4=Dates1!$B$5,Datapack!R301,IF($G$4=Dates1!$B$6,Datapack!X301,))))","v":0}]
[null,"Essex",null,null,null,{"$f":"IF($G$4=Dates1!$B$3,Datapack!B302,IF($G$4=Dates1!$B$4,Datapack!H302,IF($G$4=Dates1!$B$5,Datapack!N302,IF($G$4=Dates1!$B$6,Datapack!T302,))))","v":12},null,{"$f":"IF($G$4=Dates1!$B$3,Datapack!C302,IF($G$4=Dates1!$B$4,Datapack!I302,IF($G$4=Dates1!$B$5,Datapack!O302,IF($G$4=Dates1!$B$6,Datapack!U302,))))","v":1},null,{"$f":"IF($G$4=Dates1!$B$3,Datapack!D302,IF($G$4=Dates1!$B$4,Datapack!J302,IF($G$4=Dates1!$B$5,Datapack!P302,IF($G$4=Dates1!$B$6,Datapack!V302,))))","v":6},null,{"$f":"IF($G$4=Dates1!$B$3,Datapack!E302,IF($G$4=Dates1!$B$4,Datapack!K302,IF($G$4=Dates1!$B$5,Datapack!Q302,IF($G$4=Dates1!$B$6,Datapack!W302,))))","v":5},null,{"$f":"IF($G$4=Dates1!$B$3,Datapack!F302,IF($G$4=Dates1!$B$4,Datapack!L302,IF($G$4=Dates1!$B$5,Datapack!R302,IF($G$4=Dates1!$B$6,Datapack!X302,))))","v":0}]
[null,"Hertfordshire",null,null,null,{"$f":"IF($G$4=Dates1!$B$3,Datapack!B303,IF($G$4=Dates1!$B$4,Datapack!H303,IF($G$4=Dates1!$B$5,Datapack!N303,IF($G$4=Dates1!$B$6,Datapack!T303,))))","v":8},null,{"$f":"IF($G$4=Dates1!$B$3,Datapack!C303,IF($G$4=Dates1!$B$4,Datapack!I303,IF($G$4=Dates1!$B$5,Datapack!O303,IF($G$4=Dates1!$B$6,Datapack!U303,))))","v":0},null,{"$f":"IF($G$4=Dates1!$B$3,Datapack!D303,IF($G$4=Dates1!$B$4,Datapack!J303,IF($G$4=Dates1!$B$5,Datapack!P303,IF($G$4=Dates1!$B$6,Datapack!V303,))))","v":6},null,{"$f":"IF($G$4=Dates1!$B$3,Datapack!E303,IF($G$4=Dates1!$B$4,Datapack!K303,IF($G$4=Dates1!$B$5,Datapack!Q303,IF($G$4=Dates1!$B$6,Datapack!W303,))))","v":2},null,{"$f":"IF($G$4=Dates1!$B$3,Datapack!F303,IF($G$4=Dates1!$B$4,Datapack!L303,IF($G$4=Dates1!$B$5,Datapack!R303,IF($G$4=Dates1!$B$6,Datapack!X303,))))","v":0}]
[null,"Luton",null,null,null,{"$f":"IF($G$4=Dates1!$B$3,Datapack!B304,IF($G$4=Dates1!$B$4,Datapack!H304,IF($G$4=Dates1!$B$5,Datapack!N304,IF($G$4=Dates1!$B$6,Datapack!T304,))))","v":7},null,{"$f":"IF($G$4=Dates1!$B$3,Datapack!C304,IF($G$4=Dates1!$B$4,Datapack!I304,IF($G$4=Dates1!$B$5,Datapack!O304,IF($G$4=Dates1!$B$6,Datapack!U304,))))","v":1},null,{"$f":"IF($G$4=Dates1!$B$3,Datapack!D304,IF($G$4=Dates1!$B$4,Datapack!J304,IF($G$4=Dates1!$B$5,Datapack!P304,IF($G$4=Dates1!$B$6,Datapack!V304,))))","v":2},null,{"$f":"IF($G$4=Dates1!$B$3,Datapack!E304,IF($G$4=Dates1!$B$4,Datapack!K304,IF($G$4=Dates1!$B$5,Datapack!Q304,IF($G$4=Dates1!$B$6,Datapack!W304,))))","v":4},null,{"$f":"IF($G$4=Dates1!$B$3,Datapack!F304,IF($G$4=Dates1!$B$4,Datapack!L304,IF($G$4=Dates1!$B$5,Datapack!R304,IF($G$4=Dates1!$B$6,Datapack!X304,))))","v":0}]
[null,"Norfolk",null,null,null,{"$f":"IF($G$4=Dates1!$B$3,Datapack!B305,IF($G$4=Dates1!$B$4,Datapack!H305,IF($G$4=Dates1!$B$5,Datapack!N305,IF($G$4=Dates1!$B$6,Datapack!T305,))))","v":11},null,{"$f":"IF($G$4=Dates1!$B$3,Datapack!C305,IF($G$4=Dates1!$B$4,Datapack!I305,IF($G$4=Dates1!$B$5,Datapack!O305,IF($G$4=Dates1!$B$6,Datapack!U305,))))","v":1},null,{"$f":"IF($G$4=Dates1!$B$3,Datapack!D305,IF($G$4=Dates1!$B$4,Datapack!J305,IF($G$4=Dates1!$B$5,Datapack!P305,IF($G$4=Dates1!$B$6,Datapack!V305,))))","v":6},null,{"$f":"IF($G$4=Dates1!$B$3,Datapack!E305,IF($G$4=Dates1!$B$4,Datapack!K305,IF($G$4=Dates1!$B$5,Datapack!Q305,IF($G$4=Dates1!$B$6,Datapack!W305,))))","v":4},null,{"$f":"IF($G$4=Dates1!$B$3,Datapack!F305,IF($G$4=Dates1!$B$4,Datapack!L305,IF($G$4=Dates1!$B$5,Datapack!R305,IF($G$4=Dates1!$B$6,Datapack!X305,))))","v":0}]
[null,"Peterborough",null,null,null,{"$f":"IF($G$4=Dates1!$B$3,Datapack!B306,IF($G$4=Dates1!$B$4,Datapack!H306,IF($G$4=Dates1!$B$5,Datapack!N306,IF($G$4=Dates1!$B$6,Datapack!T306,))))","v":0},null,{"$f":"IF($G$4=Dates1!$B$3,Datapack!C306,IF($G$4=Dates1!$B$4,Datapack!I306,IF($G$4=Dates1!$B$5,Datapack!O306,IF($G$4=Dates1!$B$6,Datapack!U306,))))","v":0},null,{"$f":"IF($G$4=Dates1!$B$3,Datapack!D306,IF($G$4=Dates1!$B$4,Datapack!J306,IF($G$4=Dates1!$B$5,Datapack!P306,IF($G$4=Dates1!$B$6,Datapack!V306,))))","v":0},null,{"$f":"IF($G$4=Dates1!$B$3,Datapack!E306,IF($G$4=Dates1!$B$4,Datapack!K306,IF($G$4=Dates1!$B$5,Datapack!Q306,IF($G$4=Dates1!$B$6,Datapack!W306,))))","v":0},null,{"$f":"IF($G$4=Dates1!$B$3,Datapack!F306,IF($G$4=Dates1!$B$4,Datapack!L306,IF($G$4=Dates1!$B$5,Datapack!R306,IF($G$4=Dates1!$B$6,Datapack!X306,))))","v":0}]
[null,"Southend-on-Sea",null,null,null,{"$f":"IF($G$4=Dates1!$B$3,Datapack!B307,IF($G$4=Dates1!$B$4,Datapack!H307,IF($G$4=Dates1!$B$5,Datapack!N307,IF($G$4=Dates1!$B$6,Datapack!T307,))))","v":3},null,{"$f":"IF($G$4=Dates1!$B$3,Datapack!C307,IF($G$4=Dates1!$B$4,Datapack!I307,IF($G$4=Dates1!$B$5,Datapack!O307,IF($G$4=Dates1!$B$6,Datapack!U307,))))","v":2},null,{"$f":"IF($G$4=Dates1!$B$3,Datapack!D307,IF($G$4=Dates1!$B$4,Datapack!J307,IF($G$4=Dates1!$B$5,Datapack!P307,IF($G$4=Dates1!$B$6,Datapack!V307,))))","v":0},null,{"$f":"IF($G$4=Dates1!$B$3,Datapack!E307,IF($G$4=Dates1!$B$4,Datapack!K307,IF($G$4=Dates1!$B$5,Datapack!Q307,IF($G$4=Dates1!$B$6,Datapack!W307,))))","v":0},null,{"$f":"IF($G$4=Dates1!$B$3,Datapack!F307,IF($G$4=Dates1!$B$4,Datapack!L307,IF($G$4=Dates1!$B$5,Datapack!R307,IF($G$4=Dates1!$B$6,Datapack!X307,))))","v":1}]
[null,"Suffolk",null,null,null,{"$f":"IF($G$4=Dates1!$B$3,Datapack!B308,IF($G$4=Dates1!$B$4,Datapack!H308,IF($G$4=Dates1!$B$5,Datapack!N308,IF($G$4=Dates1!$B$6,Datapack!T308,))))","v":10},null,{"$f":"IF($G$4=Dates1!$B$3,Datapack!C308,IF($G$4=Dates1!$B$4,Datapack!I308,IF($G$4=Dates1!$B$5,Datapack!O308,IF($G$4=Dates1!$B$6,Datapack!U308,))))","v":1},null,{"$f":"IF($G$4=Dates1!$B$3,Datapack!D308,IF($G$4=Dates1!$B$4,Datapack!J308,IF($G$4=Dates1!$B$5,Datapack!P308,IF($G$4=Dates1!$B$6,Datapack!V308,))))","v":6},null,{"$f":"IF($G$4=Dates1!$B$3,Datapack!E308,IF($G$4=Dates1!$B$4,Datapack!K308,IF($G$4=Dates1!$B$5,Datapack!Q308,IF($G$4=Dates1!$B$6,Datapack!W308,))))","v":3},null,{"$f":"IF($G$4=Dates1!$B$3,Datapack!F308,IF($G$4=Dates1!$B$4,Datapack!L308,IF($G$4=Dates1!$B$5,Datapack!R308,IF($G$4=Dates1!$B$6,Datapack!X308,))))","v":0}]
[null,"Thurrock",null,null,null,{"$f":"IF($G$4=Dates1!$B$3,Datapack!B309,IF($G$4=Dates1!$B$4,Datapack!H309,IF($G$4=Dates1!$B$5,Datapack!N309,IF($G$4=Dates1!$B$6,Datapack!T309,))))","v":5},null,{"$f":"IF($G$4=Dates1!$B$3,Datapack!C309,IF($G$4=Dates1!$B$4,Datapack!I309,IF($G$4=Dates1!$B$5,Datapack!O309,IF($G$4=Dates1!$B$6,Datapack!U309,))))","v":0},null,{"$f":"IF($G$4=Dates1!$B$3,Datapack!D309,IF($G$4=Dates1!$B$4,Datapack!J309,IF($G$4=Dates1!$B$5,Datapack!P309,IF($G$4=Dates1!$B$6,Datapack!V309,))))","v":1},null,{"$f":"IF($G$4=Dates1!$B$3,Datapack!E309,IF($G$4=Dates1!$B$4,Datapack!K309,IF($G$4=Dates1!$B$5,Datapack!Q309,IF($G$4=Dates1!$B$6,Datapack!W309,))))","v":3},null,{"$f":"IF($G$4=Dates1!$B$3,Datapack!F309,IF($G$4=Dates1!$B$4,Datapack!L309,IF($G$4=Dates1!$B$5,Datapack!R309,IF($G$4=Dates1!$B$6,Datapack!X309,))))","v":1}]
[]
[null,"LONDON",null,null,null,{"$f":"SUM(F107:F139)","v":94},null,{"$f":"SUM(H107:H139)","v":12},null,64,null,16,null,2]
[null,"Barking and Dagenham",null,null,null,{"$f":"IF($G$4=Dates1!$B$3,Datapack!B312,IF($G$4=Dates1!$B$4,Datapack!H312,IF($G$4=Dates1!$B$5,Datapack!N312,IF($G$4=Dates1!$B$6,Datapack!T312,))))","v":3},null,{"$f":"IF($G$4=Dates1!$B$3,Datapack!C312,IF($G$4=Dates1!$B$4,Datapack!I312,IF($G$4=Dates1!$B$5,Datapack!O312,IF($G$4=Dates1!$B$6,Datapack!U312,))))","v":3},null,{"$f":"IF($G$4=Dates1!$B$3,Datapack!D312,IF($G$4=Dates1!$B$4,Datapack!J312,IF($G$4=Dates1!$B$5,Datapack!P312,IF($G$4=Dates1!$B$6,Datapack!V312,))))","v":0},null,{"$f":"IF($G$4=Dates1!$B$3,Datapack!E312,IF($G$4=Dates1!$B$4,Datapack!K312,IF($G$4=Dates1!$B$5,Datapack!Q312,IF($G$4=Dates1!$B$6,Datapack!W312,))))","v":0},null,{"$f":"IF($G$4=Dates1!$B$3,Datapack!F312,IF($G$4=Dates1!$B$4,Datapack!L312,IF($G$4=Dates1!$B$5,Datapack!R312,IF($G$4=Dates1!$B$6,Datapack!X312,))))","v":0}]
[null,"Barnet",null,null,null,{"$f":"IF($G$4=Dates1!$B$3,Datapack!B313,IF($G$4=Dates1!$B$4,Datapack!H313,IF($G$4=Dates1!$B$5,Datapack!N313,IF($G$4=Dates1!$B$6,Datapack!T313,))))","v":2},null,{"$f":"IF($G$4=Dates1!$B$3,Datapack!C313,IF($G$4=Dates1!$B$4,Datapack!I313,IF($G$4=Dates1!$B$5,Datapack!O313,IF($G$4=Dates1!$B$6,Datapack!U313,))))","v":0},null,{"$f":"IF($G$4=Dates1!$B$3,Datapack!D313,IF($G$4=Dates1!$B$4,Datapack!J313,IF($G$4=Dates1!$B$5,Datapack!P313,IF($G$4=Dates1!$B$6,Datapack!V313,))))","v":2},null,{"$f":"IF($G$4=Dates1!$B$3,Datapack!E313,IF($G$4=Dates1!$B$4,Datapack!K313,IF($G$4=Dates1!$B$5,Datapack!Q313,IF($G$4=Dates1!$B$6,Datapack!W313,))))","v":0},null,{"$f":"IF($G$4=Dates1!$B$3,Datapack!F313,IF($G$4=Dates1!$B$4,Datapack!L313,IF($G$4=Dates1!$B$5,Datapack!R313,IF($G$4=Dates1!$B$6,Datapack!X313,))))","v":0}]
[null,"Bexley",null,null,null,{"$f":"IF($G$4=Dates1!$B$3,Datapack!B314,IF($G$4=Dates1!$B$4,Datapack!H314,IF($G$4=Dates1!$B$5,Datapack!N314,IF($G$4=Dates1!$B$6,Datapack!T314,))))","v":1},null,{"$f":"IF($G$4=Dates1!$B$3,Datapack!C314,IF($G$4=Dates1!$B$4,Datapack!I314,IF($G$4=Dates1!$B$5,Datapack!O314,IF($G$4=Dates1!$B$6,Datapack!U314,))))","v":0},null,{"$f":"IF($G$4=Dates1!$B$3,Datapack!D314,IF($G$4=Dates1!$B$4,Datapack!J314,IF($G$4=Dates1!$B$5,Datapack!P314,IF($G$4=Dates1!$B$6,Datapack!V314,))))","v":1},null,{"$f":"IF($G$4=Dates1!$B$3,Datapack!E314,IF($G$4=Dates1!$B$4,Datapack!K314,IF($G$4=Dates1!$B$5,Datapack!Q314,IF($G$4=Dates1!$B$6,Datapack!W314,))))","v":0},null,{"$f":"IF($G$4=Dates1!$B$3,Datapack!F314,IF($G$4=Dates1!$B$4,Datapack!L314,IF($G$4=Dates1!$B$5,Datapack!R314,IF($G$4=Dates1!$B$6,Datapack!X314,))))","v":0}]
[null,"Brent",null,null,null,{"$f":"IF($G$4=Dates1!$B$3,Datapack!B315,IF($G$4=Dates1!$B$4,Datapack!H315,IF($G$4=Dates1!$B$5,Datapack!N315,IF($G$4=Dates1!$B$6,Datapack!T315,))))","v":1},null,{"$f":"IF($G$4=Dates1!$B$3,Datapack!C315,IF($G$4=Dates1!$B$4,Datapack!I315,IF($G$4=Dates1!$B$5,Datapack!O315,IF($G$4=Dates1!$B$6,Datapack!U315,))))","v":0},null,{"$f":"IF($G$4=Dates1!$B$3,Datapack!D315,IF($G$4=Dates1!$B$4,Datapack!J315,IF($G$4=Dates1!$B$5,Datapack!P315,IF($G$4=Dates1!$B$6,Datapack!V315,))))","v":1},null,{"$f":"IF($G$4=Dates1!$B$3,Datapack!E315,IF($G$4=Dates1!$B$4,Datapack!K315,IF($G$4=Dates1!$B$5,Datapack!Q315,IF($G$4=Dates1!$B$6,Datapack!W315,))))","v":0},null,{"$f":"IF($G$4=Dates1!$B$3,Datapack!F315,IF($G$4=Dates1!$B$4,Datapack!L315,IF($G$4=Dates1!$B$5,Datapack!R315,IF($G$4=Dates1!$B$6,Datapack!X315,))))","v":0}]
[null,"Bromley",null,null,null,{"$f":"IF($G$4=Dates1!$B$3,Datapack!B316,IF($G$4=Dates1!$B$4,Datapack!H316,IF($G$4=Dates1!$B$5,Datapack!N316,IF($G$4=Dates1!$B$6,Datapack!T316,))))","v":2},null,{"$f":"IF($G$4=Dates1!$B$3,Datapack!C316,IF($G$4=Dates1!$B$4,Datapack!I316,IF($G$4=Dates1!$B$5,Datapack!O316,IF($G$4=Dates1!$B$6,Datapack!U316,))))","v":0},null,{"$f":"IF($G$4=Dates1!$B$3,Datapack!D316,IF($G$4=Dates1!$B$4,Datapack!J316,IF($G$4=Dates1!$B$5,Datapack!P316,IF($G$4=Dates1!$B$6,Datapack!V316,))))","v":1},null,{"$f":"IF($G$4=Dates1!$B$3,Datapack!E316,IF($G$4=Dates1!$B$4,Datapack!K316,IF($G$4=Dates1!$B$5,Datapack!Q316,IF($G$4=Dates1!$B$6,Datapack!W316,))))","v":1},null,{"$f":"IF($G$4=Dates1!$B$3,Datapack!F316,IF($G$4=Dates1!$B$4,Datapack!L316,IF($G$4=Dates1!$B$5,Datapack!R316,IF($G$4=Dates1!$B$6,Datapack!X316,))))","v":0}]
[null,"Camden",null,null,null,{"$f":"IF($G$4=Dates1!$B$3,Datapack!B317,IF($G$4=Dates1!$B$4,Datapack!H317,IF($G$4=Dates1!$B$5,Datapack!N317,IF($G$4=Dates1!$B$6,Datapack!T317,))))","v":2},null,{"$f":"IF($G$4=Dates1!$B$3,Datapack!C317,IF($G$4=Dates1!$B$4,Datapack!I317,IF($G$4=Dates1!$B$5,Datapack!O317,IF($G$4=Dates1!$B$6,Datapack!U317,))))","v":0},null,{"$f":"IF($G$4=Dates1!$B$3,Datapack!D317,IF($G$4=Dates1!$B$4,Datapack!J317,IF($G$4=Dates1!$B$5,Datapack!P317,IF($G$4=Dates1!$B$6,Datapack!V317,))))","v":2},null,{"$f":"IF($G$4=Dates1!$B$3,Datapack!E317,IF($G$4=Dates1!$B$4,Datapack!K317,IF($G$4=Dates1!$B$5,Datapack!Q317,IF($G$4=Dates1!$B$6,Datapack!W317,))))","v":0},null,{"$f":"IF($G$4=Dates1!$B$3,Datapack!F317,IF($G$4=Dates1!$B$4,Datapack!L317,IF($G$4=Dates1!$B$5,Datapack!R317,IF($G$4=Dates1!$B$6,Datapack!X317,))))","v":0}]
[null,"City of London",null,null,null,{"$f":"IF($G$4=Dates1!$B$3,Datapack!B318,IF($G$4=Dates1!$B$4,Datapack!H318,IF($G$4=Dates1!$B$5,Datapack!N318,IF($G$4=Dates1!$B$6,Datapack!T318,))))","v":0},null,{"$f":"IF($G$4=Dates1!$B$3,Datapack!C318,IF($G$4=Dates1!$B$4,Datapack!I318,IF($G$4=Dates1!$B$5,Datapack!O318,IF($G$4=Dates1!$B$6,Datapack!U318,))))","v":0},null,{"$f":"IF($G$4=Dates1!$B$3,Datapack!D318,IF($G$4=Dates1!$B$4,Datapack!J318,IF($G$4=Dates1!$B$5,Datapack!P318,IF($G$4=Dates1!$B$6,Datapack!V318,))))","v":0},null,{"$f":"IF($G$4=Dates1!$B$3,Datapack!E318,IF($G$4=Dates1!$B$4,Datapack!K318,IF($G$4=Dates1!$B$5,Datapack!Q318,IF($G$4=Dates1!$B$6,Datapack!W318,))))","v":0},null,{"$f":"IF($G$4=Dates1!$B$3,Datapack!F318,IF($G$4=Dates1!$B$4,Datapack!L318,IF($G$4=Dates1!$B$5,Datapack!R318,IF($G$4=Dates1!$B$6,Datapack!X318,))))","v":0}]
[null,"Croydon",null,null,null,{"$f":"IF($G$4=Dates1!$B$3,Datapack!B319,IF($G$4=Dates1!$B$4,Datapack!H319,IF($G$4=Dates1!$B$5,Datapack!N319,IF($G$4=Dates1!$B$6,Datapack!T319,))))","v":6},null,{"$f":"IF($G$4=Dates1!$B$3,Datapack!C319,IF($G$4=Dates1!$B$4,Datapack!I319,IF($G$4=Dates1!$B$5,Datapack!O319,IF($G$4=Dates1!$B$6,Datapack!U319,))))","v":1},null,{"$f":"IF($G$4=Dates1!$B$3,Datapack!D319,IF($G$4=Dates1!$B$4,Datapack!J319,IF($G$4=Dates1!$B$5,Datapack!P319,IF($G$4=Dates1!$B$6,Datapack!V319,))))","v":4},null,{"$f":"IF($G$4=Dates1!$B$3,Datapack!E319,IF($G$4=Dates1!$B$4,Datapack!K319,IF($G$4=Dates1!$B$5,Datapack!Q319,IF($G$4=Dates1!$B$6,Datapack!W319,))))","v":1},null,{"$f":"IF($G$4=Dates1!$B$3,Datapack!F319,IF($G$4=Dates1!$B$4,Datapack!L319,IF($G$4=Dates1!$B$5,Datapack!R319,IF($G$4=Dates1!$B$6,Datapack!X319,))))","v":0}]
[null,"Ealing",null,null,null,{"$f":"IF($G$4=Dates1!$B$3,Datapack!B320,IF($G$4=Dates1!$B$4,Datapack!H320,IF($G$4=Dates1!$B$5,Datapack!N320,IF($G$4=Dates1!$B$6,Datapack!T320,))))","v":7},null,{"$f":"IF($G$4=Dates1!$B$3,Datapack!C320,IF($G$4=Dates1!$B$4,Datapack!I320,IF($G$4=Dates1!$B$5,Datapack!O320,IF($G$4=Dates1!$B$6,Datapack!U320,))))","v":0},null,{"$f":"IF($G$4=Dates1!$B$3,Datapack!D320,IF($G$4=Dates1!$B$4,Datapack!J320,IF($G$4=Dates1!$B$5,Datapack!P320,IF($G$4=Dates1!$B$6,Datapack!V320,))))","v":5},null,{"$f":"IF($G$4=Dates1!$B$3,Datapack!E320,IF($G$4=Dates1!$B$4,Datapack!K320,IF($G$4=Dates1!$B$5,Datapack!Q320,IF($G$4=Dates1!$B$6,Datapack!W320,))))","v":2},null,{"$f":"IF($G$4=Dates1!$B$3,Datapack!F320,IF($G$4=Dates1!$B$4,Datapack!L320,IF($G$4=Dates1!$B$5,Datapack!R320,IF($G$4=Dates1!$B$6,Datapack!X320,))))","v":0}]
[null,"Enfield",null,null,null,{"$f":"IF($G$4=Dates1!$B$3,Datapack!B321,IF($G$4=Dates1!$B$4,Datapack!H321,IF($G$4=Dates1!$B$5,Datapack!N321,IF($G$4=Dates1!$B$6,Datapack!T321,))))","v":5},null,{"$f":"IF($G$4=Dates1!$B$3,Datapack!C321,IF($G$4=Dates1!$B$4,Datapack!I321,IF($G$4=Dates1!$B$5,Datapack!O321,IF($G$4=Dates1!$B$6,Datapack!U321,))))","v":0},null,{"$f":"IF($G$4=Dates1!$B$3,Datapack!D321,IF($G$4=Dates1!$B$4,Datapack!J321,IF($G$4=Dates1!$B$5,Datapack!P321,IF($G$4=Dates1!$B$6,Datapack!V321,))))","v":4},null,{"$f":"IF($G$4=Dates1!$B$3,Datapack!E321,IF($G$4=Dates1!$B$4,Datapack!K321,IF($G$4=Dates1!$B$5,Datapack!Q321,IF($G$4=Dates1!$B$6,Datapack!W321,))))","v":1},null,{"$f":"IF($G$4=Dates1!$B$3,Datapack!F321,IF($G$4=Dates1!$B$4,Datapack!L321,IF($G$4=Dates1!$B$5,Datapack!R321,IF($G$4=Dates1!$B$6,Datapack!X321,))))","v":0}]
[null,"Greenwich",null,null,null,{"$f":"IF($G$4=Dates1!$B$3,Datapack!B322,IF($G$4=Dates1!$B$4,Datapack!H322,IF($G$4=Dates1!$B$5,Datapack!N322,IF($G$4=Dates1!$B$6,Datapack!T322,))))","v":5},null,{"$f":"IF($G$4=Dates1!$B$3,Datapack!C322,IF($G$4=Dates1!$B$4,Datapack!I322,IF($G$4=Dates1!$B$5,Datapack!O322,IF($G$4=Dates1!$B$6,Datapack!U322,))))","v":0},null,{"$f":"IF($G$4=Dates1!$B$3,Datapack!D322,IF($G$4=Dates1!$B$4,Datapack!J322,IF($G$4=Dates1!$B$5,Datapack!P322,IF($G$4=Dates1!$B$6,Datapack!V322,))))","v":5},null,{"$f":"IF($G$4=Dates1!$B$3,Datapack!E322,IF($G$4=Dates1!$B$4,Datapack!K322,IF($G$4=Dates1!$B$5,Datapack!Q322,IF($G$4=Dates1!$B$6,Datapack!W322,))))","v":0},null,{"$f":"IF($G$4=Dates1!$B$3,Datapack!F322,IF($G$4=Dates1!$B$4,Datapack!L322,IF($G$4=Dates1!$B$5,Datapack!R322,IF($G$4=Dates1!$B$6,Datapack!X322,))))","v":0}]
[null,"Hackney",null,null,null,{"$f":"IF($G$4=Dates1!$B$3,Datapack!B323,IF($G$4=Dates1!$B$4,Datapack!H323,IF($G$4=Dates1!$B$5,Datapack!N323,IF($G$4=Dates1!$B$6,Datapack!T323,))))","v":3},null,{"$f":"IF($G$4=Dates1!$B$3,Datapack!C323,IF($G$4=Dates1!$B$4,Datapack!I323,IF($G$4=Dates1!$B$5,Datapack!O323,IF($G$4=Dates1!$B$6,Datapack!U323,))))","v":0},null,{"$f":"IF($G$4=Dates1!$B$3,Datapack!D323,IF($G$4=Dates1!$B$4,Datapack!J323,IF($G$4=Dates1!$B$5,Datapack!P323,IF($G$4=Dates1!$B$6,Datapack!V323,))))","v":2},null,{"$f":"IF($G$4=Dates1!$B$3,Datapack!E323,IF($G$4=Dates1!$B$4,Datapack!K323,IF($G$4=Dates1!$B$5,Datapack!Q323,IF($G$4=Dates1!$B$6,Datapack!W323,))))","v":1},null,{"$f":"IF($G$4=Dates1!$B$3,Datapack!F323,IF($G$4=Dates1!$B$4,Datapack!L323,IF($G$4=Dates1!$B$5,Datapack!R323,IF($G$4=Dates1!$B$6,Datapack!X323,))))","v":0}]
[null,"Hammersmith and Fulham",null,null,null,{"$f":"IF($G$4=Dates1!$B$3,Datapack!B324,IF($G$4=Dates1!$B$4,Datapack!H324,IF($G$4=Dates1!$B$5,Datapack!N324,IF($G$4=Dates1!$B$6,Datapack!T324,))))","v":0},null,{"$f":"IF($G$4=Dates1!$B$3,Datapack!C324,IF($G$4=Dates1!$B$4,Datapack!I324,IF($G$4=Dates1!$B$5,Datapack!O324,IF($G$4=Dates1!$B$6,Datapack!U324,))))","v":0},null,{"$f":"IF($G$4=Dates1!$B$3,Datapack!D324,IF($G$4=Dates1!$B$4,Datapack!J324,IF($G$4=Dates1!$B$5,Datapack!P324,IF($G$4=Dates1!$B$6,Datapack!V324,))))","v":0},null,{"$f":"IF($G$4=Dates1!$B$3,Datapack!E324,IF($G$4=Dates1!$B$4,Datapack!K324,IF($G$4=Dates1!$B$5,Datapack!Q324,IF($G$4=Dates1!$B$6,Datapack!W324,))))","v":0},null,{"$f":"IF($G$4=Dates1!$B$3,Datapack!F324,IF($G$4=Dates1!$B$4,Datapack!L324,IF($G$4=Dates1!$B$5,Datapack!R324,IF($G$4=Dates1!$B$6,Datapack!X324,))))","v":0}]
[null,"Haringey",null,null,null,{"$f":"IF($G$4=Dates1!$B$3,Datapack!B325,IF($G$4=Dates1!$B$4,Datapack!H325,IF($G$4=Dates1!$B$5,Datapack!N325,IF($G$4=Dates1!$B$6,Datapack!T325,))))","v":3},null,{"$f":"IF($G$4=Dates1!$B$3,Datapack!C325,IF($G$4=Dates1!$B$4,Datapack!I325,IF($G$4=Dates1!$B$5,Datapack!O325,IF($G$4=Dates1!$B$6,Datapack!U325,))))","v":0},null,{"$f":"IF($G$4=Dates1!$B$3,Datapack!D325,IF($G$4=Dates1!$B$4,Datapack!J325,IF($G$4=Dates1!$B$5,Datapack!P325,IF($G$4=Dates1!$B$6,Datapack!V325,))))","v":2},null,{"$f":"IF($G$4=Dates1!$B$3,Datapack!E325,IF($G$4=Dates1!$B$4,Datapack!K325,IF($G$4=Dates1!$B$5,Datapack!Q325,IF($G$4=Dates1!$B$6,Datapack!W325,))))","v":1},null,{"$f":"IF($G$4=Dates1!$B$3,Datapack!F325,IF($G$4=Dates1!$B$4,Datapack!L325,IF($G$4=Dates1!$B$5,Datapack!R325,IF($G$4=Dates1!$B$6,Datapack!X325,))))","v":0}]
[null,"Harrow",null,null,null,{"$f":"IF($G$4=Dates1!$B$3,Datapack!B326,IF($G$4=Dates1!$B$4,Datapack!H326,IF($G$4=Dates1!$B$5,Datapack!N326,IF($G$4=Dates1!$B$6,Datapack!T326,))))","v":1},null,{"$f":"IF($G$4=Dates1!$B$3,Datapack!C326,IF($G$4=Dates1!$B$4,Datapack!I326,IF($G$4=Dates1!$B$5,Datapack!O326,IF($G$4=Dates1!$B$6,Datapack!U326,))))","v":0},null,{"$f":"IF($G$4=Dates1!$B$3,Datapack!D326,IF($G$4=Dates1!$B$4,Datapack!J326,IF($G$4=Dates1!$B$5,Datapack!P326,IF($G$4=Dates1!$B$6,Datapack!V326,))))","v":1},null,{"$f":"IF($G$4=Dates1!$B$3,Datapack!E326,IF($G$4=Dates1!$B$4,Datapack!K326,IF($G$4=Dates1!$B$5,Datapack!Q326,IF($G$4=Dates1!$B$6,Datapack!W326,))))","v":0},null,{"$f":"IF($G$4=Dates1!$B$3,Datapack!F326,IF($G$4=Dates1!$B$4,Datapack!L326,IF($G$4=Dates1!$B$5,Datapack!R326,IF($G$4=Dates1!$B$6,Datapack!X326,))))","v":0}]
[null,"Havering",null,null,null,{"$f":"IF($G$4=Dates1!$B$3,Datapack!B327,IF($G$4=Dates1!$B$4,Datapack!H327,IF($G$4=Dates1!$B$5,Datapack!N327,IF($G$4=Dates1!$B$6,Datapack!T327,))))","v":2},null,{"$f":"IF($G$4=Dates1!$B$3,Datapack!C327,IF($G$4=Dates1!$B$4,Datapack!I327,IF($G$4=Dates1!$B$5,Datapack!O327,IF($G$4=Dates1!$B$6,Datapack!U327,))))","v":0},null,{"$f":"IF($G$4=Dates1!$B$3,Datapack!D327,IF($G$4=Dates1!$B$4,Datapack!J327,IF($G$4=Dates1!$B$5,Datapack!P327,IF($G$4=Dates1!$B$6,Datapack!V327,))))","v":2},null,{"$f":"IF($G$4=Dates1!$B$3,Datapack!E327,IF($G$4=Dates1!$B$4,Datapack!K327,IF($G$4=Dates1!$B$5,Datapack!Q327,IF($G$4=Dates1!$B$6,Datapack!W327,))))","v":0},null,{"$f":"IF($G$4=Dates1!$B$3,Datapack!F327,IF($G$4=Dates1!$B$4,Datapack!L327,IF($G$4=Dates1!$B$5,Datapack!R327,IF($G$4=Dates1!$B$6,Datapack!X327,))))","v":0}]
[null,"Hillingdon",null,null,null,{"$f":"IF($G$4=Dates1!$B$3,Datapack!B328,IF($G$4=Dates1!$B$4,Datapack!H328,IF($G$4=Dates1!$B$5,Datapack!N328,IF($G$4=Dates1!$B$6,Datapack!T328,))))","v":4},null,{"$f":"IF($G$4=Dates1!$B$3,Datapack!C328,IF($G$4=Dates1!$B$4,Datapack!I328,IF($G$4=Dates1!$B$5,Datapack!O328,IF($G$4=Dates1!$B$6,Datapack!U328,))))","v":0},null,{"$f":"IF($G$4=Dates1!$B$3,Datapack!D328,IF($G$4=Dates1!$B$4,Datapack!J328,IF($G$4=Dates1!$B$5,Datapack!P328,IF($G$4=Dates1!$B$6,Datapack!V328,))))","v":2},null,{"$f":"IF($G$4=Dates1!$B$3,Datapack!E328,IF($G$4=Dates1!$B$4,Datapack!K328,IF($G$4=Dates1!$B$5,Datapack!Q328,IF($G$4=Dates1!$B$6,Datapack!W328,))))","v":1},null,{"$f":"IF($G$4=Dates1!$B$3,Datapack!F328,IF($G$4=Dates1!$B$4,Datapack!L328,IF($G$4=Dates1!$B$5,Datapack!R328,IF($G$4=Dates1!$B$6,Datapack!X328,))))","v":1}]
[null,"Hounslow",null,null,null,{"$f":"IF($G$4=Dates1!$B$3,Datapack!B329,IF($G$4=Dates1!$B$4,Datapack!H329,IF($G$4=Dates1!$B$5,Datapack!N329,IF($G$4=Dates1!$B$6,Datapack!T329,))))","v":0},null,{"$f":"IF($G$4=Dates1!$B$3,Datapack!C329,IF($G$4=Dates1!$B$4,Datapack!I329,IF($G$4=Dates1!$B$5,Datapack!O329,IF($G$4=Dates1!$B$6,Datapack!U329,))))","v":0},null,{"$f":"IF($G$4=Dates1!$B$3,Datapack!D329,IF($G$4=Dates1!$B$4,Datapack!J329,IF($G$4=Dates1!$B$5,Datapack!P329,IF($G$4=Dates1!$B$6,Datapack!V329,))))","v":0},null,{"$f":"IF($G$4=Dates1!$B$3,Datapack!E329,IF($G$4=Dates1!$B$4,Datapack!K329,IF($G$4=Dates1!$B$5,Datapack!Q329,IF($G$4=Dates1!$B$6,Datapack!W329,))))","v":0},null,{"$f":"IF($G$4=Dates1!$B$3,Datapack!F329,IF($G$4=Dates1!$B$4,Datapack!L329,IF($G$4=Dates1!$B$5,Datapack!R329,IF($G$4=Dates1!$B$6,Datapack!X329,))))","v":0}]
[null,"Islington",null,null,null,{"$f":"IF($G$4=Dates1!$B$3,Datapack!B330,IF($G$4=Dates1!$B$4,Datapack!H330,IF($G$4=Dates1!$B$5,Datapack!N330,IF($G$4=Dates1!$B$6,Datapack!T330,))))","v":7},null,{"$f":"IF($G$4=Dates1!$B$3,Datapack!C330,IF($G$4=Dates1!$B$4,Datapack!I330,IF($G$4=Dates1!$B$5,Datapack!O330,IF($G$4=Dates1!$B$6,Datapack!U330,))))","v":0},null,{"$f":"IF($G$4=Dates1!$B$3,Datapack!D330,IF($G$4=Dates1!$B$4,Datapack!J330,IF($G$4=Dates1!$B$5,Datapack!P330,IF($G$4=Dates1!$B$6,Datapack!V330,))))","v":7},null,{"$f":"IF($G$4=Dates1!$B$3,Datapack!E330,IF($G$4=Dates1!$B$4,Datapack!K330,IF($G$4=Dates1!$B$5,Datapack!Q330,IF($G$4=Dates1!$B$6,Datapack!W330,))))","v":0},null,{"$f":"IF($G$4=Dates1!$B$3,Datapack!F330,IF($G$4=Dates1!$B$4,Datapack!L330,IF($G$4=Dates1!$B$5,Datapack!R330,IF($G$4=Dates1!$B$6,Datapack!X330,))))","v":0}]
[null,"Kensington and Chelsea",null,null,null,{"$f":"IF($G$4=Dates1!$B$3,Datapack!B331,IF($G$4=Dates1!$B$4,Datapack!H331,IF($G$4=Dates1!$B$5,Datapack!N331,IF($G$4=Dates1!$B$6,Datapack!T331,))))","v":1},null,{"$f":"IF($G$4=Dates1!$B$3,Datapack!C331,IF($G$4=Dates1!$B$4,Datapack!I331,IF($G$4=Dates1!$B$5,Datapack!O331,IF($G$4=Dates1!$B$6,Datapack!U331,))))","v":0},null,{"$f":"IF($G$4=Dates1!$B$3,Datapack!D331,IF($G$4=Dates1!$B$4,Datapack!J331,IF($G$4=Dates1!$B$5,Datapack!P331,IF($G$4=Dates1!$B$6,Datapack!V331,))))","v":1},null,{"$f":"IF($G$4=Dates1!$B$3,Datapack!E331,IF($G$4=Dates1!$B$4,Datapack!K331,IF($G$4=Dates1!$B$5,Datapack!Q331,IF($G$4=Dates1!$B$6,Datapack!W331,))))","v":0},null,{"$f":"IF($G$4=Dates1!$B$3,Datapack!F331,IF($G$4=Dates1!$B$4,Datapack!L331,IF($G$4=Dates1!$B$5,Datapack!R331,IF($G$4=Dates1!$B$6,Datapack!X331,))))","v":0}]
[null,"Kingston upon Thames",null,null,null,{"$f":"IF($G$4=Dates1!$B$3,Datapack!B332,IF($G$4=Dates1!$B$4,Datapack!H332,IF($G$4=Dates1!$B$5,Datapack!N332,IF($G$4=Dates1!$B$6,Datapack!T332,))))","v":2},null,{"$f":"IF($G$4=Dates1!$B$3,Datapack!C332,IF($G$4=Dates1!$B$4,Datapack!I332,IF($G$4=Dates1!$B$5,Datapack!O332,IF($G$4=Dates1!$B$6,Datapack!U332,))))","v":0},null,{"$f":"IF($G$4=Dates1!$B$3,Datapack!D332,IF($G$4=Dates1!$B$4,Datapack!J332,IF($G$4=Dates1!$B$5,Datapack!P332,IF($G$4=Dates1!$B$6,Datapack!V332,))))","v":1},null,{"$f":"IF($G$4=Dates1!$B$3,Datapack!E332,IF($G$4=Dates1!$B$4,Datapack!K332,IF($G$4=Dates1!$B$5,Datapack!Q332,IF($G$4=Dates1!$B$6,Datapack!W332,))))","v":1},null,{"$f":"IF($G$4=Dates1!$B$3,Datapack!F332,IF($G$4=Dates1!$B$4,Datapack!L332,IF($G$4=Dates1!$B$5,Datapack!R332,IF($G$4=Dates1!$B$6,Datapack!X332,))))","v":0}]
[null,"Lambeth",null,null,null,{"$f":"IF($G$4=Dates1!$B$3,Datapack!B333,IF($G$4=Dates1!$B$4,Datapack!H333,IF($G$4=Dates1!$B$5,Datapack!N333,IF($G$4=Dates1!$B$6,Datapack!T333,))))","v":10},null,{"$f":"IF($G$4=Dates1!$B$3,Datapack!C333,IF($G$4=Dates1!$B$4,Datapack!I333,IF($G$4=Dates1!$B$5,Datapack!O333,IF($G$4=Dates1!$B$6,Datapack!U333,))))","v":6},null,{"$f":"IF($G$4=Dates1!$B$3,Datapack!D333,IF($G$4=Dates1!$B$4,Datapack!J333,IF($G$4=Dates1!$B$5,Datapack!P333,IF($G$4=Dates1!$B$6,Datapack!V333,))))","v":4},null,{"$f":"IF($G$4=Dates1!$B$3,Datapack!E333,IF($G$4=Dates1!$B$4,Datapack!K333,IF($G$4=Dates1!$B$5,Datapack!Q333,IF($G$4=Dates1!$B$6,Datapack!W333,))))","v":0},null,{"$f":"IF($G$4=Dates1!$B$3,Datapack!F333,IF($G$4=Dates1!$B$4,Datapack!L333,IF($G$4=Dates1!$B$5,Datapack!R333,IF($G$4=Dates1!$B$6,Datapack!X333,))))","v":0}]
[null,"Lewisham",null,null,null,{"$f":"IF($G$4=Dates1!$B$3,Datapack!B334,IF($G$4=Dates1!$B$4,Datapack!H334,IF($G$4=Dates1!$B$5,Datapack!N334,IF($G$4=Dates1!$B$6,Datapack!T334,))))","v":3},null,{"$f":"IF($G$4=Dates1!$B$3,Datapack!C334,IF($G$4=Dates1!$B$4,Datapack!I334,IF($G$4=Dates1!$B$5,Datapack!O334,IF($G$4=Dates1!$B$6,Datapack!U334,))))","v":0},null,{"$f":"IF($G$4=Dates1!$B$3,Datapack!D334,IF($G$4=Dates1!$B$4,Datapack!J334,IF($G$4=Dates1!$B$5,Datapack!P334,IF($G$4=Dates1!$B$6,Datapack!V334,))))","v":2},null,{"$f":"IF($G$4=Dates1!$B$3,Datapack!E334,IF($G$4=Dates1!$B$4,Datapack!K334,IF($G$4=Dates1!$B$5,Datapack!Q334,IF($G$4=Dates1!$B$6,Datapack!W334,))))","v":1},null,{"$f":"IF($G$4=Dates1!$B$3,Datapack!F334,IF($G$4=Dates1!$B$4,Datapack!L334,IF($G$4=Dates1!$B$5,Datapack!R334,IF($G$4=Dates1!$B$6,Datapack!X334,))))","v":0}]
[null,"Merton",null,null,null,{"$f":"IF($G$4=Dates1!$B$3,Datapack!B335,IF($G$4=Dates1!$B$4,Datapack!H335,IF($G$4=Dates1!$B$5,Datapack!N335,IF($G$4=Dates1!$B$6,Datapack!T335,))))","v":1},null,{"$f":"IF($G$4=Dates1!$B$3,Datapack!C335,IF($G$4=Dates1!$B$4,Datapack!I335,IF($G$4=Dates1!$B$5,Datapack!O335,IF($G$4=Dates1!$B$6,Datapack!U335,))))","v":0},null,{"$f":"IF($G$4=Dates1!$B$3,Datapack!D335,IF($G$4=Dates1!$B$4,Datapack!J335,IF($G$4=Dates1!$B$5,Datapack!P335,IF($G$4=Dates1!$B$6,Datapack!V335,))))","v":1},null,{"$f":"IF($G$4=Dates1!$B$3,Datapack!E335,IF($G$4=Dates1!$B$4,Datapack!K335,IF($G$4=Dates1!$B$5,Datapack!Q335,IF($G$4=Dates1!$B$6,Datapack!W335,))))","v":0},null,{"$f":"IF($G$4=Dates1!$B$3,Datapack!F335,IF($G$4=Dates1!$B$4,Datapack!L335,IF($G$4=Dates1!$B$5,Datapack!R335,IF($G$4=Dates1!$B$6,Datapack!X335,))))","v":0}]
[null,"Newham",null,null,null,{"$f":"IF($G$4=Dates1!$B$3,Datapack!B336,IF($G$4=Dates1!$B$4,Datapack!H336,IF($G$4=Dates1!$B$5,Datapack!N336,IF($G$4=Dates1!$B$6,Datapack!T336,))))","v":5},null,{"$f":"IF($G$4=Dates1!$B$3,Datapack!C336,IF($G$4=Dates1!$B$4,Datapack!I336,IF($G$4=Dates1!$B$5,Datapack!O336,IF($G$4=Dates1!$B$6,Datapack!U336,))))","v":1},null,{"$f":"IF($G$4=Dates1!$B$3,Datapack!D336,IF($G$4=Dates1!$B$4,Datapack!J336,IF($G$4=Dates1!$B$5,Datapack!P336,IF($G$4=Dates1!$B$6,Datapack!V336,))))","v":4},null,{"$f":"IF($G$4=Dates1!$B$3,Datapack!E336,IF($G$4=Dates1!$B$4,Datapack!K336,IF($G$4=Dates1!$B$5,Datapack!Q336,IF($G$4=Dates1!$B$6,Datapack!W336,))))","v":0},null,{"$f":"IF($G$4=Dates1!$B$3,Datapack!F336,IF($G$4=Dates1!$B$4,Datapack!L336,IF($G$4=Dates1!$B$5,Datapack!R336,IF($G$4=Dates1!$B$6,Datapack!X336,))))","v":0}]
[null,"Redbridge",null,null,null,{"$f":"IF($G$4=Dates1!$B$3,Datapack!B337,IF($G$4=Dates1!$B$4,Datapack!H337,IF($G$4=Dates1!$B$5,Datapack!N337,IF($G$4=Dates1!$B$6,Datapack!T337,))))","v":1},null,{"$f":"IF($G$4=Dates1!$B$3,Datapack!C337,IF($G$4=Dates1!$B$4,Datapack!I337,IF($G$4=Dates1!$B$5,Datapack!O337,IF($G$4=Dates1!$B$6,Datapack!U337,))))","v":0},null,{"$f":"IF($G$4=Dates1!$B$3,Datapack!D337,IF($G$4=Dates1!$B$4,Datapack!J337,IF($G$4=Dates1!$B$5,Datapack!P337,IF($G$4=Dates1!$B$6,Datapack!V337,))))","v":0},null,{"$f":"IF($G$4=Dates1!$B$3,Datapack!E337,IF($G$4=Dates1!$B$4,Datapack!K337,IF($G$4=Dates1!$B$5,Datapack!Q337,IF($G$4=Dates1!$B$6,Datapack!W337,))))","v":1},null,{"$f":"IF($G$4=Dates1!$B$3,Datapack!F337,IF($G$4=Dates1!$B$4,Datapack!L337,IF($G$4=Dates1!$B$5,Datapack!R337,IF($G$4=Dates1!$B$6,Datapack!X337,))))","v":0}]
[null,"Richmond upon Thames",null,null,null,{"$f":"IF($G$4=Dates1!$B$3,Datapack!B338,IF($G$4=Dates1!$B$4,Datapack!H338,IF($G$4=Dates1!$B$5,Datapack!N338,IF($G$4=Dates1!$B$6,Datapack!T338,))))","v":1},null,{"$f":"IF($G$4=Dates1!$B$3,Datapack!C338,IF($G$4=Dates1!$B$4,Datapack!I338,IF($G$4=Dates1!$B$5,Datapack!O338,IF($G$4=Dates1!$B$6,Datapack!U338,))))","v":0},null,{"$f":"IF($G$4=Dates1!$B$3,Datapack!D338,IF($G$4=Dates1!$B$4,Datapack!J338,IF($G$4=Dates1!$B$5,Datapack!P338,IF($G$4=Dates1!$B$6,Datapack!V338,))))","v":1},null,{"$f":"IF($G$4=Dates1!$B$3,Datapack!E338,IF($G$4=Dates1!$B$4,Datapack!K338,IF($G$4=Dates1!$B$5,Datapack!Q338,IF($G$4=Dates1!$B$6,Datapack!W338,))))","v":0},null,{"$f":"IF($G$4=Dates1!$B$3,Datapack!F338,IF($G$4=Dates1!$B$4,Datapack!L338,IF($G$4=Dates1!$B$5,Datapack!R338,IF($G$4=Dates1!$B$6,Datapack!X338,))))","v":0}]
[null,"Southwark",null,null,null,{"$f":"IF($G$4=Dates1!$B$3,Datapack!B339,IF($G$4=Dates1!$B$4,Datapack!H339,IF($G$4=Dates1!$B$5,Datapack!N339,IF($G$4=Dates1!$B$6,Datapack!T339,))))","v":4},null,{"$f":"IF($G$4=Dates1!$B$3,Datapack!C339,IF($G$4=Dates1!$B$4,Datapack!I339,IF($G$4=Dates1!$B$5,Datapack!O339,IF($G$4=Dates1!$B$6,Datapack!U339,))))","v":0},null,{"$f":"IF($G$4=Dates1!$B$3,Datapack!D339,IF($G$4=Dates1!$B$4,Datapack!J339,IF($G$4=Dates1!$B$5,Datapack!P339,IF($G$4=Dates1!$B$6,Datapack!V339,))))","v":2},null,{"$f":"IF($G$4=Dates1!$B$3,Datapack!E339,IF($G$4=Dates1!$B$4,Datapack!K339,IF($G$4=Dates1!$B$5,Datapack!Q339,IF($G$4=Dates1!$B$6,Datapack!W339,))))","v":2},null,{"$f":"IF($G$4=Dates1!$B$3,Datapack!F339,IF($G$4=Dates1!$B$4,Datapack!L339,IF($G$4=Dates1!$B$5,Datapack!R339,IF($G$4=Dates1!$B$6,Datapack!X339,))))","v":0}]
[null,"Sutton",null,null,null,{"$f":"IF($G$4=Dates1!$B$3,Datapack!B340,IF($G$4=Dates1!$B$4,Datapack!H340,IF($G$4=Dates1!$B$5,Datapack!N340,IF($G$4=Dates1!$B$6,Datapack!T340,))))","v":2},null,{"$f":"IF($G$4=Dates1!$B$3,Datapack!C340,IF($G$4=Dates1!$B$4,Datapack!I340,IF($G$4=Dates1!$B$5,Datapack!O340,IF($G$4=Dates1!$B$6,Datapack!U340,))))","v":0},null,{"$f":"IF($G$4=Dates1!$B$3,Datapack!D340,IF($G$4=Dates1!$B$4,Datapack!J340,IF($G$4=Dates1!$B$5,Datapack!P340,IF($G$4=Dates1!$B$6,Datapack!V340,))))","v":1},null,{"$f":"IF($G$4=Dates1!$B$3,Datapack!E340,IF($G$4=Dates1!$B$4,Datapack!K340,IF($G$4=Dates1!$B$5,Datapack!Q340,IF($G$4=Dates1!$B$6,Datapack!W340,))))","v":1},null,{"$f":"IF($G$4=Dates1!$B$3,Datapack!F340,IF($G$4=Dates1!$B$4,Datapack!L340,IF($G$4=Dates1!$B$5,Datapack!R340,IF($G$4=Dates1!$B$6,Datapack!X340,))))","v":0}]
[null,"Tower Hamlets",null,null,null,{"$f":"IF($G$4=Dates1!$B$3,Datapack!B341,IF($G$4=Dates1!$B$4,Datapack!H341,IF($G$4=Dates1!$B$5,Datapack!N341,IF($G$4=Dates1!$B$6,Datapack!T341,))))","v":0},null,{"$f":"IF($G$4=Dates1!$B$3,Datapack!C341,IF($G$4=Dates1!$B$4,Datapack!I341,IF($G$4=Dates1!$B$5,Datapack!O341,IF($G$4=Dates1!$B$6,Datapack!U341,))))","v":0},null,{"$f":"IF($G$4=Dates1!$B$3,Datapack!D341,IF($G$4=Dates1!$B$4,Datapack!J341,IF($G$4=Dates1!$B$5,Datapack!P341,IF($G$4=Dates1!$B$6,Datapack!V341,))))","v":0},null,{"$f":"IF($G$4=Dates1!$B$3,Datapack!E341,IF($G$4=Dates1!$B$4,Datapack!K341,IF($G$4=Dates1!$B$5,Datapack!Q341,IF($G$4=Dates1!$B$6,Datapack!W341,))))","v":0},null,{"$f":"IF($G$4=Dates1!$B$3,Datapack!F341,IF($G$4=Dates1!$B$4,Datapack!L341,IF($G$4=Dates1!$B$5,Datapack!R341,IF($G$4=Dates1!$B$6,Datapack!X341,))))","v":0}]
[null,"Waltham Forest",null,null,null,{"$f":"IF($G$4=Dates1!$B$3,Datapack!B342,IF($G$4=Dates1!$B$4,Datapack!H342,IF($G$4=Dates1!$B$5,Datapack!N342,IF($G$4=Dates1!$B$6,Datapack!T342,))))","v":3},null,{"$f":"IF($G$4=Dates1!$B$3,Datapack!C342,IF($G$4=Dates1!$B$4,Datapack!I342,IF($G$4=Dates1!$B$5,Datapack!O342,IF($G$4=Dates1!$B$6,Datapack!U342,))))","v":1},null,{"$f":"IF($G$4=Dates1!$B$3,Datapack!D342,IF($G$4=Dates1!$B$4,Datapack!J342,IF($G$4=Dates1!$B$5,Datapack!P342,IF($G$4=Dates1!$B$6,Datapack!V342,))))","v":1},null,{"$f":"IF($G$4=Dates1!$B$3,Datapack!E342,IF($G$4=Dates1!$B$4,Datapack!K342,IF($G$4=Dates1!$B$5,Datapack!Q342,IF($G$4=Dates1!$B$6,Datapack!W342,))))","v":0},null,{"$f":"IF($G$4=Dates1!$B$3,Datapack!F342,IF($G$4=Dates1!$B$4,Datapack!L342,IF($G$4=Dates1!$B$5,Datapack!R342,IF($G$4=Dates1!$B$6,Datapack!X342,))))","v":1}]
[null,"Wandsworth",null,null,null,{"$f":"IF($G$4=Dates1!$B$3,Datapack!B343,IF($G$4=Dates1!$B$4,Datapack!H343,IF($G$4=Dates1!$B$5,Datapack!N343,IF($G$4=Dates1!$B$6,Datapack!T343,))))","v":4},null,{"$f":"IF($G$4=Dates1!$B$3,Datapack!C343,IF($G$4=Dates1!$B$4,Datapack!I343,IF($G$4=Dates1!$B$5,Datapack!O343,IF($G$4=Dates1!$B$6,Datapack!U343,))))","v":0},null,{"$f":"IF($G$4=Dates1!$B$3,Datapack!D343,IF($G$4=Dates1!$B$4,Datapack!J343,IF($G$4=Dates1!$B$5,Datapack!P343,IF($G$4=Dates1!$B$6,Datapack!V343,))))","v":3},null,{"$f":"IF($G$4=Dates1!$B$3,Datapack!E343,IF($G$4=Dates1!$B$4,Datapack!K343,IF($G$4=Dates1!$B$5,Datapack!Q343,IF($G$4=Dates1!$B$6,Datapack!W343,))))","v":1},null,{"$f":"IF($G$4=Dates1!$B$3,Datapack!F343,IF($G$4=Dates1!$B$4,Datapack!L343,IF($G$4=Dates1!$B$5,Datapack!R343,IF($G$4=Dates1!$B$6,Datapack!X343,))))","v":0}]
[null,"Westminster",null,null,null,{"$f":"IF($G$4=Dates1!$B$3,Datapack!B344,IF($G$4=Dates1!$B$4,Datapack!H344,IF($G$4=Dates1!$B$5,Datapack!N344,IF($G$4=Dates1!$B$6,Datapack!T344,))))","v":3},null,{"$f":"IF($G$4=Dates1!$B$3,Datapack!C344,IF($G$4=Dates1!$B$4,Datapack!I344,IF($G$4=Dates1!$B$5,Datapack!O344,IF($G$4=Dates1!$B$6,Datapack!U344,))))","v":0},null,{"$f":"IF($G$4=Dates1!$B$3,Datapack!D344,IF($G$4=Dates1!$B$4,Datapack!J344,IF($G$4=Dates1!$B$5,Datapack!P344,IF($G$4=Dates1!$B$6,Datapack!V344,))))","v":2},null,{"$f":"IF($G$4=Dates1!$B$3,Datapack!E344,IF($G$4=Dates1!$B$4,Datapack!K344,IF($G$4=Dates1!$B$5,Datapack!Q344,IF($G$4=Dates1!$B$6,Datapack!W344,))))","v":1},null,{"$f":"IF($G$4=Dates1!$B$3,Datapack!F344,IF($G$4=Dates1!$B$4,Datapack!L344,IF($G$4=Dates1!$B$5,Datapack!R344,IF($G$4=Dates1!$B$6,Datapack!X344,))))","v":0}]
[]
[null,"SOUTH EAST",null,null,null,{"$f":"SUM(F142:F160)","v":102},null,{"$f":"SUM(H142:H160)","v":16},null,{"$f":"SUM(J142:J160)","v":55},null,{"$f":"SUM(L142:L160)","v":29},null,{"$f":"SUM(N142:N160)","v":2}]
[null,"Bracknell Forest",null,null,null,{"$f":"IF($G$4=Dates1!$B$3,Datapack!B347,IF($G$4=Dates1!$B$4,Datapack!H347,IF($G$4=Dates1!$B$5,Datapack!N347,IF($G$4=Dates1!$B$6,Datapack!T347,))))","v":1},null,{"$f":"IF($G$4=Dates1!$B$3,Datapack!C347,IF($G$4=Dates1!$B$4,Datapack!I347,IF($G$4=Dates1!$B$5,Datapack!O347,IF($G$4=Dates1!$B$6,Datapack!U347,))))","v":0},null,{"$f":"IF($G$4=Dates1!$B$3,Datapack!D347,IF($G$4=Dates1!$B$4,Datapack!J347,IF($G$4=Dates1!$B$5,Datapack!P347,IF($G$4=Dates1!$B$6,Datapack!V347,))))","v":0},null,{"$f":"IF($G$4=Dates1!$B$3,Datapack!E347,IF($G$4=Dates1!$B$4,Datapack!K347,IF($G$4=Dates1!$B$5,Datapack!Q347,IF($G$4=Dates1!$B$6,Datapack!W347,))))","v":1},null,{"$f":"IF($G$4=Dates1!$B$3,Datapack!F347,IF($G$4=Dates1!$B$4,Datapack!L347,IF($G$4=Dates1!$B$5,Datapack!R347,IF($G$4=Dates1!$B$6,Datapack!X347,))))","v":0}]
[null,"Brighton and Hove",null,null,null,{"$f":"IF($G$4=Dates1!$B$3,Datapack!B348,IF($G$4=Dates1!$B$4,Datapack!H348,IF($G$4=Dates1!$B$5,Datapack!N348,IF($G$4=Dates1!$B$6,Datapack!T348,))))","v":5},null,{"$f":"IF($G$4=Dates1!$B$3,Datapack!C348,IF($G$4=Dates1!$B$4,Datapack!I348,IF($G$4=Dates1!$B$5,Datapack!O348,IF($G$4=Dates1!$B$6,Datapack!U348,))))","v":3},null,{"$f":"IF($G$4=Dates1!$B$3,Datapack!D348,IF($G$4=Dates1!$B$4,Datapack!J348,IF($G$4=Dates1!$B$5,Datapack!P348,IF($G$4=Dates1!$B$6,Datapack!V348,))))","v":2},null,{"$f":"IF($G$4=Dates1!$B$3,Datapack!E348,IF($G$4=Dates1!$B$4,Datapack!K348,IF($G$4=Dates1!$B$5,Datapack!Q348,IF($G$4=Dates1!$B$6,Datapack!W348,))))","v":0},null,{"$f":"IF($G$4=Dates1!$B$3,Datapack!F348,IF($G$4=Dates1!$B$4,Datapack!L348,IF($G$4=Dates1!$B$5,Datapack!R348,IF($G$4=Dates1!$B$6,Datapack!X348,))))","v":0}]
[null,"Buckinghamshire",null,null,null,{"$f":"IF($G$4=Dates1!$B$3,Datapack!B349,IF($G$4=Dates1!$B$4,Datapack!H349,IF($G$4=Dates1!$B$5,Datapack!N349,IF($G$4=Dates1!$B$6,Datapack!T349,))))","v":7},null,{"$f":"IF($G$4=Dates1!$B$3,Datapack!C349,IF($G$4=Dates1!$B$4,Datapack!I349,IF($G$4=Dates1!$B$5,Datapack!O349,IF($G$4=Dates1!$B$6,Datapack!U349,))))","v":0},null,{"$f":"IF($G$4=Dates1!$B$3,Datapack!D349,IF($G$4=Dates1!$B$4,Datapack!J349,IF($G$4=Dates1!$B$5,Datapack!P349,IF($G$4=Dates1!$B$6,Datapack!V349,))))","v":1},null,{"$f":"IF($G$4=Dates1!$B$3,Datapack!E349,IF($G$4=Dates1!$B$4,Datapack!K349,IF($G$4=Dates1!$B$5,Datapack!Q349,IF($G$4=Dates1!$B$6,Datapack!W349,))))","v":4},null,{"$f":"IF($G$4=Dates1!$B$3,Datapack!F349,IF($G$4=Dates1!$B$4,Datapack!L349,IF($G$4=Dates1!$B$5,Datapack!R349,IF($G$4=Dates1!$B$6,Datapack!X349,))))","v":2}]
[null,"East Sussex",null,null,null,{"$f":"IF($G$4=Dates1!$B$3,Datapack!B350,IF($G$4=Dates1!$B$4,Datapack!H350,IF($G$4=Dates1!$B$5,Datapack!N350,IF($G$4=Dates1!$B$6,Datapack!T350,))))","v":10},null,{"$f":"IF($G$4=Dates1!$B$3,Datapack!C350,IF($G$4=Dates1!$B$4,Datapack!I350,IF($G$4=Dates1!$B$5,Datapack!O350,IF($G$4=Dates1!$B$6,Datapack!U350,))))","v":1},null,{"$f":"IF($G$4=Dates1!$B$3,Datapack!D350,IF($G$4=Dates1!$B$4,Datapack!J350,IF($G$4=Dates1!$B$5,Datapack!P350,IF($G$4=Dates1!$B$6,Datapack!V350,))))","v":8},null,{"$f":"IF($G$4=Dates1!$B$3,Datapack!E350,IF($G$4=Dates1!$B$4,Datapack!K350,IF($G$4=Dates1!$B$5,Datapack!Q350,IF($G$4=Dates1!$B$6,Datapack!W350,))))","v":1},null,{"$f":"IF($G$4=Dates1!$B$3,Datapack!F350,IF($G$4=Dates1!$B$4,Datapack!L350,IF($G$4=Dates1!$B$5,Datapack!R350,IF($G$4=Dates1!$B$6,Datapack!X350,))))","v":0}]
[null,"Hampshire",null,null,null,{"$f":"IF($G$4=Dates1!$B$3,Datapack!B351,IF($G$4=Dates1!$B$4,Datapack!H351,IF($G$4=Dates1!$B$5,Datapack!N351,IF($G$4=Dates1!$B$6,Datapack!T351,))))","v":7},null,{"$f":"IF($G$4=Dates1!$B$3,Datapack!C351,IF($G$4=Dates1!$B$4,Datapack!I351,IF($G$4=Dates1!$B$5,Datapack!O351,IF($G$4=Dates1!$B$6,Datapack!U351,))))","v":2},null,{"$f":"IF($G$4=Dates1!$B$3,Datapack!D351,IF($G$4=Dates1!$B$4,Datapack!J351,IF($G$4=Dates1!$B$5,Datapack!P351,IF($G$4=Dates1!$B$6,Datapack!V351,))))","v":4},null,{"$f":"IF($G$4=Dates1!$B$3,Datapack!E351,IF($G$4=Dates1!$B$4,Datapack!K351,IF($G$4=Dates1!$B$5,Datapack!Q351,IF($G$4=Dates1!$B$6,Datapack!W351,))))","v":1},null,{"$f":"IF($G$4=Dates1!$B$3,Datapack!F351,IF($G$4=Dates1!$B$4,Datapack!L351,IF($G$4=Dates1!$B$5,Datapack!R351,IF($G$4=Dates1!$B$6,Datapack!X351,))))","v":0}]
[null,"Isle of Wight",null,null,null,{"$f":"IF($G$4=Dates1!$B$3,Datapack!B352,IF($G$4=Dates1!$B$4,Datapack!H352,IF($G$4=Dates1!$B$5,Datapack!N352,IF($G$4=Dates1!$B$6,Datapack!T352,))))","v":4},null,{"$f":"IF($G$4=Dates1!$B$3,Datapack!C352,IF($G$4=Dates1!$B$4,Datapack!I352,IF($G$4=Dates1!$B$5,Datapack!O352,IF($G$4=Dates1!$B$6,Datapack!U352,))))","v":2},null,{"$f":"IF($G$4=Dates1!$B$3,Datapack!D352,IF($G$4=Dates1!$B$4,Datapack!J352,IF($G$4=Dates1!$B$5,Datapack!P352,IF($G$4=Dates1!$B$6,Datapack!V352,))))","v":2},null,{"$f":"IF($G$4=Dates1!$B$3,Datapack!E352,IF($G$4=Dates1!$B$4,Datapack!K352,IF($G$4=Dates1!$B$5,Datapack!Q352,IF($G$4=Dates1!$B$6,Datapack!W352,))))","v":0},null,{"$f":"IF($G$4=Dates1!$B$3,Datapack!F352,IF($G$4=Dates1!$B$4,Datapack!L352,IF($G$4=Dates1!$B$5,Datapack!R352,IF($G$4=Dates1!$B$6,Datapack!X352,))))","v":0}]
[null,"Kent",null,null,null,{"$f":"IF($G$4=Dates1!$B$3,Datapack!B353,IF($G$4=Dates1!$B$4,Datapack!H353,IF($G$4=Dates1!$B$5,Datapack!N353,IF($G$4=Dates1!$B$6,Datapack!T353,))))","v":22},null,{"$f":"IF($G$4=Dates1!$B$3,Datapack!C353,IF($G$4=Dates1!$B$4,Datapack!I353,IF($G$4=Dates1!$B$5,Datapack!O353,IF($G$4=Dates1!$B$6,Datapack!U353,))))","v":5},null,{"$f":"IF($G$4=Dates1!$B$3,Datapack!D353,IF($G$4=Dates1!$B$4,Datapack!J353,IF($G$4=Dates1!$B$5,Datapack!P353,IF($G$4=Dates1!$B$6,Datapack!V353,))))","v":14},null,{"$f":"IF($G$4=Dates1!$B$3,Datapack!E353,IF($G$4=Dates1!$B$4,Datapack!K353,IF($G$4=Dates1!$B$5,Datapack!Q353,IF($G$4=Dates1!$B$6,Datapack!W353,))))","v":3},null,{"$f":"IF($G$4=Dates1!$B$3,Datapack!F353,IF($G$4=Dates1!$B$4,Datapack!L353,IF($G$4=Dates1!$B$5,Datapack!R353,IF($G$4=Dates1!$B$6,Datapack!X353,))))","v":0}]
[null,"Medway",null,null,null,{"$f":"IF($G$4=Dates1!$B$3,Datapack!B354,IF($G$4=Dates1!$B$4,Datapack!H354,IF($G$4=Dates1!$B$5,Datapack!N354,IF($G$4=Dates1!$B$6,Datapack!T354,))))","v":5},null,{"$f":"IF($G$4=Dates1!$B$3,Datapack!C354,IF($G$4=Dates1!$B$4,Datapack!I354,IF($G$4=Dates1!$B$5,Datapack!O354,IF($G$4=Dates1!$B$6,Datapack!U354,))))","v":0},null,{"$f":"IF($G$4=Dates1!$B$3,Datapack!D354,IF($G$4=Dates1!$B$4,Datapack!J354,IF($G$4=Dates1!$B$5,Datapack!P354,IF($G$4=Dates1!$B$6,Datapack!V354,))))","v":3},null,{"$f":"IF($G$4=Dates1!$B$3,Datapack!E354,IF($G$4=Dates1!$B$4,Datapack!K354,IF($G$4=Dates1!$B$5,Datapack!Q354,IF($G$4=Dates1!$B$6,Datapack!W354,))))","v":2},null,{"$f":"IF($G$4=Dates1!$B$3,Datapack!F354,IF($G$4=Dates1!$B$4,Datapack!L354,IF($G$4=Dates1!$B$5,Datapack!R354,IF($G$4=Dates1!$B$6,Datapack!X354,))))","v":0}]
[null,"Milton Keynes",null,null,null,{"$f":"IF($G$4=Dates1!$B$3,Datapack!B355,IF($G$4=Dates1!$B$4,Datapack!H355,IF($G$4=Dates1!$B$5,Datapack!N355,IF($G$4=Dates1!$B$6,Datapack!T355,))))","v":3},null,{"$f":"IF($G$4=Dates1!$B$3,Datapack!C355,IF($G$4=Dates1!$B$4,Datapack!I355,IF($G$4=Dates1!$B$5,Datapack!O355,IF($G$4=Dates1!$B$6,Datapack!U355,))))","v":0},null,{"$f":"IF($G$4=Dates1!$B$3,Datapack!D355,IF($G$4=Dates1!$B$4,Datapack!J355,IF($G$4=Dates1!$B$5,Datapack!P355,IF($G$4=Dates1!$B$6,Datapack!V355,))))","v":1},null,{"$f":"IF($G$4=Dates1!$B$3,Datapack!E355,IF($G$4=Dates1!$B$4,Datapack!K355,IF($G$4=Dates1!$B$5,Datapack!Q355,IF($G$4=Dates1!$B$6,Datapack!W355,))))","v":2},null,{"$f":"IF($G$4=Dates1!$B$3,Datapack!F355,IF($G$4=Dates1!$B$4,Datapack!L355,IF($G$4=Dates1!$B$5,Datapack!R355,IF($G$4=Dates1!$B$6,Datapack!X355,))))","v":0}]
[null,"Oxfordshire",null,null,null,{"$f":"IF($G$4=Dates1!$B$3,Datapack!B356,IF($G$4=Dates1!$B$4,Datapack!H356,IF($G$4=Dates1!$B$5,Datapack!N356,IF($G$4=Dates1!$B$6,Datapack!T356,))))","v":9},null,{"$f":"IF($G$4=Dates1!$B$3,Datapack!C356,IF($G$4=Dates1!$B$4,Datapack!I356,IF($G$4=Dates1!$B$5,Datapack!O356,IF($G$4=Dates1!$B$6,Datapack!U356,))))","v":0},null,{"$f":"IF($G$4=Dates1!$B$3,Datapack!D356,IF($G$4=Dates1!$B$4,Datapack!J356,IF($G$4=Dates1!$B$5,Datapack!P356,IF($G$4=Dates1!$B$6,Datapack!V356,))))","v":7},null,{"$f":"IF($G$4=Dates1!$B$3,Datapack!E356,IF($G$4=Dates1!$B$4,Datapack!K356,IF($G$4=Dates1!$B$5,Datapack!Q356,IF($G$4=Dates1!$B$6,Datapack!W356,))))","v":2},null,{"$f":"IF($G$4=Dates1!$B$3,Datapack!F356,IF($G$4=Dates1!$B$4,Datapack!L356,IF($G$4=Dates1!$B$5,Datapack!R356,IF($G$4=Dates1!$B$6,Datapack!X356,))))","v":0}]
[null,"Portsmouth",null,null,null,{"$f":"IF($G$4=Dates1!$B$3,Datapack!B357,IF($G$4=Dates1!$B$4,Datapack!H357,IF($G$4=Dates1!$B$5,Datapack!N357,IF($G$4=Dates1!$B$6,Datapack!T357,))))","v":2},null,{"$f":"IF($G$4=Dates1!$B$3,Datapack!C357,IF($G$4=Dates1!$B$4,Datapack!I357,IF($G$4=Dates1!$B$5,Datapack!O357,IF($G$4=Dates1!$B$6,Datapack!U357,))))","v":0},null,{"$f":"IF($G$4=Dates1!$B$3,Datapack!D357,IF($G$4=Dates1!$B$4,Datapack!J357,IF($G$4=Dates1!$B$5,Datapack!P357,IF($G$4=Dates1!$B$6,Datapack!V357,))))","v":1},null,{"$f":"IF($G$4=Dates1!$B$3,Datapack!E357,IF($G$4=Dates1!$B$4,Datapack!K357,IF($G$4=Dates1!$B$5,Datapack!Q357,IF($G$4=Dates1!$B$6,Datapack!W357,))))","v":1},null,{"$f":"IF($G$4=Dates1!$B$3,Datapack!F357,IF($G$4=Dates1!$B$4,Datapack!L357,IF($G$4=Dates1!$B$5,Datapack!R357,IF($G$4=Dates1!$B$6,Datapack!X357,))))","v":0}]
[null,"Reading",null,null,null,{"$f":"IF($G$4=Dates1!$B$3,Datapack!B358,IF($G$4=Dates1!$B$4,Datapack!H358,IF($G$4=Dates1!$B$5,Datapack!N358,IF($G$4=Dates1!$B$6,Datapack!T358,))))","v":4},null,{"$f":"IF($G$4=Dates1!$B$3,Datapack!C358,IF($G$4=Dates1!$B$4,Datapack!I358,IF($G$4=Dates1!$B$5,Datapack!O358,IF($G$4=Dates1!$B$6,Datapack!U358,))))","v":0},null,{"$f":"IF($G$4=Dates1!$B$3,Datapack!D358,IF($G$4=Dates1!$B$4,Datapack!J358,IF($G$4=Dates1!$B$5,Datapack!P358,IF($G$4=Dates1!$B$6,Datapack!V358,))))","v":4},null,{"$f":"IF($G$4=Dates1!$B$3,Datapack!E358,IF($G$4=Dates1!$B$4,Datapack!K358,IF($G$4=Dates1!$B$5,Datapack!Q358,IF($G$4=Dates1!$B$6,Datapack!W358,))))","v":0},null,{"$f":"IF($G$4=Dates1!$B$3,Datapack!F358,IF($G$4=Dates1!$B$4,Datapack!L358,IF($G$4=Dates1!$B$5,Datapack!R358,IF($G$4=Dates1!$B$6,Datapack!X358,))))","v":0}]
[null,"Slough",null,null,null,{"$f":"IF($G$4=Dates1!$B$3,Datapack!B359,IF($G$4=Dates1!$B$4,Datapack!H359,IF($G$4=Dates1!$B$5,Datapack!N359,IF($G$4=Dates1!$B$6,Datapack!T359,))))","v":1},null,{"$f":"IF($G$4=Dates1!$B$3,Datapack!C359,IF($G$4=Dates1!$B$4,Datapack!I359,IF($G$4=Dates1!$B$5,Datapack!O359,IF($G$4=Dates1!$B$6,Datapack!U359,))))","v":0},null,{"$f":"IF($G$4=Dates1!$B$3,Datapack!D359,IF($G$4=Dates1!$B$4,Datapack!J359,IF($G$4=Dates1!$B$5,Datapack!P359,IF($G$4=Dates1!$B$6,Datapack!V359,))))","v":1},null,{"$f":"IF($G$4=Dates1!$B$3,Datapack!E359,IF($G$4=Dates1!$B$4,Datapack!K359,IF($G$4=Dates1!$B$5,Datapack!Q359,IF($G$4=Dates1!$B$6,Datapack!W359,))))","v":0},null,{"$f":"IF($G$4=Dates1!$B$3,Datapack!F359,IF($G$4=Dates1!$B$4,Datapack!L359,IF($G$4=Dates1!$B$5,Datapack!R359,IF($G$4=Dates1!$B$6,Datapack!X359,))))","v":0}]
[null,"Southampton",null,null,null,{"$f":"IF($G$4=Dates1!$B$3,Datapack!B360,IF($G$4=Dates1!$B$4,Datapack!H360,IF($G$4=Dates1!$B$5,Datapack!N360,IF($G$4=Dates1!$B$6,Datapack!T360,))))","v":3},null,{"$f":"IF($G$4=Dates1!$B$3,Datapack!C360,IF($G$4=Dates1!$B$4,Datapack!I360,IF($G$4=Dates1!$B$5,Datapack!O360,IF($G$4=Dates1!$B$6,Datapack!U360,))))","v":2},null,{"$f":"IF($G$4=Dates1!$B$3,Datapack!D360,IF($G$4=Dates1!$B$4,Datapack!J360,IF($G$4=Dates1!$B$5,Datapack!P360,IF($G$4=Dates1!$B$6,Datapack!V360,))))","v":1},null,{"$f":"IF($G$4=Dates1!$B$3,Datapack!E360,IF($G$4=Dates1!$B$4,Datapack!K360,IF($G$4=Dates1!$B$5,Datapack!Q360,IF($G$4=Dates1!$B$6,Datapack!W360,))))","v":0},null,{"$f":"IF($G$4=Dates1!$B$3,Datapack!F360,IF($G$4=Dates1!$B$4,Datapack!L360,IF($G$4=Dates1!$B$5,Datapack!R360,IF($G$4=Dates1!$B$6,Datapack!X360,))))","v":0}]
[null,"Surrey",null,null,null,{"$f":"IF($G$4=Dates1!$B$3,Datapack!B361,IF($G$4=Dates1!$B$4,Datapack!H361,IF($G$4=Dates1!$B$5,Datapack!N361,IF($G$4=Dates1!$B$6,Datapack!T361,))))","v":8},null,{"$f":"IF($G$4=Dates1!$B$3,Datapack!C361,IF($G$4=Dates1!$B$4,Datapack!I361,IF($G$4=Dates1!$B$5,Datapack!O361,IF($G$4=Dates1!$B$6,Datapack!U361,))))","v":0},null,{"$f":"IF($G$4=Dates1!$B$3,Datapack!D361,IF($G$4=Dates1!$B$4,Datapack!J361,IF($G$4=Dates1!$B$5,Datapack!P361,IF($G$4=Dates1!$B$6,Datapack!V361,))))","v":3},null,{"$f":"IF($G$4=Dates1!$B$3,Datapack!E361,IF($G$4=Dates1!$B$4,Datapack!K361,IF($G$4=Dates1!$B$5,Datapack!Q361,IF($G$4=Dates1!$B$6,Datapack!W361,))))","v":5},null,{"$f":"IF($G$4=Dates1!$B$3,Datapack!F361,IF($G$4=Dates1!$B$4,Datapack!L361,IF($G$4=Dates1!$B$5,Datapack!R361,IF($G$4=Dates1!$B$6,Datapack!X361,))))","v":0}]
[null,"West Berkshire",null,null,null,{"$f":"IF($G$4=Dates1!$B$3,Datapack!B362,IF($G$4=Dates1!$B$4,Datapack!H362,IF($G$4=Dates1!$B$5,Datapack!N362,IF($G$4=Dates1!$B$6,Datapack!T362,))))","v":2},null,{"$f":"IF($G$4=Dates1!$B$3,Datapack!C362,IF($G$4=Dates1!$B$4,Datapack!I362,IF($G$4=Dates1!$B$5,Datapack!O362,IF($G$4=Dates1!$B$6,Datapack!U362,))))","v":0},null,{"$f":"IF($G$4=Dates1!$B$3,Datapack!D362,IF($G$4=Dates1!$B$4,Datapack!J362,IF($G$4=Dates1!$B$5,Datapack!P362,IF($G$4=Dates1!$B$6,Datapack!V362,))))","v":0},null,{"$f":"IF($G$4=Dates1!$B$3,Datapack!E362,IF($G$4=Dates1!$B$4,Datapack!K362,IF($G$4=Dates1!$B$5,Datapack!Q362,IF($G$4=Dates1!$B$6,Datapack!W362,))))","v":2},null,{"$f":"IF($G$4=Dates1!$B$3,Datapack!F362,IF($G$4=Dates1!$B$4,Datapack!L362,IF($G$4=Dates1!$B$5,Datapack!R362,IF($G$4=Dates1!$B$6,Datapack!X362,))))","v":0}]
[null,"West Sussex",null,null,null,{"$f":"IF($G$4=Dates1!$B$3,Datapack!B363,IF($G$4=Dates1!$B$4,Datapack!H363,IF($G$4=Dates1!$B$5,Datapack!N363,IF($G$4=Dates1!$B$6,Datapack!T363,))))","v":8},null,{"$f":"IF($G$4=Dates1!$B$3,Datapack!C363,IF($G$4=Dates1!$B$4,Datapack!I363,IF($G$4=Dates1!$B$5,Datapack!O363,IF($G$4=Dates1!$B$6,Datapack!U363,))))","v":1},null,{"$f":"IF($G$4=Dates1!$B$3,Datapack!D363,IF($G$4=Dates1!$B$4,Datapack!J363,IF($G$4=Dates1!$B$5,Datapack!P363,IF($G$4=Dates1!$B$6,Datapack!V363,))))","v":3},null,{"$f":"IF($G$4=Dates1!$B$3,Datapack!E363,IF($G$4=Dates1!$B$4,Datapack!K363,IF($G$4=Dates1!$B$5,Datapack!Q363,IF($G$4=Dates1!$B$6,Datapack!W363,))))","v":4},null,{"$f":"IF($G$4=Dates1!$B$3,Datapack!F363,IF($G$4=Dates1!$B$4,Datapack!L363,IF($G$4=Dates1!$B$5,Datapack!R363,IF($G$4=Dates1!$B$6,Datapack!X363,))))","v":0}]
[null,"Windsor and Maidenhead",null,null,null,{"$f":"IF($G$4=Dates1!$B$3,Datapack!B364,IF($G$4=Dates1!$B$4,Datapack!H364,IF($G$4=Dates1!$B$5,Datapack!N364,IF($G$4=Dates1!$B$6,Datapack!T364,))))","v":1},null,{"$f":"IF($G$4=Dates1!$B$3,Datapack!C364,IF($G$4=Dates1!$B$4,Datapack!I364,IF($G$4=Dates1!$B$5,Datapack!O364,IF($G$4=Dates1!$B$6,Datapack!U364,))))","v":0},null,{"$f":"IF($G$4=Dates1!$B$3,Datapack!D364,IF($G$4=Dates1!$B$4,Datapack!J364,IF($G$4=Dates1!$B$5,Datapack!P364,IF($G$4=Dates1!$B$6,Datapack!V364,))))","v":0},null,{"$f":"IF($G$4=Dates1!$B$3,Datapack!E364,IF($G$4=Dates1!$B$4,Datapack!K364,IF($G$4=Dates1!$B$5,Datapack!Q364,IF($G$4=Dates1!$B$6,Datapack!W364,))))","v":1},null,{"$f":"IF($G$4=Dates1!$B$3,Datapack!F364,IF($G$4=Dates1!$B$4,Datapack!L364,IF($G$4=Dates1!$B$5,Datapack!R364,IF($G$4=Dates1!$B$6,Datapack!X364,))))","v":0}]
[null,"Wokingham",null,null,null,{"$f":"IF($G$4=Dates1!$B$3,Datapack!B365,IF($G$4=Dates1!$B$4,Datapack!H365,IF($G$4=Dates1!$B$5,Datapack!N365,IF($G$4=Dates1!$B$6,Datapack!T365,))))","v":0},null,{"$f":"IF($G$4=Dates1!$B$3,Datapack!C365,IF($G$4=Dates1!$B$4,Datapack!I365,IF($G$4=Dates1!$B$5,Datapack!O365,IF($G$4=Dates1!$B$6,Datapack!U365,))))","v":0},null,{"$f":"IF($G$4=Dates1!$B$3,Datapack!D365,IF($G$4=Dates1!$B$4,Datapack!J365,IF($G$4=Dates1!$B$5,Datapack!P365,IF($G$4=Dates1!$B$6,Datapack!V365,))))","v":0},null,{"$f":"IF($G$4=Dates1!$B$3,Datapack!E365,IF($G$4=Dates1!$B$4,Datapack!K365,IF($G$4=Dates1!$B$5,Datapack!Q365,IF($G$4=Dates1!$B$6,Datapack!W365,))))","v":0},null,{"$f":"IF($G$4=Dates1!$B$3,Datapack!F365,IF($G$4=Dates1!$B$4,Datapack!L365,IF($G$4=Dates1!$B$5,Datapack!R365,IF($G$4=Dates1!$B$6,Datapack!X365,))))","v":0}]
[]
[null,"SOUTH WEST",null,null,null,{"$f":"SUM(F163:F178)","v":74},null,{"$f":"SUM(H163:H178)","v":8},null,31,null,32,null,3]
[null,"Bath and North East Somerset",null,null,null,{"$f":"IF($G$4=Dates1!$B$3,Datapack!B368,IF($G$4=Dates1!$B$4,Datapack!H368,IF($G$4=Dates1!$B$5,Datapack!N368,IF($G$4=Dates1!$B$6,Datapack!T368,))))","v":2},null,{"$f":"IF($G$4=Dates1!$B$3,Datapack!C368,IF($G$4=Dates1!$B$4,Datapack!I368,IF($G$4=Dates1!$B$5,Datapack!O368,IF($G$4=Dates1!$B$6,Datapack!U368,))))","v":0},null,{"$f":"IF($G$4=Dates1!$B$3,Datapack!D368,IF($G$4=Dates1!$B$4,Datapack!J368,IF($G$4=Dates1!$B$5,Datapack!P368,IF($G$4=Dates1!$B$6,Datapack!V368,))))","v":2},null,{"$f":"IF($G$4=Dates1!$B$3,Datapack!E368,IF($G$4=Dates1!$B$4,Datapack!K368,IF($G$4=Dates1!$B$5,Datapack!Q368,IF($G$4=Dates1!$B$6,Datapack!W368,))))","v":0},null,{"$f":"IF($G$4=Dates1!$B$3,Datapack!F368,IF($G$4=Dates1!$B$4,Datapack!L368,IF($G$4=Dates1!$B$5,Datapack!R368,IF($G$4=Dates1!$B$6,Datapack!X368,))))","v":0}]
[null,"Bournemouth",null,null,null,{"$f":"IF($G$4=Dates1!$B$3,Datapack!B369,IF($G$4=Dates1!$B$4,Datapack!H369,IF($G$4=Dates1!$B$5,Datapack!N369,IF($G$4=Dates1!$B$6,Datapack!T369,))))","v":0},null,{"$f":"IF($G$4=Dates1!$B$3,Datapack!C369,IF($G$4=Dates1!$B$4,Datapack!I369,IF($G$4=Dates1!$B$5,Datapack!O369,IF($G$4=Dates1!$B$6,Datapack!U369,))))","v":0},null,{"$f":"IF($G$4=Dates1!$B$3,Datapack!D369,IF($G$4=Dates1!$B$4,Datapack!J369,IF($G$4=Dates1!$B$5,Datapack!P369,IF($G$4=Dates1!$B$6,Datapack!V369,))))","v":0},null,{"$f":"IF($G$4=Dates1!$B$3,Datapack!E369,IF($G$4=Dates1!$B$4,Datapack!K369,IF($G$4=Dates1!$B$5,Datapack!Q369,IF($G$4=Dates1!$B$6,Datapack!W369,))))","v":0},null,{"$f":"IF($G$4=Dates1!$B$3,Datapack!F369,IF($G$4=Dates1!$B$4,Datapack!L369,IF($G$4=Dates1!$B$5,Datapack!R369,IF($G$4=Dates1!$B$6,Datapack!X369,))))","v":0}]
[null,"Bristol City of",null,null,null,{"$f":"IF($G$4=Dates1!$B$3,Datapack!B370,IF($G$4=Dates1!$B$4,Datapack!H370,IF($G$4=Dates1!$B$5,Datapack!N370,IF($G$4=Dates1!$B$6,Datapack!T370,))))","v":10},null,{"$f":"IF($G$4=Dates1!$B$3,Datapack!C370,IF($G$4=Dates1!$B$4,Datapack!I370,IF($G$4=Dates1!$B$5,Datapack!O370,IF($G$4=Dates1!$B$6,Datapack!U370,))))","v":4},null,{"$f":"IF($G$4=Dates1!$B$3,Datapack!D370,IF($G$4=Dates1!$B$4,Datapack!J370,IF($G$4=Dates1!$B$5,Datapack!P370,IF($G$4=Dates1!$B$6,Datapack!V370,))))","v":5},null,{"$f":"IF($G$4=Dates1!$B$3,Datapack!E370,IF($G$4=Dates1!$B$4,Datapack!K370,IF($G$4=Dates1!$B$5,Datapack!Q370,IF($G$4=Dates1!$B$6,Datapack!W370,))))","v":1},null,{"$f":"IF($G$4=Dates1!$B$3,Datapack!F370,IF($G$4=Dates1!$B$4,Datapack!L370,IF($G$4=Dates1!$B$5,Datapack!R370,IF($G$4=Dates1!$B$6,Datapack!X370,))))","v":0}]
[null,"Cornwall",null,null,null,{"$f":"IF($G$4=Dates1!$B$3,Datapack!B371,IF($G$4=Dates1!$B$4,Datapack!H371,IF($G$4=Dates1!$B$5,Datapack!N371,IF($G$4=Dates1!$B$6,Datapack!T371,))))","v":3},null,{"$f":"IF($G$4=Dates1!$B$3,Datapack!C371,IF($G$4=Dates1!$B$4,Datapack!I371,IF($G$4=Dates1!$B$5,Datapack!O371,IF($G$4=Dates1!$B$6,Datapack!U371,))))","v":0},null,{"$f":"IF($G$4=Dates1!$B$3,Datapack!D371,IF($G$4=Dates1!$B$4,Datapack!J371,IF($G$4=Dates1!$B$5,Datapack!P371,IF($G$4=Dates1!$B$6,Datapack!V371,))))","v":1},null,{"$f":"IF($G$4=Dates1!$B$3,Datapack!E371,IF($G$4=Dates1!$B$4,Datapack!K371,IF($G$4=Dates1!$B$5,Datapack!Q371,IF($G$4=Dates1!$B$6,Datapack!W371,))))","v":2},null,{"$f":"IF($G$4=Dates1!$B$3,Datapack!F371,IF($G$4=Dates1!$B$4,Datapack!L371,IF($G$4=Dates1!$B$5,Datapack!R371,IF($G$4=Dates1!$B$6,Datapack!X371,))))","v":0}]
[null,"Devon",null,null,null,{"$f":"IF($G$4=Dates1!$B$3,Datapack!B372,IF($G$4=Dates1!$B$4,Datapack!H372,IF($G$4=Dates1!$B$5,Datapack!N372,IF($G$4=Dates1!$B$6,Datapack!T372,))))","v":11},null,{"$f":"IF($G$4=Dates1!$B$3,Datapack!C372,IF($G$4=Dates1!$B$4,Datapack!I372,IF($G$4=Dates1!$B$5,Datapack!O372,IF($G$4=Dates1!$B$6,Datapack!U372,))))","v":0},null,{"$f":"IF($G$4=Dates1!$B$3,Datapack!D372,IF($G$4=Dates1!$B$4,Datapack!J372,IF($G$4=Dates1!$B$5,Datapack!P372,IF($G$4=Dates1!$B$6,Datapack!V372,))))","v":6},null,{"$f":"IF($G$4=Dates1!$B$3,Datapack!E372,IF($G$4=Dates1!$B$4,Datapack!K372,IF($G$4=Dates1!$B$5,Datapack!Q372,IF($G$4=Dates1!$B$6,Datapack!W372,))))","v":5},null,{"$f":"IF($G$4=Dates1!$B$3,Datapack!F372,IF($G$4=Dates1!$B$4,Datapack!L372,IF($G$4=Dates1!$B$5,Datapack!R372,IF($G$4=Dates1!$B$6,Datapack!X372,))))","v":0}]
[null,"Dorset",null,null,null,{"$f":"IF($G$4=Dates1!$B$3,Datapack!B373,IF($G$4=Dates1!$B$4,Datapack!H373,IF($G$4=Dates1!$B$5,Datapack!N373,IF($G$4=Dates1!$B$6,Datapack!T373,))))","v":5},null,{"$f":"IF($G$4=Dates1!$B$3,Datapack!C373,IF($G$4=Dates1!$B$4,Datapack!I373,IF($G$4=Dates1!$B$5,Datapack!O373,IF($G$4=Dates1!$B$6,Datapack!U373,))))","v":0},null,{"$f":"IF($G$4=Dates1!$B$3,Datapack!D373,IF($G$4=Dates1!$B$4,Datapack!J373,IF($G$4=Dates1!$B$5,Datapack!P373,IF($G$4=Dates1!$B$6,Datapack!V373,))))","v":1},null,{"$f":"IF($G$4=Dates1!$B$3,Datapack!E373,IF($G$4=Dates1!$B$4,Datapack!K373,IF($G$4=Dates1!$B$5,Datapack!Q373,IF($G$4=Dates1!$B$6,Datapack!W373,))))","v":4},null,{"$f":"IF($G$4=Dates1!$B$3,Datapack!F373,IF($G$4=Dates1!$B$4,Datapack!L373,IF($G$4=Dates1!$B$5,Datapack!R373,IF($G$4=Dates1!$B$6,Datapack!X373,))))","v":0}]
[null,"Gloucestershire",null,null,null,{"$f":"IF($G$4=Dates1!$B$3,Datapack!B374,IF($G$4=Dates1!$B$4,Datapack!H374,IF($G$4=Dates1!$B$5,Datapack!N374,IF($G$4=Dates1!$B$6,Datapack!T374,))))","v":11},null,{"$f":"IF($G$4=Dates1!$B$3,Datapack!C374,IF($G$4=Dates1!$B$4,Datapack!I374,IF($G$4=Dates1!$B$5,Datapack!O374,IF($G$4=Dates1!$B$6,Datapack!U374,))))","v":0},null,{"$f":"IF($G$4=Dates1!$B$3,Datapack!D374,IF($G$4=Dates1!$B$4,Datapack!J374,IF($G$4=Dates1!$B$5,Datapack!P374,IF($G$4=Dates1!$B$6,Datapack!V374,))))","v":6},null,{"$f":"IF($G$4=Dates1!$B$3,Datapack!E374,IF($G$4=Dates1!$B$4,Datapack!K374,IF($G$4=Dates1!$B$5,Datapack!Q374,IF($G$4=Dates1!$B$6,Datapack!W374,))))","v":5},null,{"$f":"IF($G$4=Dates1!$B$3,Datapack!F374,IF($G$4=Dates1!$B$4,Datapack!L374,IF($G$4=Dates1!$B$5,Datapack!R374,IF($G$4=Dates1!$B$6,Datapack!X374,))))","v":0}]
[null,"Isles Of Scilly",null,null,null,{"$f":"IF($G$4=Dates1!$B$3,Datapack!B375,IF($G$4=Dates1!$B$4,Datapack!H375,IF($G$4=Dates1!$B$5,Datapack!N375,IF($G$4=Dates1!$B$6,Datapack!T375,))))","v":0},null,{"$f":"IF($G$4=Dates1!$B$3,Datapack!C375,IF($G$4=Dates1!$B$4,Datapack!I375,IF($G$4=Dates1!$B$5,Datapack!O375,IF($G$4=Dates1!$B$6,Datapack!U375,))))","v":0},null,{"$f":"IF($G$4=Dates1!$B$3,Datapack!D375,IF($G$4=Dates1!$B$4,Datapack!J375,IF($G$4=Dates1!$B$5,Datapack!P375,IF($G$4=Dates1!$B$6,Datapack!V375,))))","v":0},null,{"$f":"IF($G$4=Dates1!$B$3,Datapack!E375,IF($G$4=Dates1!$B$4,Datapack!K375,IF($G$4=Dates1!$B$5,Datapack!Q375,IF($G$4=Dates1!$B$6,Datapack!W375,))))","v":0},null,{"$f":"IF($G$4=Dates1!$B$3,Datapack!F375,IF($G$4=Dates1!$B$4,Datapack!L375,IF($G$4=Dates1!$B$5,Datapack!R375,IF($G$4=Dates1!$B$6,Datapack!X375,))))","v":0}]
[null,"North Somerset",null,null,null,{"$f":"IF($G$4=Dates1!$B$3,Datapack!B376,IF($G$4=Dates1!$B$4,Datapack!H376,IF($G$4=Dates1!$B$5,Datapack!N376,IF($G$4=Dates1!$B$6,Datapack!T376,))))","v":3},null,{"$f":"IF($G$4=Dates1!$B$3,Datapack!C376,IF($G$4=Dates1!$B$4,Datapack!I376,IF($G$4=Dates1!$B$5,Datapack!O376,IF($G$4=Dates1!$B$6,Datapack!U376,))))","v":0},null,{"$f":"IF($G$4=Dates1!$B$3,Datapack!D376,IF($G$4=Dates1!$B$4,Datapack!J376,IF($G$4=Dates1!$B$5,Datapack!P376,IF($G$4=Dates1!$B$6,Datapack!V376,))))","v":2},null,{"$f":"IF($G$4=Dates1!$B$3,Datapack!E376,IF($G$4=Dates1!$B$4,Datapack!K376,IF($G$4=Dates1!$B$5,Datapack!Q376,IF($G$4=Dates1!$B$6,Datapack!W376,))))","v":1},null,{"$f":"IF($G$4=Dates1!$B$3,Datapack!F376,IF($G$4=Dates1!$B$4,Datapack!L376,IF($G$4=Dates1!$B$5,Datapack!R376,IF($G$4=Dates1!$B$6,Datapack!X376,))))","v":0}]
[null,"Plymouth",null,null,null,{"$f":"IF($G$4=Dates1!$B$3,Datapack!B377,IF($G$4=Dates1!$B$4,Datapack!H377,IF($G$4=Dates1!$B$5,Datapack!N377,IF($G$4=Dates1!$B$6,Datapack!T377,))))","v":3},null,{"$f":"IF($G$4=Dates1!$B$3,Datapack!C377,IF($G$4=Dates1!$B$4,Datapack!I377,IF($G$4=Dates1!$B$5,Datapack!O377,IF($G$4=Dates1!$B$6,Datapack!U377,))))","v":0},null,{"$f":"IF($G$4=Dates1!$B$3,Datapack!D377,IF($G$4=Dates1!$B$4,Datapack!J377,IF($G$4=Dates1!$B$5,Datapack!P377,IF($G$4=Dates1!$B$6,Datapack!V377,))))","v":1},null,{"$f":"IF($G$4=Dates1!$B$3,Datapack!E377,IF($G$4=Dates1!$B$4,Datapack!K377,IF($G$4=Dates1!$B$5,Datapack!Q377,IF($G$4=Dates1!$B$6,Datapack!W377,))))","v":0},null,{"$f":"IF($G$4=Dates1!$B$3,Datapack!F377,IF($G$4=Dates1!$B$4,Datapack!L377,IF($G$4=Dates1!$B$5,Datapack!R377,IF($G$4=Dates1!$B$6,Datapack!X377,))))","v":2}]
[null,"Poole",null,null,null,{"$f":"IF($G$4=Dates1!$B$3,Datapack!B378,IF($G$4=Dates1!$B$4,Datapack!H378,IF($G$4=Dates1!$B$5,Datapack!N378,IF($G$4=Dates1!$B$6,Datapack!T378,))))","v":0},null,{"$f":"IF($G$4=Dates1!$B$3,Datapack!C378,IF($G$4=Dates1!$B$4,Datapack!I378,IF($G$4=Dates1!$B$5,Datapack!O378,IF($G$4=Dates1!$B$6,Datapack!U378,))))","v":0},null,{"$f":"IF($G$4=Dates1!$B$3,Datapack!D378,IF($G$4=Dates1!$B$4,Datapack!J378,IF($G$4=Dates1!$B$5,Datapack!P378,IF($G$4=Dates1!$B$6,Datapack!V378,))))","v":0},null,{"$f":"IF($G$4=Dates1!$B$3,Datapack!E378,IF($G$4=Dates1!$B$4,Datapack!K378,IF($G$4=Dates1!$B$5,Datapack!Q378,IF($G$4=Dates1!$B$6,Datapack!W378,))))","v":0},null,{"$f":"IF($G$4=Dates1!$B$3,Datapack!F378,IF($G$4=Dates1!$B$4,Datapack!L378,IF($G$4=Dates1!$B$5,Datapack!R378,IF($G$4=Dates1!$B$6,Datapack!X378,))))","v":0}]
[null,"Somerset",null,null,null,{"$f":"IF($G$4=Dates1!$B$3,Datapack!B379,IF($G$4=Dates1!$B$4,Datapack!H379,IF($G$4=Dates1!$B$5,Datapack!N379,IF($G$4=Dates1!$B$6,Datapack!T379,))))","v":11},null,{"$f":"IF($G$4=Dates1!$B$3,Datapack!C379,IF($G$4=Dates1!$B$4,Datapack!I379,IF($G$4=Dates1!$B$5,Datapack!O379,IF($G$4=Dates1!$B$6,Datapack!U379,))))","v":0},null,{"$f":"IF($G$4=Dates1!$B$3,Datapack!D379,IF($G$4=Dates1!$B$4,Datapack!J379,IF($G$4=Dates1!$B$5,Datapack!P379,IF($G$4=Dates1!$B$6,Datapack!V379,))))","v":4},null,{"$f":"IF($G$4=Dates1!$B$3,Datapack!E379,IF($G$4=Dates1!$B$4,Datapack!K379,IF($G$4=Dates1!$B$5,Datapack!Q379,IF($G$4=Dates1!$B$6,Datapack!W379,))))","v":6},null,{"$f":"IF($G$4=Dates1!$B$3,Datapack!F379,IF($G$4=Dates1!$B$4,Datapack!L379,IF($G$4=Dates1!$B$5,Datapack!R379,IF($G$4=Dates1!$B$6,Datapack!X379,))))","v":1}]
[null,"South Gloucestershire",null,null,null,{"$f":"IF($G$4=Dates1!$B$3,Datapack!B380,IF($G$4=Dates1!$B$4,Datapack!H380,IF($G$4=Dates1!$B$5,Datapack!N380,IF($G$4=Dates1!$B$6,Datapack!T380,))))","v":3},null,{"$f":"IF($G$4=Dates1!$B$3,Datapack!C380,IF($G$4=Dates1!$B$4,Datapack!I380,IF($G$4=Dates1!$B$5,Datapack!O380,IF($G$4=Dates1!$B$6,Datapack!U380,))))","v":0},null,{"$f":"IF($G$4=Dates1!$B$3,Datapack!D380,IF($G$4=Dates1!$B$4,Datapack!J380,IF($G$4=Dates1!$B$5,Datapack!P380,IF($G$4=Dates1!$B$6,Datapack!V380,))))","v":0},null,{"$f":"IF($G$4=Dates1!$B$3,Datapack!E380,IF($G$4=Dates1!$B$4,Datapack!K380,IF($G$4=Dates1!$B$5,Datapack!Q380,IF($G$4=Dates1!$B$6,Datapack!W380,))))","v":3},null,{"$f":"IF($G$4=Dates1!$B$3,Datapack!F380,IF($G$4=Dates1!$B$4,Datapack!L380,IF($G$4=Dates1!$B$5,Datapack!R380,IF($G$4=Dates1!$B$6,Datapack!X380,))))","v":0}]
[null,"Swindon",null,null,null,{"$f":"IF($G$4=Dates1!$B$3,Datapack!B381,IF($G$4=Dates1!$B$4,Datapack!H381,IF($G$4=Dates1!$B$5,Datapack!N381,IF($G$4=Dates1!$B$6,Datapack!T381,))))","v":3},null,{"$f":"IF($G$4=Dates1!$B$3,Datapack!C381,IF($G$4=Dates1!$B$4,Datapack!I381,IF($G$4=Dates1!$B$5,Datapack!O381,IF($G$4=Dates1!$B$6,Datapack!U381,))))","v":1},null,{"$f":"IF($G$4=Dates1!$B$3,Datapack!D381,IF($G$4=Dates1!$B$4,Datapack!J381,IF($G$4=Dates1!$B$5,Datapack!P381,IF($G$4=Dates1!$B$6,Datapack!V381,))))","v":2},null,{"$f":"IF($G$4=Dates1!$B$3,Datapack!E381,IF($G$4=Dates1!$B$4,Datapack!K381,IF($G$4=Dates1!$B$5,Datapack!Q381,IF($G$4=Dates1!$B$6,Datapack!W381,))))","v":0},null,{"$f":"IF($G$4=Dates1!$B$3,Datapack!F381,IF($G$4=Dates1!$B$4,Datapack!L381,IF($G$4=Dates1!$B$5,Datapack!R381,IF($G$4=Dates1!$B$6,Datapack!X381,))))","v":0}]
[null,"Torbay",null,null,null,{"$f":"IF($G$4=Dates1!$B$3,Datapack!B382,IF($G$4=Dates1!$B$4,Datapack!H382,IF($G$4=Dates1!$B$5,Datapack!N382,IF($G$4=Dates1!$B$6,Datapack!T382,))))","v":0},null,{"$f":"IF($G$4=Dates1!$B$3,Datapack!C382,IF($G$4=Dates1!$B$4,Datapack!I382,IF($G$4=Dates1!$B$5,Datapack!O382,IF($G$4=Dates1!$B$6,Datapack!U382,))))","v":0},null,{"$f":"IF($G$4=Dates1!$B$3,Datapack!D382,IF($G$4=Dates1!$B$4,Datapack!J382,IF($G$4=Dates1!$B$5,Datapack!P382,IF($G$4=Dates1!$B$6,Datapack!V382,))))","v":0},null,{"$f":"IF($G$4=Dates1!$B$3,Datapack!E382,IF($G$4=Dates1!$B$4,Datapack!K382,IF($G$4=Dates1!$B$5,Datapack!Q382,IF($G$4=Dates1!$B$6,Datapack!W382,))))","v":0},null,{"$f":"IF($G$4=Dates1!$B$3,Datapack!F382,IF($G$4=Dates1!$B$4,Datapack!L382,IF($G$4=Dates1!$B$5,Datapack!R382,IF($G$4=Dates1!$B$6,Datapack!X382,))))","v":0}]
[null,"Wiltshire",null,null,null,{"$f":"IF($G$4=Dates1!$B$3,Datapack!B383,IF($G$4=Dates1!$B$4,Datapack!H383,IF($G$4=Dates1!$B$5,Datapack!N383,IF($G$4=Dates1!$B$6,Datapack!T383,))))","v":9},null,{"$f":"IF($G$4=Dates1!$B$3,Datapack!C383,IF($G$4=Dates1!$B$4,Datapack!I383,IF($G$4=Dates1!$B$5,Datapack!O383,IF($G$4=Dates1!$B$6,Datapack!U383,))))","v":3},null,{"$f":"IF($G$4=Dates1!$B$3,Datapack!D383,IF($G$4=Dates1!$B$4,Datapack!J383,IF($G$4=Dates1!$B$5,Datapack!P383,IF($G$4=Dates1!$B$6,Datapack!V383,))))","v":1},null,{"$f":"IF($G$4=Dates1!$B$3,Datapack!E383,IF($G$4=Dates1!$B$4,Datapack!K383,IF($G$4=Dates1!$B$5,Datapack!Q383,IF($G$4=Dates1!$B$6,Datapack!W383,))))","v":5},null,{"$f":"IF($G$4=Dates1!$B$3,Datapack!F383,IF($G$4=Dates1!$B$4,Datapack!L383,IF($G$4=Dates1!$B$5,Datapack!R383,IF($G$4=Dates1!$B$6,Datapack!X383,))))","v":0}]
[]
[{"$nulls":11},"Source: Ofsted Inspections"]
[null,"1.Figures represent the number of children's centres."]

{"sheet":"Table 6","index":9,"n_rows":182,"n_cols":18,"rows_kept":182,"cut":false,"hidden":false,"merged":[[170,1,170,3],[176,1,176,3],[177,1,177,3],[172,1,172,3],[173,1,173,3],[174,1,174,3],[175,1,175,3],[171,1,171,3],[167,1,167,3],[159,1,159,3],[161,1,161,3],[162,1,162,3],[163,1,163,3],[169,1,169,3],[153,1,153,3],[154,1,154,3],[168,1,168,3],[155,1,155,3],[156,1,156,3],[157,1,157,3],[158,1,158,3],[164,1,164,3],[165,1,165,3],[166,1,166,3],[147,1,147,3],[148,1,148,3],[149,1,149,3],[150,1,150,3],[151,1,151,3],[152,1,152,3],[141,1,141,3],[142,1,142,3],[143,1,143,3],[144,1,144,3],[145,1,145,3],[146,1,146,3],[134,1,134,3],[135,1,135,3],[136,1,136,3],[137,1,137,3],[138,1,138,3],[140,1,140,3],[128,1,128,3],[129,1,129,3],[130,1,130,3],[131,1,131,3],[132,1,132,3],[133,1,133,3],[122,1,122,3],[123,1,123,3],[124,1,124,3],[125,1,125,3],[126,1,126,3],[127,1,127,3],[116,1,116,3],[117,1,117,3],[118,1,118,3],[119,1,119,3],[120,1,120,3],[121,1,121,3],[110,1,110,3],[111,1,111,3],[112,1,112,3],[113,1,113,3],[114,1,114,3],[115,1,115,3],[103,1,103,3],[105,1,105,3],[106,1,106,3],[107,1,107,3],[108,1,108,3],[109,1,109,3],[97,1,97,3],[98,1,98,3],[99,1,99,3],[100,1,100,3],[101,1,101,3],[102,1,102,3],[90,1,90,3],[92,1,92,3],[93,1,93,3],[94,1,94,3],[95,1,95,3],[96,1,96,3],[84,1,84,3],[85,1,85,3],[86,1,86,3],[87,1,87,3],[88,1,88,3],[89,1,89,3],[78,1,78,3],[79,1,79,3],[80,1,80,3],[81,1,81,3],[82,1,82,3],[83,1,83,3],[71,1,71,3],[72,1,72,3],[73,1,73,3],[74,1,74,3],[76,1,76,3],[77,1,77,3],[65,1,65,3],[66,1,66,3],[67,1,67,3],[68,1,68,3],[69,1,69,3],[70,1,70,3],[58,1,58,3],[59,1,59,3],[60,1,60,3],[61,1,61,3],[62,1,62,3],[63,1,63,3],[52,1,52,3],[53,1,53,3],[54,1,54,3],[55,1,55,3],[56,1,56,3],[57,1,57,3],[45,1,45,3],[46,1,46,3],[48,1,48,3],[49,1,49,3],[50,1,50,3],[51,1,51,3],[39,1,39,3],[40,1,40,3],[41,1,41,3],[42,1,42,3],[43,1,43,3],[44,1,44,3],[33,1,33,3],[34,1,34,3],[35,1,35,3],[36,1,36,3],[37,1,37,3],[38,1,38,3],[27,1,27,3],[28,1,28,3],[29,1,29,3],[30,1,30,3],[31,1,31,3],[32,1,32,3],[20,1,20,3],[21,1,21,3],[23,1,23,3],[24,1,24,3],[25,1,25,3],[26,1,26,3],[14,1,14,3],[15,1,15,3],[16,1,16,3],[17,1,17,3],[18,1,18,3],[19,1,19,3],[7,1,7,3],[9,1,9,3],[10,1,10,3],[11,1,11,3],[12,1,12,3],[13,1,13,3],[1,1,1,20],[4,5,5,5],[4,7,4,8],[4,10,4,11],[4,13,4,14],[4,16,4,17]]}
[]
[null,"Table 6: Overall effectiveness of children's centres inspected as at 31 August 2012, by local authority1 2"]
[]
[]
[{"$nulls":5},"Total number inspected",null,"Outstanding",null,null,"Good",null,null,"Satisfactory",null,null,"Inadequate"]
[{"$nulls":7},"Number","%",null,"Number","%",null,"Number","%",null,"Number","%"]
[]
[null,"ENGLAND ",null,null,null,{"$f":"SUM(F10+F24+F49+F66+F77+F93+F106+F141+F162)","v":1443},null,{"$f":"SUM(H10+H24+H49+H66+H77+H93+H106+H141+H162)","v":190},{"$f":"SUM(H8/F8*100)","v":13.167013167013167},null,{"$f":"SUM(K10+K24+K49+K66+K77+K93+K106+K141+K162)","v":814},{"$f":"SUM(K8/F8*100)","v":56.410256410256409},null,{"$f":"SUM(N10+N24+N49+N66+N77+N93+N106+N141+N162)","v":419},{"$f":"SUM(N8/F8*100)","v":29.036729036729035},null,{"$f":"SUM(Q10+Q24+Q49+Q66+Q77+Q93+Q106+Q141+Q162)","v":20},{"$f":"SUM(Q8/F8*100)","v":1.386001386001386}]
[]
[null,"NORTH EAST ",null,null,null,{"$f":"SUM(H10+K10+N10+Q10)","v":96},null,{"$f":"SUM(H11:H22)","v":11},{"$f":"SUM(H10/F10*100)","v":11.458333333333332},null,{"$f":"SUM(K11:K22)","v":70},{"$f":"SUM(K10/F10*100)","v":72.916666666666657},null,{"$f":"SUM(N11:N22)","v":13},{"$f":"SUM(N10/F10*100)","v":13.541666666666666},null,{"$f":"SUM(Q11:Q22)","v":2},{"$f":"SUM(Q10/F10*100)","v":2.083333333333333}]
[null,"Darlington",null,null,null,3,null,0,{"$f":"SUM(H11/F11*100)","v":0},null,2,{"$f":"SUM(K11/F11*100)","v":66.666666666666657},null,1,{"$f":"SUM(N11/F11*100)","v":33.333333333333329},null,0,{"$f":"SUM(Q11/F11*100)","v":0}]
[null,"Durham",null,null,null,22,null,0,0,null,13,59.090909090909093,null,7,31.818181818181817,null,2,9.0909090909090917]
[null,"Gateshead",null,null,null,4,null,0,0,null,3,75,null,1,25,null,0,0]
[null,"Hartlepool",null,null,null,4,null,0,0,null,3,75,null,1,25,null,0,0]
[null,"Middlesbrough",null,null,null,6,null,0,0,null,6,100,null,0,0,null,0,0]
[null,"Newcastle upon Tyne",null,null,null,10,null,2,20,null,8,80,null,0,0,null,0,0]
[null,"North Tyneside",null,null,null,9,null,5,55.555555555555557,null,4,44.444444444444443,null,0,0,null,0,0]
[null,"Northumberland",null,null,null,12,null,2,16.666666666666664,null,9,75,null,1,8.3333333333333321,null,0,0]
[null,"Redcar and Cleveland",null,null,null,3,null,1,33.333333333333329,null,2,66.666666666666657,null,0,0,null,0,0]
[null,"South Tyneside",null,null,null,8,null,1,12.5,null,5,62.5,null,2,25,null,0,0]
[null,"Stockton-on-Tees",null,null,null,4,null,0,0,null,4,100,null,0,0,null,0,0]
[null,"Sunderland",null,null,null,11,null,0,0,null,11,100,null,0,0,null,0,0]
[]
[null,"NORTH WEST",null,null,null,{"$f":"SUM(F25:F47)","v":220},null,{"$f":"SUM(H25:H47)","v":33},{"$f":"H24/F24*100","v":15},null,{"$f":"SUM(K25:K47)","v":121},{"$f":"SUM(K24/F24*100)","v":55.000000000000007},null,{"$f":"SUM(N25:N47)","v":65},{"$f":"SUM(N24/F24*100)","v":29.545454545454547},null,{"$f":"SUM(Q25:Q47)","v":1},{"$f":"SUM(Q24/F24*100)","v":0.45454545454545453}]
[null,"Blackburn with Darwen",null,null,null,9,null,0,{"$f":"H25/F25*100","v":0},null,8,{"$f":"SUM(K25/F25*100)","v":88.888888888888886},null,1,{"$f":"SUM(N25/F25*100)","v":11.111111111111111},null,0,{"$f":"SUM(Q25/F25*100)","v":0}]
[null,"Blackpool",null,null,null,7,null,5,71.428571428571431,null,2,28.571428571428569,null,0,0,null,0,0]
[null,"Bolton",null,null,null,6,null,0,0,null,1,16.666666666666664,null,5,83.333333333333343,null,0,0]
[null,"Bury",null,null,null,8,null,0,0,null,2,25,null,6,75,null,0,0]
[null,"Cheshire East",null,null,null,3,null,0,0,null,2,66.666666666666657,null,1,33.333333333333329,null,0,0]
[null,"Cheshire West and Chester",null,null,null,5,null,1,20,null,3,60,null,1,20,null,0,0]
[null,"Cumbria",null,null,null,15,null,4,26.666666666666668,null,11,73.333333333333329,null,0,0,null,0,0]
[null,"Halton",null,null,null,5,null,0,0,null,4,80,null,1,20,null,0,0]
[null,"Knowsley",null,null,null,6,null,1,16.666666666666664,null,5,83.333333333333343,null,0,0,null,0,0]
[null,"Lancashire",null,null,null,45,null,11,24.444444444444443,null,30,66.666666666666657,null,4,8.8888888888888893,null,0,0]
[null,"Liverpool",null,null,null,16,null,3,18.75,null,12,75,null,1,6.25,null,0,0]
[null,"Manchester",null,null,null,24,null,2,8.3333333333333321,null,6,25,null,16,66.666666666666657,null,0,0]
[null,"Oldham",null,null,null,3,null,0,0,null,3,100,null,0,0,null,0,0]
[null,"Rochdale",null,null,null,9,null,1,11.111111111111111,null,2,22.222222222222221,null,6,66.666666666666657,null,0,0]
[null,"Salford",null,null,null,4,null,0,0,null,2,50,null,2,50,null,0,0]
[null,"Sefton",null,null,null,4,null,1,25,null,3,75,null,0,0,null,0,0]
[null,"St. Helens",null,null,null,8,null,0,0,null,2,25,null,5,62.5,null,1,12.5]
[null,"Stockport",null,null,null,7,null,1,14.285714285714285,null,5,71.428571428571431,null,1,14.285714285714285,null,0,0]
[null,"Tameside",null,null,null,7,null,0,0,null,2,28.571428571428569,null,5,71.428571428571431,null,0,0]
[null,"Trafford",null,null,null,7,null,0,0,null,4,57.142857142857139,null,3,42.857142857142854,null,0,0]
[null,"Warrington",null,null,null,2,null,0,0,null,1,50,null,1,50,null,0,0]
[null,"Wigan",null,null,null,9,null,3,33.333333333333329,null,2,22.222222222222221,null,4,44.444444444444443,null,0,0]
[null,"Wirral",null,null,null,11,null,0,0,null,9,81.818181818181827,null,2,18.181818181818183,null,0,0]
[]
[null,"YORKSHIRE AND THE HUMBER",null,null,null,{"$f":"SUM(F50:F64)","v":184},null,{"$f":"SUM(H50:H64)","v":10},{"$f":"SUM(H49/F49*100)","v":5.4347826086956523},null,{"$f":"SUM(K50:K64)","v":122},{"$f":"SUM(K49/F49*100)","v":66.304347826086953},null,{"$f":"SUM(N50:N64)","v":49},{"$f":"SUM(N49/F49*100)","v":26.630434782608699},null,{"$f":"SUM(Q50:Q64)","v":3},{"$f":"SUM(Q49/F49*100)","v":1.6304347826086956}]
[null,"Barnsley",null,null,null,8,null,0,{"$f":"SUM(H50/F50*100)","v":0},null,4,{"$f":"SUM(K50/F50*100)","v":50},null,4,{"$f":"SUM(N50/F50*100)","v":50},null,0,{"$f":"SUM(Q50/F50*100)","v":0}]
[null,"Bradford",null,null,null,22,null,2,9.0909090909090917,null,17,77.272727272727266,null,2,9.0909090909090917,null,1,4.5454545454545459]
[null,"Calderdale",null,null,null,10,null,0,0,null,2,20,null,8,80,null,0,0]
[null,"Doncaster",null,null,null,15,null,0,0,null,8,53.333333333333336,null,6,40,null,1,6.666666666666667]
[null,"East Riding of Yorkshire",null,null,null,10,null,0,0,null,10,100,null,0,0,null,0,0]
[null,"Kingston upon Hull City of",null,null,null,10,null,0,0,null,5,50,null,5,50,null,0,0]
[null,"Kirklees",null,null,null,13,null,1,7.6923076923076925,null,11,84.615384615384613,null,1,7.6923076923076925,null,0,0]
[null,"Leeds",null,null,null,26,null,2,7.6923076923076925,null,19,73.076923076923066,null,5,19.230769230769234,null,0,0]
[null,"North East Lincolnshire",null,null,null,5,null,4,80,null,1,20,null,0,0,null,0,0]
[null,"North Lincolnshire",null,null,null,9,null,0,0,null,9,100,null,0,0,null,0,0]
[null,"North Yorkshire",null,null,null,12,null,0,0,null,4,33.333333333333329,null,8,66.666666666666657,null,0,0]
[null,"Rotherham",null,null,null,11,null,1,9.0909090909090917,null,9,81.818181818181827,null,1,9.0909090909090917,null,0,0]
[null,"Sheffield",null,null,null,15,null,0,0,null,7,46.666666666666664,null,7,46.666666666666664,null,1,6.666666666666667]
[null,"Wakefield",null,null,null,12,null,0,0,null,11,91.666666666666657,null,1,8.3333333333333321,null,0,0]
[null,"York",null,null,null,6,null,0,0,null,5,83.333333333333343,null,1,16.666666666666664,null,0,0]
[]
[null,"EAST MIDLANDS",null,null,null,{"$f":"SUM(F67:F75)","v":128},null,{"$f":"SUM(G67:H75)","v":12},{"$f":"SUM(H66/F66*100)","v":9.375},null,{"$f":"SUM(K67:K75)","v":66},{"$f":"SUM(K66/F66*100)","v":51.5625},null,{"$f":"SUM(N67:N75)","v":48},{"$f":"SUM(N66/F66*100)","v":37.5},null,{"$f":"SUM(Q67:Q75)","v":2},{"$f":"SUM(Q66/F66*100)","v":1.5625}]
[null,"Derby",null,null,null,9,null,1,{"$f":"SUM(H67/F67*100)","v":11.111111111111111},null,4,{"$f":"SUM(K67/F67*100)","v":44.444444444444443},null,4,{"$f":"SUM(N67/F67*100)","v":44.444444444444443},null,0,{"$f":"SUM(Q67/F67*100)","v":0}]
[null,"Derbyshire",null,null,null,26,null,0,0,null,14,53.846153846153847,null,11,42.307692307692307,null,1,3.8461538461538463]
[null,"Leicester",null,null,null,9,null,0,0,null,5,55.555555555555557,null,4,44.444444444444443,null,0,0]
[null,"Leicestershire",null,null,null,9,null,0,0,null,1,11.111111111111111,null,8,88.888888888888886,null,0,0]
[null,"Lincolnshire",null,null,null,20,null,4,20,null,13,65,null,3,15,null,0,0]
[null,"Northamptonshire",null,null,null,19,null,0,0,null,9,47.368421052631575,null,9,47.368421052631575,null,1,5.2631578947368416]
[null,"Nottingham",null,null,null,12,null,2,16.666666666666664,null,6,50,null,4,33.333333333333329,null,0,0]
[null,"Nottinghamshire",null,null,null,24,null,5,{"$f":"SUM(H74/F74*100)","v":20.833333333333336},null,14,58.333333333333336,null,5,20.833333333333336,null,0,0]
[null,"Rutland",null,null,null,0,null,0,"-",null,0,"-",null,0,"-",null,0,"-"]
[]
[null,"WEST MIDLANDS",null,null,null,{"$f":"SUM(F78:F91)","v":163},null,{"$f":"SUM(H78:H91)","v":35},{"$f":"SUM(H77/F77*100)","v":21.472392638036812},null,{"$f":"SUM(K78:K91)","v":82},{"$f":"SUM(K77/F77*100)","v":50.306748466257666},null,{"$f":"SUM(N78:N91)","v":44},{"$f":"SUM(N77/F77*100)","v":26.993865030674847},null,{"$f":"SUM(Q78:Q91)","v":2},{"$f":"SUM(Q77/F77*100)","v":1.2269938650306749}]
[null,"Birmingham",null,null,null,41,null,8,{"$f":"SUM(H78/F78*100)","v":19.512195121951219},null,15,{"$f":"SUM(K78/F78*100)","v":36.585365853658537},null,17,{"$f":"SUM(N78/F78*100)","v":41.463414634146339},null,1,{"$f":"SUM(Q78/F78*100)","v":2.4390243902439024}]
[null,"Coventry",null,null,null,10,null,1,10,null,5,50,null,4,40,null,0,0]
[null,"Dudley",null,null,null,11,null,0,0,null,9,81.818181818181827,null,2,18.181818181818183,null,0,0]
[null,"Herefordshire",null,null,null,4,null,0,0,null,3,75,null,1,25,null,0,0]
[null,"Sandwell",null,null,null,10,null,5,50,null,4,40,null,1,10,null,0,0]
[null,"Shropshire",null,null,null,6,null,2,33.333333333333329,null,4,66.666666666666657,null,0,0,null,0,0]
[null,"Solihull",null,null,null,5,null,0,0,null,4,80,null,1,20,null,0,0]
[null,"Staffordshire",null,null,null,16,null,1,6.25,null,6,37.5,null,9,56.25,null,0,0]
[null,"Stoke-on-Trent",null,null,null,3,null,1,33.333333333333329,null,0,0,null,2,66.666666666666657,null,0,0]
[null,"Telford and Wrekin",null,null,null,7,null,3,42.857142857142854,null,3,42.857142857142854,null,1,14.285714285714285,null,0,0]
[null,"Walsall",null,null,null,9,null,3,33.333333333333329,null,3,33.333333333333329,null,2,22.222222222222221,null,1,11.111111111111111]
[null,"Warwickshire",null,null,null,17,null,6,35.294117647058826,null,10,58.82352941176471,null,1,5.8823529411764701,null,0,0]
[null,"Wolverhampton",null,null,null,10,null,2,20,null,8,80,null,0,0,null,0,0]
[null,"Worcestershire",null,null,null,14,null,3,21.428571428571427,null,8,57.142857142857139,null,3,21.428571428571427,null,0,0]
[]
[null,"EAST OF ENGLAND",null,null,null,{"$f":"SUM(F94:F104)","v":134},null,{"$f":"SUM(H94:H104)","v":14},{"$f":"SUM(H93/F93*100)","v":10.44776119402985},null,{"$f":"SUM(K94:K104)","v":69},{"$f":"SUM(K93/F93*100)","v":51.492537313432841},null,{"$f":"SUM(N94:N104)","v":49},{"$f":"SUM(N93/F93*100)","v":36.567164179104481},null,{"$f":"SUM(Q94:Q104)","v":2},{"$f":"SUM(Q93/F93*100)","v":1.4925373134328357}]
[null,"Bedford",null,null,null,6,null,1,{"$f":"SUM(H94/F94*100)","v":16.666666666666664},null,3,{"$f":"SUM(K94/F94*100)","v":50},null,2,{"$f":"SUM(N94/F94*100)","v":33.333333333333329},null,0,{"$f":"SUM(Q94/F94*100)","v":0}]
[null,"Cambridgeshire",null,null,null,15,null,0,0,null,5,33.333333333333329,null,10,66.666666666666657,null,0,0]
[null,"Central Bedfordshire",null,null,null,1,null,0,0,null,1,100,null,0,0,null,0,0]
[null,"Essex",null,null,null,23,null,1,4.3478260869565215,null,14,60.869565217391312,null,8,34.782608695652172,null,0,0]
[null,"Hertfordshire",null,null,null,17,null,0,0,null,11,64.705882352941174,null,6,35.294117647058826,null,0,0]
[null,"Luton",null,null,null,13,null,1,7.6923076923076925,null,6,46.153846153846153,null,6,46.153846153846153,null,0,0]
[null,"Norfolk",null,null,null,23,null,4,17.391304347826086,null,15,65.217391304347828,null,4,17.391304347826086,null,0,0]
[null,"Peterborough",null,null,null,7,null,1,14.285714285714285,null,3,42.857142857142854,null,3,42.857142857142854,null,0,0]
[null,"Southend-on-Sea",null,null,null,6,null,2,33.333333333333329,null,1,16.666666666666664,null,2,33.333333333333329,null,1,16.666666666666664]
[null,"Suffolk",null,null,null,17,null,4,23.52941176470588,null,9,52.941176470588239,null,4,23.52941176470588,null,0,0]
[null,"Thurrock",null,null,null,6,null,0,0,null,1,16.666666666666664,null,4,66.666666666666657,null,1,16.666666666666664]
[]
[null,"LONDON",null,null,null,{"$f":"SUM(F107:F139)","v":200},null,{"$f":"SUM(H107:H139)","v":32},{"$f":"SUM(H106/F106*100)","v":16},null,{"$f":"SUM(K107:K139)","v":120},{"$f":"SUM(K106/F106*100)","v":60},null,{"$f":"SUM(N107:N139)","v":44},{"$f":"SUM(N106/F106*100)","v":22},null,{"$f":"SUM(Q107:Q139)","v":4},{"$f":"SUM(Q106/F106*100)","v":2}]
[null,"Barking and Dagenham",null,null,null,6,null,6,{"$f":"SUM(H107/F107*100)","v":100},null,0,{"$f":"SUM(K107/F107*100)","v":0},null,0,{"$f":"SUM(N107/F107*100)","v":0},null,0,{"$f":"SUM(Q107/F107*100)","v":0}]
[null,"Barnet",null,null,null,6,null,0,0,null,6,100,null,0,0,null,0,0]
[null,"Bexley",null,null,null,4,null,0,0,null,4,100,null,0,0,null,0,0]
[null,"Brent",null,null,null,7,null,0,0,null,3,42.857142857142854,null,4,57.142857142857139,null,0,0]
[null,"Bromley",null,null,null,6,null,0,0,null,5,83.333333333333343,null,1,16.666666666666664,null,0,0]
[null,"Camden",null,null,null,3,null,0,0,null,2,66.666666666666657,null,1,33.333333333333329,null,0,0]
[null,"City of London",null,null,null,0,null,0,"-",null,0,"-",null,0,"-",null,0,"-"]
[null,"Croydon",null,null,null,11,null,2,18.181818181818183,null,6,54.54545454545454,null,3,27.27272727272727,null,0,0]
[null,"Ealing",null,null,null,12,null,2,16.666666666666664,null,7,58.333333333333336,null,3,25,null,0,0]
[null,"Enfield",null,null,null,6,null,0,0,null,4,66.666666666666657,null,2,33.333333333333329,null,0,0]
[null,"Greenwich",null,null,null,9,null,0,0,null,6,66.666666666666657,null,3,33.333333333333329,null,0,0]
[null,"Hackney",null,null,null,8,null,2,25,null,4,50,null,2,25,null,0,0]
[null,"Hammersmith and Fulham",null,null,null,4,null,1,25,null,1,25,null,1,25,null,1,25]
[null,"Haringey",null,null,null,9,null,0,0,null,6,66.666666666666657,null,2,22.222222222222221,null,1,11.111111111111111]
[null,"Harrow",null,null,null,3,null,0,0,null,1,33.333333333333329,null,2,66.666666666666657,null,0,0]
[null,"Havering",null,null,null,4,null,0,0,null,3,75,null,1,25,null,0,0]
[null,"Hillingdon",null,null,null,6,null,0,0,null,4,66.666666666666657,null,1,16.666666666666664,null,1,16.666666666666664]
[null,"Hounslow",null,null,null,6,null,1,16.666666666666664,null,2,33.333333333333329,null,3,50,null,0,0]
[null,"Islington",null,null,null,8,null,0,0,null,7,87.5,null,1,12.5,null,0,0]
[null,"Kensington and Chelsea",null,null,null,4,null,2,50,null,2,50,null,0,0,null,0,0]
[null,"Kingston upon Thames",null,null,null,2,null,0,0,null,1,50,null,1,50,null,0,0]
[null,"Lambeth",null,null,null,14,null,7,50,null,7,50,null,0,0,null,0,0]
[null,"Lewisham",null,null,null,6,null,0,0,null,5,83.333333333333343,null,1,16.666666666666664,null,0,0]
[null,"Merton",null,null,null,4,null,0,0,null,4,100,null,0,0,null,0,0]
[null,"Newham",null,null,null,14,null,5,35.714285714285715,null,7,50,null,2,14.285714285714285,null,0,0]
[null,"Redbridge",null,null,null,1,null,0,0,null,0,0,null,1,100,null,0,0]
[null,"Richmond upon Thames",null,null,null,2,null,0,0,null,2,100,null,0,0,null,0,0]
[null,"Southwark",null,null,null,11,null,1,9.0909090909090917,null,5,45.454545454545453,null,5,45.454545454545453,null,0,0]
[null,"Sutton",null,null,null,4,null,0,0,null,2,50,null,2,50,null,0,0]
[null,"Tower Hamlets",null,null,null,3,null,0,0,null,3,100,null,0,0,null,0,0]
[null,"Waltham Forest",null,null,null,9,null,3,33.333333333333329,null,5,55.555555555555557,null,0,0,null,1,11.111111111111111]
[null,"Wandsworth",null,null,null,5,null,0,0,null,4,80,null,1,20,null,0,0]
[null,"Westminster",null,null,null,3,null,0,0,null,2,66.666666666666657,null,1,33.333333333333329,null,0,0]
[]
[null,"SOUTH EAST",null,null,null,{"$f":"SUM(F142:F160)","v":179},null,{"$f":"SUM(H142:H160)","v":29},{"$f":"H141/F141*100","v":16.201117318435752},null,{"$f":"SUM(K142:K160)","v":102},{"$f":"K141/F141*100","v":56.983240223463682},null,{"$f":"SUM(N142:N160)","v":47},{"$f":"N141/F141*100","v":26.256983240223462},null,{"$f":"SUM(Q142:Q160)","v":1},{"$f":"Q141/F141*100","v":0.55865921787709494}]
[null,"Bracknell Forest",null,null,null,2,null,0,{"$f":"H142/F142*100","v":0},null,0,{"$f":"K142/F142*100","v":0},null,2,{"$f":"N142/F142*100","v":100},null,0,{"$f":"Q142/F142*100","v":0}]
[null,"Brighton and Hove",null,null,null,8,null,5,62.5,null,3,37.5,null,0,0,null,0,0]
[null,"Buckinghamshire",null,null,null,12,null,0,0,null,5,41.666666666666671,null,6,50,null,1,8.3333333333333321]
[null,"East Sussex",null,null,null,16,null,1,6.25,null,14,87.5,null,1,6.25,null,0,0]
[null,"Hampshire",null,null,null,20,null,7,35,null,12,60,null,1,5,null,0,0]
[null,"Isle of Wight",null,null,null,5,null,3,60,null,2,40,null,0,0,null,0,0]
[null,"Kent",null,null,null,34,null,5,14.705882352941178,null,22,64.705882352941174,null,7,20.588235294117645,null,0,0]
[null,"Medway",null,null,null,9,null,0,0,null,5,55.555555555555557,null,4,44.444444444444443,null,0,0]
[null,"Milton Keynes",null,null,null,7,null,1,14.285714285714285,null,4,57.142857142857139,null,2,28.571428571428569,null,0,0]
[null,"Oxfordshire",null,null,null,17,null,1,5.8823529411764701,null,11,64.705882352941174,null,5,29.411764705882355,null,0,0]
[null,"Portsmouth",null,null,null,8,null,0,0,null,4,50,null,4,50,null,0,0]
[null,"Reading",null,null,null,5,null,0,0,null,4,80,null,1,20,null,0,0]
[null,"Slough",null,null,null,2,null,0,0,null,2,100,null,0,0,null,0,0]
[null,"Southampton",null,null,null,4,null,3,75,null,1,25,null,0,0,null,0,0]
[null,"Surrey",null,null,null,13,null,2,15.384615384615385,null,6,46.153846153846153,null,5,38.461538461538467,null,0,0]
[null,"West Berkshire",null,null,null,2,null,0,0,null,0,0,null,2,100,null,0,0]
[null,"West Sussex",null,null,null,14,null,1,7.1428571428571423,null,7,50,null,6,42.857142857142854,null,0,0]
[null,"Windsor and Maidenhead",null,null,null,1,null,0,0,null,0,0,null,1,100,null,0,0]
[null,"Wokingham",null,null,null,0,null,0,"-",null,0,"-",null,0,"-",null,0,"-"]
[]
[null,"SOUTH WEST",null,null,null,{"$f":"SUM(F163:F178)","v":139},null,{"$f":"SUM(H163:H178)","v":14},{"$f":"SUM(H162/F162*100)","v":10.071942446043165},null,{"$f":"SUM(K163:K178)","v":62},{"$f":"SUM(K162/F162*100)","v":44.60431654676259},null,{"$f":"SUM(N163:N178)","v":60},{"$f":"SUM(N162/F162*100)","v":43.165467625899282},null,{"$f":"SUM(Q163:Q178)","v":3},{"$f":"SUM(Q162/F162*100)","v":2.1582733812949639}]
[null,"Bath and North East Somerset",null,null,null,2,null,0,{"$f":"SUM(H163/F163*100)","v":0},null,2,{"$f":"SUM(K163/F163*100)","v":100},null,0,{"$f":"SUM(N163/F163*100)","v":0},null,0,{"$f":"SUM(Q163/F163*100)","v":0}]
[null,"Bournemouth",null,null,null,5,null,2,40,null,3,60,null,0,0,null,0,0]
[null,"Bristol City of",null,null,null,18,null,6,33.333333333333329,null,9,50,null,3,16.666666666666664,null,0,0]
[null,"Cornwall",null,null,null,5,null,0,0,null,2,40,null,3,60,null,0,0]
[null,"Devon",null,null,null,19,null,1,5.2631578947368416,null,12,63.157894736842103,null,6,31.578947368421051,null,0,0]
[null,"Dorset",null,null,null,9,null,0,0,null,2,22.222222222222221,null,7,77.777777777777786,null,0,0]
[null,"Gloucestershire",null,null,null,20,null,0,0,null,11,55.000000000000007,null,9,45,null,0,0]
[null,"Isles Of Scilly",null,null,null,0,null,0,"-",null,0,"-",null,0,"-",null,0,"-"]
[null,"North Somerset",null,null,null,4,null,0,0,null,2,50,null,2,50,null,0,0]
[null,"Plymouth",null,null,null,11,null,1,9.0909090909090917,null,6,54.54545454545454,null,2,18.181818181818183,null,2,18.181818181818183]
[null,"Poole",null,null,null,2,null,0,0,null,0,0,null,2,100,null,0,0]
[null,"Somerset",null,null,null,22,null,0,0,null,8,36.363636363636367,null,13,59.090909090909093,null,1,4.5454545454545459]
[null,"South Gloucestershire",null,null,null,4,null,0,0,null,0,0,null,4,100,null,0,0]
[null,"Swindon",null,null,null,4,null,1,25,null,2,50,null,1,25,null,0,0]
[null,"Torbay",null,null,null,2,null,0,0,null,2,100,null,0,0,null,0,0]
[null,"Wiltshire",null,null,null,12,null,3,25,null,1,8.3333333333333321,null,8,66.666666666666657,null,0,0]
[]
[{"$nulls":17},"Source: Ofsted Inspections"]
[null,"1. Percentages are rounded and may not add to 100."]
[null,"2. Where number of inspections is small, percentages should be treated with caution."]

{"sheet":"Chart 1","index":10,"n_rows":17,"n_cols":7,"rows_kept":17,"cut":false,"hidden":false,"merged":[[4,15,4,19],[8,21,8,24],[9,28,9,29],[6,21,6,24],[7,21,7,24],[2,64,2,79],[2,80,2,95],[2,96,2,111],[2,112,2,127],[2,16,2,31],[2,32,2,47],[2,48,2,63],[1,1,1,8],[15,6,15,7],[2,224,2,239],[2,240,2,255],[2,128,2,143],[2,144,2,159],[2,160,2,175],[2,176,2,191],[2,192,2,207],[2,208,2,223]]}
[]
[null,"Chart 1: Key judgements of children's centres inspected between 1 September 2011 and 31 August 20121"]
{"$rows_empty":13}
[{"$nulls":6},"Source: Ofsted Inspections"]
[null,"1. Percentages are rounded and may not add to 100."]

{"sheet":"Chart 2","index":11,"n_rows":26,"n_cols":11,"rows_kept":26,"cut":false,"hidden":false,"merged":[[1,1,1,13],[27,1,28,10],[24,10,24,12]]}
[]
[null,"Chart 2: Overall effectiveness of children's centres inspected over two inspection years1"]
{"$rows_empty":22}
[{"$nulls":10},"Source: Ofsted Inspections"]
[null,"1. Percentages are rounded and may not add to 100."]